BEGIN:VCALENDAR
PRODID:-//commercialrealestate.com.au//NONSGML ical.net 4.0//EN
VERSION:2.0
BEGIN:VEVENT
DESCRIPTION:PRIME SITE WITH EXCEPTIONAL AMENITY & IMMENSE POTENTIAL\nGross
  Waddell ICR is pleased to offer to the market for sale 14 & 14A Croydon 
 Road\, Croydon\, as part of the Fire Rescue Victoria Portfolio. A promine
 nt site with well-constructed buildings\, this property presents an outst
 anding opportunity for developers seeking a knockdown/redevelopment site 
 or buyers looking to unlock value through refurbishment or repositioning.
 \n\nHighlights include:\n Commercial 1 Zoning offering flexible uses\n A 
 generous 1\,626* sqm block of land\n 2 well built residencies that can be
  easily restored\n Croydon Train Station just 300m from site\n Positioned
  directly opposite Croydon Primary School\n Variety of shopping options a
 t Croydon Central Shopping Centre just 400m away\n The charm and vibrancy
  of Main Street\, Croydon on its doorstep\n Easy access to Maroondah High
 way - 1.5km\n Great access to Mount Dandenong Highway - 650m\n Great loca
 l parks and greenery offering a scenic lifestyle for residence\n Croydon 
 boasts a strong median house price of $919\,000 (source REIV)\n \nThe pro
 perty will be sold via a Public Tender\, closing Thursday the 28th of May
  at 12:00 pm.\n\nFor further information please contact the exclusively a
 ppointed agents below.
DTEND:20260528T120000
DTSTAMP:20260424T080740Z
DTSTART:20260528T120000
SEQUENCE:0
SUMMARY:Tender: 14 & 14a Croydon Road\, Croydon VIC
UID:CRE-2020786355-Tender
X-ALT-DESC;FMTTYPE=text/html:<!DOCTYPE HTML PUBLIC "-//W3C//DTD HTML 3.2//EN"><html><head><
 title></title></head><body><P DIR=LTR>PRIME SITE WITH EXCEPTIONAL AMENITY
  & IMMENSE POTENTIAL <br/> Gross Waddell ICR is pleased to offer to the m
 arket for sale 14 & 14A Croydon Road\, Croydon\, as part of the Fire Resc
 ue Victoria Portfolio. A prominent site with well-constructed buildings\,
  this property presents an outstanding opportunity for developers seeking
  a knockdown/redevelopment site or buyers looking to unlock value through
  refurbishment or repositioning. <br/>  <br/> Highlights include: <br/>  
 Commercial 1 Zoning offering flexible uses <br/>  A generous 1\,626* sqm 
 block of land <br/>  2 well built residencies that can be easily restored
  <br/>  Croydon Train Station just 300m from site <br/>  Positioned direc
 tly opposite Croydon Primary School <br/>  Variety of shopping options at
  Croydon Central Shopping Centre just 400m away <br/>  The charm and vibr
 ancy of Main Street\, Croydon on its doorstep <br/>  Easy access to Maroo
 ndah Highway - 1.5km <br/>  Great access to Mount Dandenong Highway - 650
 m <br/>  Great local parks and greenery offering a scenic lifestyle for r
 esidence <br/>  Croydon boasts a strong median house price of $919\,000 (
 source REIV) <br/>   <br/> The property will be sold via a Public Tender\
 , closing Thursday the 28th of May at 12:00 pm. <br/>  <br/> For further 
 information please contact the exclusively appointed agents below.</P></b
 ody></html>
END:VEVENT
END:VCALENDAR
