BEGIN:VCALENDAR
PRODID:-//commercialrealestate.com.au//NONSGML ical.net 4.0//EN
VERSION:2.0
BEGIN:VEVENT
DESCRIPTION:Prime Activity Centre Development Opportunity Overlooking Moon
 ee Valley Racecourse\nGross Waddell ICR is pleased to offer for sale 23-2
 9 Dean Street\, Moonee Ponds\, as part of the Fire Rescue Victoria Portfo
 lio. Positioned in one of Melbourne's most tightly held and rapidly evolv
 ing city-fringe precincts\, 2329 Dean Street presents a rare and highly s
 trategic development opportunity in the heart of Moonee Ponds. Occupying 
 a high-profile site just metres from the Moonee Ponds Junction and direct
 ly opposite the iconic Moonee Valley Racecourse\, this substantial landho
 lding offers the perfect platform for a landmark high-rise project (STCA)
 .\n\n Expansive 2\,478 sqm* landholding within the Moonee Valley Activity
  Centre Zone (ACZ1)\n Premium location directly opposite Moonee Valley Ra
 cecourse\n Moonee Valley currently undergoing a major $2 billion transfor
 mation into a premium residential and entertainment precinct\n Merely met
 res from Moonee Ponds Junction- one of Melbourne's major activity hubs\n 
 Exceptional development potential for high-density development\, ideal fo
 r BTS\, BTS\, Hotel\, or Co-Living (STCA)\n Offering over 141 m* of front
 age to 3 streets including Dean Street\, Alexandra Avenue and Feehan Aven
 ue\n Surrounded by an abundance of retail\, dining\, and lifestyle amenit
 y\, with Puckle Street retail village\, Moonee Ponds Central and Moonee P
 onds Shopping Centre on the doorstep\n Outstanding connectivity with tram
  services metres away and Moonee Ponds Train Station only 640 m* away\n S
 trong demographic growth and continued precinct transformation\n \nThe pr
 operty will be sold via a Public Tender\, closing Thursday the 28th of Ma
 y at 12:00 pm. For further information or to arrange a site inspection\, 
 please contact the team at Gross Waddell ICR directly.
DTEND:20260528T120000
DTSTAMP:20260423T032258Z
DTSTART:20260528T120000
SEQUENCE:0
SUMMARY:Tender: 23-29 Dean Street\, Moonee Ponds VIC
UID:CRE-2020783363-Tender
X-ALT-DESC;FMTTYPE=text/html:<!DOCTYPE HTML PUBLIC "-//W3C//DTD HTML 3.2//EN"><html><head><
 title></title></head><body><P DIR=LTR>Prime Activity Centre Development O
 pportunity Overlooking Moonee Valley Racecourse <br/> Gross Waddell ICR i
 s pleased to offer for sale 23-29 Dean Street\, Moonee Ponds\, as part of
  the Fire Rescue Victoria Portfolio. Positioned in one of Melbourne's mos
 t tightly held and rapidly evolving city-fringe precincts\, 2329 Dean Str
 eet presents a rare and highly strategic development opportunity in the h
 eart of Moonee Ponds. Occupying a high-profile site just metres from the 
 Moonee Ponds Junction and directly opposite the iconic Moonee Valley Race
 course\, this substantial landholding offers the perfect platform for a l
 andmark high-rise project (STCA). <br/>  <br/>  Expansive 2\,478 sqm* lan
 dholding within the Moonee Valley Activity Centre Zone (ACZ1) <br/>  Prem
 ium location directly opposite Moonee Valley Racecourse <br/>  Moonee Val
 ley currently undergoing a major $2 billion transformation into a premium
  residential and entertainment precinct <br/>  Merely metres from Moonee 
 Ponds Junction- one of Melbourne's major activity hubs <br/>  Exceptional
  development potential for high-density development\, ideal for BTS\, BTS
 \, Hotel\, or Co-Living (STCA) <br/>  Offering over 141 m* of frontage to
  3 streets including Dean Street\, Alexandra Avenue and Feehan Avenue <br
 />  Surrounded by an abundance of retail\, dining\, and lifestyle amenity
 \, with Puckle Street retail village\, Moonee Ponds Central and Moonee Po
 nds Shopping Centre on the doorstep <br/>  Outstanding connectivity with 
 tram services metres away and Moonee Ponds Train Station only 640 m* away
  <br/>  Strong demographic growth and continued precinct transformation <
 br/>   <br/> The property will be sold via a Public Tender\, closing Thur
 sday the 28th of May at 12:00 pm. For further information or to arrange a
  site inspection\, please contact the team at Gross Waddell ICR directly.
 </P></body></html>
END:VEVENT
END:VCALENDAR
