BEGIN:VCALENDAR
PRODID:-//commercialrealestate.com.au//NONSGML ical.net 4.0//EN
VERSION:2.0
BEGIN:VEVENT
DESCRIPTION:Prime Surf Coast Landholding with Dual Frontage & Lifestyle Ap
 peal\nGross Waddell ICR is pleased to offer for sale 5 McCanns Road\, Mou
 nt Duneed\, as part of the Fire Rescue Victoria Portfolio. \n\nA rare opp
 ortunity to secure a substantial landholding in one of the Surf Coast's m
 ost tightly held and rapidly growing corridors. Positioned in a prime loc
 ation within Mount Duneed\, this highly accessible property sits at the g
 ateway between Geelong and Torquay\, offering exceptional connectivity al
 ong the Surf Coast Highway and immediate proximity to the region's boomin
 g residential and lifestyle precincts.\n\n	Generous 5\,956 sqm* landholdi
 ng providing outstanding exposure and flexibility for a range of future u
 ses (STCA)\n\n	Prominent 155m* dual frontage to Surf Coast Highway & McCa
 nns Road\n\n	Zoned Farming Zone (FZ)\, ideal for a lifestyle block\, agri
 cultural use or future alternate uses (STCA)\n\n	High-exposure position w
 ith strong passing traffic along Surf Coast Highway\n\n	Strategically loc
 ated between Geelong and Torquay\, within a key growth corridor\n\n	Situa
 ted in the heart of the Surf Coast Shire\, one of Victoria's fastest-grow
 ing regions\n\n	Neighbouring catchments boast median house prices in exce
 ss of $1\,200\,000 (source REIV)\n\n*approx.\n\nThe property will be sold
  via a Public Tender\, closing Thursday the 28th of May at 12:00 pm. For 
 further information or to arrange a site inspection\, please contact the 
 team at Gross Waddell ICR directly.
DTEND:20260528T120000
DTSTAMP:20260423T024524Z
DTSTART:20260528T120000
SEQUENCE:0
SUMMARY:Tender: 5 Mccanns Road\, Mount Duneed VIC
UID:CRE-2020783204-Tender
X-ALT-DESC;FMTTYPE=text/html:<!DOCTYPE HTML PUBLIC "-//W3C//DTD HTML 3.2//EN"><html><head><
 title></title></head><body><P DIR=LTR>Prime Surf Coast Landholding with D
 ual Frontage & Lifestyle Appeal <br/> Gross Waddell ICR is pleased to off
 er for sale 5 McCanns Road\, Mount Duneed\, as part of the Fire Rescue Vi
 ctoria Portfolio.  <br/>  <br/> A rare opportunity to secure a substantia
 l landholding in one of the Surf Coast's most tightly held and rapidly gr
 owing corridors. Positioned in a prime location within Mount Duneed\, thi
 s highly accessible property sits at the gateway between Geelong and Torq
 uay\, offering exceptional connectivity along the Surf Coast Highway and 
 immediate proximity to the region's booming residential and lifestyle pre
 cincts. <br/>  <br/> 	Generous 5\,956 sqm* landholding providing outstand
 ing exposure and flexibility for a range of future uses (STCA) <br/>  <br
 /> 	Prominent 155m* dual frontage to Surf Coast Highway & McCanns Road <b
 r/>  <br/> 	Zoned Farming Zone (FZ)\, ideal for a lifestyle block\, agric
 ultural use or future alternate uses (STCA) <br/>  <br/> 	High-exposure p
 osition with strong passing traffic along Surf Coast Highway <br/>  <br/>
  	Strategically located between Geelong and Torquay\, within a key growth
  corridor <br/>  <br/> 	Situated in the heart of the Surf Coast Shire\, o
 ne of Victoria's fastest-growing regions <br/>  <br/> 	Neighbouring catch
 ments boast median house prices in excess of $1\,200\,000 (source REIV) <
 br/>  <br/> *approx. <br/>  <br/> The property will be sold via a Public 
 Tender\, closing Thursday the 28th of May at 12:00 pm. For further inform
 ation or to arrange a site inspection\, please contact the team at Gross 
 Waddell ICR directly.</P></body></html>
END:VEVENT
END:VCALENDAR
