BEGIN:VCALENDAR
PRODID:-//commercialrealestate.com.au//NONSGML ical.net 4.0//EN
VERSION:2.0
BEGIN:VEVENT
DESCRIPTION:Prime Lifestyle Block or Future Development Opportunity\nGross
  Waddell ICR is pleased to offer for sale 147-153 Windermere Road\, Lara\
 , as part of the Fire Rescue Victoria Portfolio. Positioned within one of
  Lara's most desirable and fast-growing pockets\, this substantial landho
 lding presents a rare opportunity to secure a premium site with flexibili
 ty\, scale\, and long-term upside. Strategically located between Melbourn
 e and Geelong\, Lara continues to attract strong population growth and in
 frastructure investment\, making it an increasingly sought-after destinat
 ion for both lifestyle buyers and developers alike.\n\n	Generous 4\,900sq
 m* landholding offering significant opportunities\n\n	Zoned Rural Living 
 Zone- ideal for a substantial lifestyle property or potential future deve
 lopment (STCA)\n\n	Significant 70 m* frontage to Windermere Road\n\n	Dire
 ctly opposite the picturesque Serendip Wetlands Reserve and neighbouring 
 trails\, offering the idyllic surrounds\n\n	Prime position within a thriv
 ing and well-connected suburb\n\n	Merely 700 m* to Lara Primary\, Lara Se
 condary and Lara Sporting Club\n\n	Convenient access to Geelong\, Melbour
 ne\, major arterials\, and local amenities\n\n	Enjoy peace and privacy wh
 ile remaining close to Lara's amenities\n\n	Lara boasts a strong median h
 ouse price of $700\,000 (source REIV) with ongoing infrastructure making 
 it a compelling opportunity\n\nThe property will be sold via a Public Ten
 der\, closing Wednesday 28th of May at 12:00 pm. For further information 
 or to arrange a site inspection\, please contact the team at Gross Waddel
 l ICR directly.\n\n*approx.
DTEND:20260528T120000
DTSTAMP:20260423T021756Z
DTSTART:20260528T120000
SEQUENCE:0
SUMMARY:Tender: 147-153 Windermere Road\, Lara VIC
UID:CRE-2020783187-Tender
X-ALT-DESC;FMTTYPE=text/html:<!DOCTYPE HTML PUBLIC "-//W3C//DTD HTML 3.2//EN"><html><head><
 title></title></head><body><P DIR=LTR>Prime Lifestyle Block or Future Dev
 elopment Opportunity <br/> Gross Waddell ICR is pleased to offer for sale
  147-153 Windermere Road\, Lara\, as part of the Fire Rescue Victoria Por
 tfolio. Positioned within one of Lara's most desirable and fast-growing p
 ockets\, this substantial landholding presents a rare opportunity to secu
 re a premium site with flexibility\, scale\, and long-term upside. Strate
 gically located between Melbourne and Geelong\, Lara continues to attract
  strong population growth and infrastructure investment\, making it an in
 creasingly sought-after destination for both lifestyle buyers and develop
 ers alike. <br/>  <br/> 	Generous 4\,900sqm* landholding offering signifi
 cant opportunities <br/>  <br/> 	Zoned Rural Living Zone- ideal for a sub
 stantial lifestyle property or potential future development (STCA) <br/> 
  <br/> 	Significant 70 m* frontage to Windermere Road <br/>  <br/> 	Direc
 tly opposite the picturesque Serendip Wetlands Reserve and neighbouring t
 rails\, offering the idyllic surrounds <br/>  <br/> 	Prime position withi
 n a thriving and well-connected suburb <br/>  <br/> 	Merely 700 m* to Lar
 a Primary\, Lara Secondary and Lara Sporting Club <br/>  <br/> 	Convenien
 t access to Geelong\, Melbourne\, major arterials\, and local amenities <
 br/>  <br/> 	Enjoy peace and privacy while remaining close to Lara's amen
 ities <br/>  <br/> 	Lara boasts a strong median house price of $700\,000 
 (source REIV) with ongoing infrastructure making it a compelling opportun
 ity <br/>  <br/> The property will be sold via a Public Tender\, closing 
 Wednesday 28th of May at 12:00 pm. For further information or to arrange 
 a site inspection\, please contact the team at Gross Waddell ICR directly
 . <br/>  <br/> *approx.</P></body></html>
END:VEVENT
END:VCALENDAR
