BEGIN:VCALENDAR
PRODID:-//commercialrealestate.com.au//NONSGML ical.net 4.0//EN
VERSION:2.0
BEGIN:VEVENT
DESCRIPTION:Exceptional 4.3Ha Lifestyle with Approved Second Dwelling & En
 dless Potential\nSet on approximately 4.3 hectares in a prime and highly 
 convenient location\, 285 Pakenham Road\, Pakenham offers an outstanding 
 opportunity to secure a quality-built home with space\, comfort\, and exc
 iting future potential.\nThe residence is solidly constructed and showcas
 es timeless appeal\, featuring high ceilings\, beautiful timber flooring\
 , and quality fixtures and fittings throughout. Designed with flexibility
  in mind\, the home comprises four generous bedrooms plus a dedicated stu
 dy\, with the option to easily convert into a fifth bedroom if required-i
 deal for growing families or those needing extra accommodation.\nInside\,
  multiple living areas provide space for every occasion\, including a lar
 ge family zone\, formal dining area\, and an expansive rumpus room perfec
 t for entertaining or relaxed family living. The well-appointed central k
 itchen connects seamlessly to the meals and living spaces\, while the alf
 resco and deck enhance the home's indoor-outdoor appeal\, creating a comf
 ortable setting for year-round enjoyment.\nPracticality is further enhanc
 ed with ample under-house storage and substantial shedding\, including a 
 large machinery shed and workshop\, making it perfectly suited for tradie
 s\, hobbyists\, or those requiring additional workspace and storage optio
 ns.\nThe property also benefits from approved plans for a second dwelling
 \, presenting a fantastic opportunity for extended family living\, dual o
 ccupancy\, or the potential to generate additional income in the future (
 STCA).\nPositioned just a short drive from Pakenham's main township\, the
  home enjoys easy access to a wide range of everyday amenities including 
 shopping centres\, schools\, cafes\, medical facilities\, and public tran
 sport. Pakenham Train Station and the M1 Freeway are both conveniently cl
 ose by\, providing a straightforward commute to Melbourne CBD while still
  allowing you to enjoy the peace\, privacy\, and open space that acreage 
 living provides. The surrounding area is known for its blend of lifestyle
  properties and natural beauty\, making it an increasingly sought-after p
 ocket for families seeking both convenience and room to move.\nThis is a 
 rare chance to secure a versatile lifestyle property that combines solid 
 construction\, generous land size\, and exciting future possibilities in 
 a well-connected location.\nDisclaimer:\nAll information provided has bee
 n obtained from sources believed to be reliable\; however\, no guarantee 
 is made as to its accuracy. Interested parties should make their own enqu
 iries and satisfy themselves in all respects. Measurements\, land size\, 
 floor plans\, and approvals are approximate and subject to change. Any re
 ference to development potential or second dwelling is subject to council
  approval (STCA).
DTEND:20260425T161500
DTSTAMP:20260423T054137Z
DTSTART:20260425T153000
SEQUENCE:0
SUMMARY:Inspection: 285 Pakenham Road\, Pakenham VIC
UID:CRE-2020784119-Inspection1
X-ALT-DESC;FMTTYPE=text/html:<!DOCTYPE HTML PUBLIC "-//W3C//DTD HTML 3.2//EN"><html><head><
 title></title></head><body><P DIR=LTR>Exceptional 4.3Ha Lifestyle with Ap
 proved Second Dwelling & Endless Potential <br/> Set on approximately 4.3
  hectares in a prime and highly convenient location\, 285 Pakenham Road\,
  Pakenham offers an outstanding opportunity to secure a quality-built hom
 e with space\, comfort\, and exciting future potential.\n <br/> The resid
 ence is solidly constructed and showcases timeless appeal\, featuring hig
 h ceilings\, beautiful timber flooring\, and quality fixtures and fitting
 s throughout. Designed with flexibility in mind\, the home comprises four
  generous bedrooms plus a dedicated study\, with the option to easily con
 vert into a fifth bedroom if required-ideal for growing families or those
  needing extra accommodation.\n <br/> Inside\, multiple living areas prov
 ide space for every occasion\, including a large family zone\, formal din
 ing area\, and an expansive rumpus room perfect for entertaining or relax
 ed family living. The well-appointed central kitchen connects seamlessly 
 to the meals and living spaces\, while the alfresco and deck enhance the 
 home's indoor-outdoor appeal\, creating a comfortable setting for year-ro
 und enjoyment.\n <br/> Practicality is further enhanced with ample under-
 house storage and substantial shedding\, including a large machinery shed
  and workshop\, making it perfectly suited for tradies\, hobbyists\, or t
 hose requiring additional workspace and storage options.\n <br/> The prop
 erty also benefits from approved plans for a second dwelling\, presenting
  a fantastic opportunity for extended family living\, dual occupancy\, or
  the potential to generate additional income in the future (STCA).\n <br/
 > Positioned just a short drive from Pakenham's main township\, the home 
 enjoys easy access to a wide range of everyday amenities including shoppi
 ng centres\, schools\, cafes\, medical facilities\, and public transport.
  Pakenham Train Station and the M1 Freeway are both conveniently close by
 \, providing a straightforward commute to Melbourne CBD while still allow
 ing you to enjoy the peace\, privacy\, and open space that acreage living
  provides. The surrounding area is known for its blend of lifestyle prope
 rties and natural beauty\, making it an increasingly sought-after pocket 
 for families seeking both convenience and room to move.\n <br/> This is a
  rare chance to secure a versatile lifestyle property that combines solid
  construction\, generous land size\, and exciting future possibilities in
  a well-connected location.\n <br/> Disclaimer:\n <br/> All information p
 rovided has been obtained from sources believed to be reliable\; however\
 , no guarantee is made as to its accuracy. Interested parties should make
  their own enquiries and satisfy themselves in all respects. Measurements
 \, land size\, floor plans\, and approvals are approximate and subject to
  change. Any reference to development potential or second dwelling is sub
 ject to council approval (STCA).</P></body></html>
END:VEVENT
END:VCALENDAR
