BEGIN:VCALENDAR
PRODID:-//commercialrealestate.com.au//NONSGML ical.net 4.0//EN
VERSION:2.0
BEGIN:VEVENT
DESCRIPTION:Barachi "Where the Sun Meets The Sky"\nSet across just under 3
 0 acres\, this peaceful hinterland property offers a unique blend of natu
 ral beauty\, privacy\, and long-term value through an established and div
 erse timber plantation. With wide-reaching views and a home that feels bo
 th grounded and timeless\, this is a property for those who appreciate sp
 ace\, craftsmanship\, and connection to the land.\n\nThe residence is a t
 rue labour of love. Constructed from solid sandstone\, the home offers wa
 rmth\, character\, and durability. Inside\, handcrafted architraves and f
 ixtures made from timber sourced on the property add a unique and persona
 l touch throughout. The home includes three bedrooms and two bathrooms\, 
 and is designed to take in the surrounding views from every angle.\nOutdo
 ors\, the scale of the land is immediately clear.\n\nProperty Features\n3
  Bedrooms\n Country-style large family kitchen\n Open dining and living\n
  Outdoor entertaining\n 2 bathrooms\n Large laundry\nPlenty of Storage\n 
 2 bay shed\n Sandstone construction\n Solar - 9 Panels\n Water capacity 1
 6\,000 Gallon\n Pump infastructure at creek\nOver 1 Kilometre of Private 
 Creek Frontage - A Rare Natural Feature\n\nApproximately 10\,000 trees ha
 ve been planted across the property\, creating both a beautiful landscape
  and a valuable timber resource. Species include Hoop Pine\, Bunya Pine\,
  Silky Oak\, Red Cedar\, Bumpy Ash\, Tulip Satinwood\, Marblewood\, Ribbo
 nwood\, Kauri Pine\, Spotted Gum\, Tallowwood\, Queensland Maple\, Crow's
  Ash\, Yellowwood\, and Gympie Messmate. The property is further enhanced
  by established Casuarinas along boundaries and entry points\, around 150
  Blue Quandongs\, a mature Lychee tree at the front\, and a variety of pa
 lms\, including Cabbage Palms. Additional native plantings continue the f
 ocus on sustainability and regeneration.\n\nOne of the standout features 
 of this property is its extensive creek frontage\, stretching over 1 kilo
 metre along a calm\, gently flowing waterway.\nImagine having your own st
 retch of creek to enjoy\, morning walks along the banks\, quiet swimming 
 spots\, and peaceful places to relax. Whether it's time with family\, exp
 loring nature\, or simply unwinding\, this is a rare lifestyle feature th
 at is hard to find.\nProperties with this level of private creek access a
 re rarely available\, making this offering truly special.\n\nInspection D
 isclaimer:\nThis property is not a public place and is someone's home\, i
 nvestment\, or private property. Harcourts One Group will and has the rig
 ht to properly qualify all potential purchasers who apply for an inspecti
 on and reserve all rights to refuse said inspection without explanation. 
 Animals are not welcome at inspections whatsoever\, to ensure the health 
 and safety of our staff\, along with the occupants within the home and th
 e general public. Children who know how to conduct themselves in a respec
 tful manner are most welcome\, however\, those who do not - along with th
 eir parents\, will be respectfully asked to leave. Please note that under
  no circumstances is anyone authorised to enter the property without the 
 supervision of a Harcourts One Group representative. \n\nInformation Disc
 laimer: \nAlthough Harcourts One Group has provided all information relat
 ed to this property to the best of our knowledge and resources\, we shall
  not be held accountable or responsible for its accuracy. Harcourts One G
 roup urges all buyers to conduct their own independent research and consu
 lt their own professionals to conduct due diligence before purchasing.
DTEND:20260426T120000
DTSTAMP:20260423T081616Z
DTSTART:20260426T110000
SEQUENCE:0
SUMMARY:Inspection: 1476 Kandanga Creek Road\, Upper Kandanga QLD
UID:CRE-2020782822-Inspection1
X-ALT-DESC;FMTTYPE=text/html:<!DOCTYPE HTML PUBLIC "-//W3C//DTD HTML 3.2//EN"><html><head><
 title></title></head><body><P DIR=LTR>Barachi "Where the Sun Meets The Sk
 y" <br/> Set across just under 30 acres\, this peaceful hinterland proper
 ty offers a unique blend of natural beauty\, privacy\, and long-term valu
 e through an established and diverse timber plantation. With wide-reachin
 g views and a home that feels both grounded and timeless\, this is a prop
 erty for those who appreciate space\, craftsmanship\, and connection to t
 he land.\n <br/> \n <br/> The residence is a true labour of love. Constru
 cted from solid sandstone\, the home offers warmth\, character\, and dura
 bility. Inside\, handcrafted architraves and fixtures made from timber so
 urced on the property add a unique and personal touch throughout. The hom
 e includes three bedrooms and two bathrooms\, and is designed to take in 
 the surrounding views from every angle.\n <br/> Outdoors\, the scale of t
 he land is immediately clear.\n <br/> \n <br/> Property Features\n <br/> 
 3 Bedrooms\n <br/>  Country-style large family kitchen\n <br/>  Open dini
 ng and living\n <br/>  Outdoor entertaining\n <br/>  2 bathrooms\n <br/> 
  Large laundry\n <br/> Plenty of Storage\n <br/>  2 bay shed\n <br/>  San
 dstone construction\n <br/>  Solar - 9 Panels\n <br/>  Water capacity 16\
 ,000 Gallon\n <br/>  Pump infastructure at creek\n <br/> Over 1 Kilometre
  of Private Creek Frontage - A Rare Natural Feature\n <br/> \n <br/> Appr
 oximately 10\,000 trees have been planted across the property\, creating 
 both a beautiful landscape and a valuable timber resource. Species includ
 e Hoop Pine\, Bunya Pine\, Silky Oak\, Red Cedar\, Bumpy Ash\, Tulip Sati
 nwood\, Marblewood\, Ribbonwood\, Kauri Pine\, Spotted Gum\, Tallowwood\,
  Queensland Maple\, Crow's Ash\, Yellowwood\, and Gympie Messmate. The pr
 operty is further enhanced by established Casuarinas along boundaries and
  entry points\, around 150 Blue Quandongs\, a mature Lychee tree at the f
 ront\, and a variety of palms\, including Cabbage Palms. Additional nativ
 e plantings continue the focus on sustainability and regeneration.\n <br/
 > \n <br/> One of the standout features of this property is its extensive
  creek frontage\, stretching over 1 kilometre along a calm\, gently flowi
 ng waterway.\n <br/> Imagine having your own stretch of creek to enjoy\, 
 morning walks along the banks\, quiet swimming spots\, and peaceful place
 s to relax. Whether it's time with family\, exploring nature\, or simply 
 unwinding\, this is a rare lifestyle feature that is hard to find.\n <br/
 > Properties with this level of private creek access are rarely available
 \, making this offering truly special.\n <br/> \n <br/> Inspection Discla
 imer:\n <br/> This property is not a public place and is someone's home\,
  investment\, or private property. Harcourts One Group will and has the r
 ight to properly qualify all potential purchasers who apply for an inspec
 tion and reserve all rights to refuse said inspection without explanation
 . Animals are not welcome at inspections whatsoever\, to ensure the healt
 h and safety of our staff\, along with the occupants within the home and 
 the general public. Children who know how to conduct themselves in a resp
 ectful manner are most welcome\, however\, those who do not - along with 
 their parents\, will be respectfully asked to leave. Please note that und
 er no circumstances is anyone authorised to enter the property without th
 e supervision of a Harcourts One Group representative. \n <br/> \n <br/> 
 Information Disclaimer: \n <br/> Although Harcourts One Group has provide
 d all information related to this property to the best of our knowledge a
 nd resources\, we shall not be held accountable or responsible for its ac
 curacy. Harcourts One Group urges all buyers to conduct their own indepen
 dent research and consult their own professionals to conduct due diligenc
 e before purchasing.</P></body></html>
END:VEVENT
END:VCALENDAR
