BEGIN:VCALENDAR
PRODID:-//commercialrealestate.com.au//NONSGML ical.net 4.0//EN
VERSION:2.0
BEGIN:VEVENT
DESCRIPTION:Modern Rural Living with Space\, Style & Income Potential\nFre
 shly renovated and beautifully presented\, 7582 Burley Griffin Way\, Bilb
 ul offers the perfect fusion of contemporary comfort and productive rural
  living. With generous interiors\, quality upgrades and valuable infrastr
 ucture already in place\, this is a lifestyle property ready for its next
  chapter.\n• 49 acres with access to irrigation\n• Four oversized bedroom
 s filled with natural light\n• Brand new modern kitchen with quality appl
 iances and sleek finishes\n• Stylishly renovated bathroom with contempora
 ry design\n• Two spacious living areas ideal for families\, entertaining 
 or relaxation\n• Extensive shedding including a large lock up machinery s
 hed with concrete floor and power\, plus additional machinery shedding an
 d a dedicated workshop area\n• Established grape vines currently planted 
 and maintained\, offering income potential\n• Drip irrigation system alre
 ady in place\, supporting efficient vineyard management\n\nLifestyle & La
 nd Use Flexibility\nThe existing vineyard can easily be removed\, opening
  the door to a wide range of lifestyle or agricultural opportunities. Wit
 h ample space and excellent infrastructure\, the property is ideal for:\n
 • Families wanting room for children with motorbikes\, horses/pets\n• Tra
 dies needing extra space for machinery\, vehicles or equipment\n• New hor
 ticultural or farming ventures\, supported by reliable irrigation access\
 n\nLocation & Access\n• Tar road frontage for easy\, all weather access\n
 • Only minutes to Griffith\, offering convenience without compromising pr
 ivacy or space\n\nSet on a generous parcel along the iconic Burley Griffi
 n Way\, this property delivers the rare combination of a fully refreshed 
 home and a productive rural setup. Whether you're seeking a peaceful life
 style\, a hobby farm\, or a property with genuine earning capacity\, this
  one stands out.
DTEND:20260506T173000
DTSTAMP:20260422T044826Z
DTSTART:20260506T170000
SEQUENCE:0
SUMMARY:Inspection: 7582 Burley Griffin Way\, Bilbul NSW
UID:CRE-2020780149-Inspection3
X-ALT-DESC;FMTTYPE=text/html:<!DOCTYPE HTML PUBLIC "-//W3C//DTD HTML 3.2//EN"><html><head><
 title></title></head><body><P DIR=LTR>Modern Rural Living with Space\, St
 yle & Income Potential <br/> Freshly renovated and beautifully presented\
 , 7582 Burley Griffin Way\, Bilbul offers the perfect fusion of contempor
 ary comfort and productive rural living. With generous interiors\, qualit
 y upgrades and valuable infrastructure already in place\, this is a lifes
 tyle property ready for its next chapter.\n <br/> • 49 acres with access 
 to irrigation\n <br/> • Four oversized bedrooms filled with natural light
 \n <br/> • Brand new modern kitchen with quality appliances and sleek fin
 ishes\n <br/> • Stylishly renovated bathroom with contemporary design\n <
 br/> • Two spacious living areas ideal for families\, entertaining or rel
 axation\n <br/> • Extensive shedding including a large lock up machinery 
 shed with concrete floor and power\, plus additional machinery shedding a
 nd a dedicated workshop area\n <br/> • Established grape vines currently 
 planted and maintained\, offering income potential\n <br/> • Drip irrigat
 ion system already in place\, supporting efficient vineyard management\n 
 <br/> \n <br/> Lifestyle & Land Use Flexibility\n <br/> The existing vine
 yard can easily be removed\, opening the door to a wide range of lifestyl
 e or agricultural opportunities. With ample space and excellent infrastru
 cture\, the property is ideal for:\n <br/> • Families wanting room for ch
 ildren with motorbikes\, horses/pets\n <br/> • Tradies needing extra spac
 e for machinery\, vehicles or equipment\n <br/> • New horticultural or fa
 rming ventures\, supported by reliable irrigation access\n <br/> \n <br/>
  Location & Access\n <br/> • Tar road frontage for easy\, all weather acc
 ess\n <br/> • Only minutes to Griffith\, offering convenience without com
 promising privacy or space\n <br/> \n <br/> Set on a generous parcel alon
 g the iconic Burley Griffin Way\, this property delivers the rare combina
 tion of a fully refreshed home and a productive rural setup. Whether you'
 re seeking a peaceful lifestyle\, a hobby farm\, or a property with genui
 ne earning capacity\, this one stands out.</P></body></html>
END:VEVENT
END:VCALENDAR
