BEGIN:VCALENDAR
PRODID:-//commercialrealestate.com.au//NONSGML ical.net 4.0//EN
VERSION:2.0
BEGIN:VEVENT
DESCRIPTION:Blue Chip Turnkey Warehouse\nTsimos Commercial is delighted to
  offer via a private sale campaign\, an immaculate clear span warehouse i
 n a prime location\, at 37 Taunton Drive Cheltenham.\n\nThis light-filled
  warehouse has a near perfect warehouse to office ratio\, encompassing a 
 fantastic high clearance\, square internal footprint\, making it ideal to
  maximise cubic racking and storage capacity.\n\nThe property has a conta
 iner height high clearance electric roller shutter door\, and internal fe
 atures include neat and functional office and storage space layout\, whic
 h adds to an exceptional premises for your business to thrive\, and a sma
 rt long-term investment for the future in a much-sort after location.\n\n
 The warehouse position within Taunton Drive has an excellent line of sigh
 t for great signage opportunities as you drive towards the property\, and
  this makes for simple and easy logistical truck and transport movements 
 from wide entry point.\n\nThe property offers great prospects and flexibi
 lity for either investors or owner occupiers\, especially with the curren
 t shortage of warehousing of this size and caliber.\n\nProperty Features:
 \n Building area: 610sqm2*\n Clear span warehouse with excellent natural 
 light\n Offices / reception & storage areas: 65sqm* approx.\n Solid doubl
 e brick with great internal height \n Functional square warehouse footpri
 nt\n Electric container height RSD\n 3 Phase power supply\n LED lighting\
 n Fantastic & easy wide street logistical access \n Kitchenette\n Dual am
 enities\n Ample unlimited time street parking\n Industrial zone 1\n Vacan
 t possession\n\nLocation:\nLocated just off Centre Dandenong Road\, in cl
 ose proximity to Moorabbin airport\, DFO Moorabbin and many national reta
 il outlet stores\, and effortless connectivity to the Mordialloc Freeway 
 and other major surrounding arterials. \n\nOpen For Inspection times:\n\n
  Wednesday 29th April @ 12:00pm - 12:30pm\n Wednesday 6th May @ 12:00am -
  12:30pm\n\nFor further information or to arrange a private inspection ou
 tside the above times\, please contact the exclusive selling agent.\nAndr
 ew Pannam   0433 518 555
DTEND:20260506T123000
DTSTAMP:20260422T025011Z
DTSTART:20260506T120000
SEQUENCE:0
SUMMARY:Inspection: 37 Taunton Drive\, Mordialloc VIC
UID:CRE-2020779703-Inspection2
X-ALT-DESC;FMTTYPE=text/html:<!DOCTYPE HTML PUBLIC "-//W3C//DTD HTML 3.2//EN"><html><head><
 title></title></head><body><P DIR=LTR>Blue Chip Turnkey Warehouse <br/> T
 simos Commercial is delighted to offer via a private sale campaign\, an i
 mmaculate clear span warehouse in a prime location\, at 37 Taunton Drive 
 Cheltenham. <br/>  <br/> This light-filled warehouse has a near perfect w
 arehouse to office ratio\, encompassing a fantastic high clearance\, squa
 re internal footprint\, making it ideal to maximise cubic racking and sto
 rage capacity. <br/>  <br/> The property has a container height high clea
 rance electric roller shutter door\, and internal features include neat a
 nd functional office and storage space layout\, which adds to an exceptio
 nal premises for your business to thrive\, and a smart long-term investme
 nt for the future in a much-sort after location. <br/>  <br/> The warehou
 se position within Taunton Drive has an excellent line of sight for great
  signage opportunities as you drive towards the property\, and this makes
  for simple and easy logistical truck and transport movements from wide e
 ntry point. <br/>  <br/> The property offers great prospects and flexibil
 ity for either investors or owner occupiers\, especially with the current
  shortage of warehousing of this size and caliber. <br/>  <br/> Property 
 Features: <br/>  Building area: 610sqm2* <br/>  Clear span warehouse with
  excellent natural light <br/>  Offices / reception & storage areas: 65sq
 m* approx. <br/>  Solid double brick with great internal height  <br/>  F
 unctional square warehouse footprint <br/>  Electric container height RSD
  <br/>  3 Phase power supply <br/>  LED lighting <br/>  Fantastic & easy 
 wide street logistical access  <br/>  Kitchenette <br/>  Dual amenities <
 br/>  Ample unlimited time street parking <br/>  Industrial zone 1 <br/> 
  Vacant possession <br/>  <br/> Location: <br/> Located just off Centre D
 andenong Road\, in close proximity to Moorabbin airport\, DFO Moorabbin a
 nd many national retail outlet stores\, and effortless connectivity to th
 e Mordialloc Freeway and other major surrounding arterials.  <br/>  <br/>
  Open For Inspection times: <br/>  <br/>  Wednesday 29th April @ 12:00pm 
 - 12:30pm <br/>  Wednesday 6th May @ 12:00am - 12:30pm <br/>  <br/> For f
 urther information or to arrange a private inspection outside the above t
 imes\, please contact the exclusive selling agent. <br/> Andrew Pannam   
 0433 518 555</P></body></html>
END:VEVENT
END:VCALENDAR
