BEGIN:VCALENDAR
PRODID:-//commercialrealestate.com.au//NONSGML ical.net 4.0//EN
VERSION:2.0
BEGIN:VEVENT
DESCRIPTION:Open the Door to Nangkita Acreage With Heart\, History and Hor
 se Appeal\nOffers Close Tue\, 12th May - 1pm (USP)\n\nBuilt in horse-and-
 cart days\, this 1890 homestead turns 10 acres of Nangkita countryside in
 to an affordable lifestyle proposition. What begins with a simple\, robus
 t home and soul-soothing valley outlook quickly expands into a property d
 efined by its paddocks\, shedding\, bore water and broad potential.\n\nIn
 side\, the home has the warmth and proportions of another era\, with high
  ceilings\, a country kitchen\, adjacent dining\, separate living spaces 
 and  bathroom bringing comfort to the practical bones. Outside\, the old 
 dairy\, horse arena\, bore\, tanks and three-phase powered shed make it a
 n acreage property with substance in a soul-soothing Fleurieu Peninsula s
 etting.\n\nOpen the door to: \n	A genuine 10-acre lifestyle holding that 
 balances liveability with utility\, giving buyers space for horses\, shed
 s\, tanks\, paddocks and future plans in one affordable rural package\n	A
  character homestead dating back to 1890\, with high ceilings\, generous 
 room proportions and the simple\, enduring feel of a home that has stood 
 the test of time\n	A timber country-style kitchen with farmhouse sink\, b
 reakfast bar\, good bench space and garden outlooks\, positioned beside c
 asual dining so daily life stays connected and easy\n	Multiple living zon
 es including a formal dining room\, separate lounge and an additional liv
 ing area with slow combustion heater\, giving the home flexibility beyond
  its three-bedroom footprint\n	Large bathroom and laundry zone with full 
 bath\, shower and practical floor area\, already improved where it counts
  most\n	Three well-scaled bedrooms and the adaptability to refresh\, rewo
 rk and add personal style over time\n	Split-system air conditioning\, ope
 n fireplace ambience and combustion heat for comfort across the seasons\n
 	Arched openings\, thick walls\, broad circulation zones and solid countr
 y proportions that give the interiors a sturdy\, grounded feel\n\nOutdoor
 s:\n	A shady front verandah that looks toward the Nangkita Valley and the
  creek across the road\n	A high-clearance 13x9m shed with concrete floor 
 and three-phase power\, ready for machinery\, workshop use\, storage\, ho
 rse gear or serious weekend projects\n	Old 11x5m dairy building and addit
 ional sundry shedding that deepen the property's practical appeal and rur
 al authenticity\n	Four paddocks with water access and a horse arena\, alr
 eady laying the groundwork for an equine lifestyle or small-scale rural s
 etup\n	Equipped bore with abundant quality water\, supported by several t
 anks\, giving the property strong self-sufficiency credentials\n	Wide gra
 velled access and open working areas around the shedding that make moveme
 nt\, parking and day-to-day acreage logistics straightforward\n\nClose th
 e Door on: \n	Paying a premium for acreage without the infrastructure to 
 support the lifestyle it promises. This horse-ready property backs up its
  10 acres with a bore\, tanks and serious shedding\n	Character homes that
  have been stripped of their identity in pursuit of a generic finish. Her
 e\, the age\, scale and country feel still come through\, giving the next
  owner something authentic to build on\n	Rural listings that are too remo
 te for convenience and too compromised to justify the drive. Just five mi
 nutes from Mount Compass and within easy reach of Kuitpo and the coast\, 
 you're never far from what matters\n\nServices:\n	Split-system air condit
 ioning and slow combustion heater\n	Equipped bore\n	Several rainwater tan
 ks\n	Three-phase power to main shed\n	Soakage septic system\n	Concrete fl
 oor to high-clearance shed\n	Watered paddocks\n\nLocation:\n	Just 5 minut
 es to Mount Compass for everyday essentials\, schooling\, cafes and servi
 ces\n	Close to Kuitpo Forest riding trails for horse lovers\n	16 minutes 
 to Willunga\n	23 Minutes to Aldinga Beach\n	26 Minutes to Victor Harbor\n
 	61 Minutes to Adelaide\n \nAn honest country holding with history in its
  walls\, water on hand\, and space to do far more than the basics\, this 
 is the kind of affordable acreage that earns its keep from day one. Come 
 check it out\; you're going to love it. \n\nCT Reference -  5438/80\nCoun
 cil - Alexandrina\nCouncil Rates   $2\,138.55 per year\nEmergency Service
 s Levy  $99.15 per year\nLand Size - 10 acres approx.\nYear Built - 1910\
 nZoning  Rural Horticulture\n\nAll information or material provided has b
 een obtained from third party sources and\, as such\, we cannot guarantee
  that the information or material is accurate. Ouwens Casserly Real Estat
 e Pty Ltd accepts no liability for any errors or omissions (including\, b
 ut not limited to\, a property's floor plans and land size\, building con
 dition or age). Interested potential purchasers should make their own enq
 uiries and obtain their own professional advice. Ouwens Casserly Real Est
 ate Pty Ltd partners with third party providers including *** (REA) and B
 efore You Buy Australia Pty Ltd (BYB).  If you elect to use the BYB websi
 te and service\, you are dealing directly with BYB.  Ouwens Casserly Real
  Estate Pty Ltd does not receive any financial benefit from BYB in respec
 t of the service provided.  Ouwens Casserly Real Estate Pty Ltd accepts n
 o liability for any errors or omissions in respect of the service provide
 d by BYB.  Interested potential purchasers should make their own enquirie
 s as they see fit.\n\nRLA 275403.
DTEND:20260426T143000
DTSTAMP:20260421T071018Z
DTSTART:20260426T140000
SEQUENCE:0
SUMMARY:Inspection: 695 Nangkita Road\, Nangkita SA
UID:CRE-2020777799-Inspection1
X-ALT-DESC;FMTTYPE=text/html:<!DOCTYPE HTML PUBLIC "-//W3C//DTD HTML 3.2//EN"><html><head><
 title></title></head><body><P DIR=LTR>Open the Door to Nangkita Acreage W
 ith Heart\, History and Horse Appeal <br/> Offers Close Tue\, 12th May - 
 1pm (USP) <br/>  <br/> Built in horse-and-cart days\, this 1890 homestead
  turns 10 acres of Nangkita countryside into an affordable lifestyle prop
 osition. What begins with a simple\, robust home and soul-soothing valley
  outlook quickly expands into a property defined by its paddocks\, sheddi
 ng\, bore water and broad potential. <br/>  <br/> Inside\, the home has t
 he warmth and proportions of another era\, with high ceilings\, a country
  kitchen\, adjacent dining\, separate living spaces and  bathroom bringin
 g comfort to the practical bones. Outside\, the old dairy\, horse arena\,
  bore\, tanks and three-phase powered shed make it an acreage property wi
 th substance in a soul-soothing Fleurieu Peninsula setting. <br/>  <br/> 
 Open the door to:  <br/> 	A genuine 10-acre lifestyle holding that balanc
 es liveability with utility\, giving buyers space for horses\, sheds\, ta
 nks\, paddocks and future plans in one affordable rural package <br/> 	A 
 character homestead dating back to 1890\, with high ceilings\, generous r
 oom proportions and the simple\, enduring feel of a home that has stood t
 he test of time <br/> 	A timber country-style kitchen with farmhouse sink
 \, breakfast bar\, good bench space and garden outlooks\, positioned besi
 de casual dining so daily life stays connected and easy <br/> 	Multiple l
 iving zones including a formal dining room\, separate lounge and an addit
 ional living area with slow combustion heater\, giving the home flexibili
 ty beyond its three-bedroom footprint <br/> 	Large bathroom and laundry z
 one with full bath\, shower and practical floor area\, already improved w
 here it counts most <br/> 	Three well-scaled bedrooms and the adaptabilit
 y to refresh\, rework and add personal style over time <br/> 	Split-syste
 m air conditioning\, open fireplace ambience and combustion heat for comf
 ort across the seasons <br/> 	Arched openings\, thick walls\, broad circu
 lation zones and solid country proportions that give the interiors a stur
 dy\, grounded feel <br/>  <br/> Outdoors: <br/> 	A shady front verandah t
 hat looks toward the Nangkita Valley and the creek across the road <br/> 
 	A high-clearance 13x9m shed with concrete floor and three-phase power\, 
 ready for machinery\, workshop use\, storage\, horse gear or serious week
 end projects <br/> 	Old 11x5m dairy building and additional sundry sheddi
 ng that deepen the property's practical appeal and rural authenticity <br
 /> 	Four paddocks with water access and a horse arena\, already laying th
 e groundwork for an equine lifestyle or small-scale rural setup <br/> 	Eq
 uipped bore with abundant quality water\, supported by several tanks\, gi
 ving the property strong self-sufficiency credentials <br/> 	Wide gravell
 ed access and open working areas around the shedding that make movement\,
  parking and day-to-day acreage logistics straightforward <br/>  <br/> Cl
 ose the Door on:  <br/> 	Paying a premium for acreage without the infrast
 ructure to support the lifestyle it promises. This horse-ready property b
 acks up its 10 acres with a bore\, tanks and serious shedding <br/> 	Char
 acter homes that have been stripped of their identity in pursuit of a gen
 eric finish. Here\, the age\, scale and country feel still come through\,
  giving the next owner something authentic to build on <br/> 	Rural listi
 ngs that are too remote for convenience and too compromised to justify th
 e drive. Just five minutes from Mount Compass and within easy reach of Ku
 itpo and the coast\, you're never far from what matters <br/>  <br/> Serv
 ices: <br/> 	Split-system air conditioning and slow combustion heater <br
 /> 	Equipped bore <br/> 	Several rainwater tanks <br/> 	Three-phase power
  to main shed <br/> 	Soakage septic system <br/> 	Concrete floor to high-
 clearance shed <br/> 	Watered paddocks <br/>  <br/> Location: <br/> 	Just
  5 minutes to Mount Compass for everyday essentials\, schooling\, cafes a
 nd services <br/> 	Close to Kuitpo Forest riding trails for horse lovers 
 <br/> 	16 minutes to Willunga <br/> 	23 Minutes to Aldinga Beach <br/> 	2
 6 Minutes to Victor Harbor <br/> 	61 Minutes to Adelaide <br/>   <br/> An
  honest country holding with history in its walls\, water on hand\, and s
 pace to do far more than the basics\, this is the kind of affordable acre
 age that earns its keep from day one. Come check it out\; you're going to
  love it.  <br/>  <br/> CT Reference -  5438/80 <br/> Council - Alexandri
 na <br/> Council Rates   $2\,138.55 per year <br/> Emergency Services Lev
 y  $99.15 per year <br/> Land Size - 10 acres approx. <br/> Year Built - 
 1910 <br/> Zoning  Rural Horticulture <br/>  <br/> All information or mat
 erial provided has been obtained from third party sources and\, as such\,
  we cannot guarantee that the information or material is accurate. Ouwens
  Casserly Real Estate Pty Ltd accepts no liability for any errors or omis
 sions (including\, but not limited to\, a property's floor plans and land
  size\, building condition or age). Interested potential purchasers shoul
 d make their own enquiries and obtain their own professional advice. Ouwe
 ns Casserly Real Estate Pty Ltd partners with third party providers inclu
 ding *** (REA) and Before You Buy Australia Pty Ltd (BYB).  If you elect 
 to use the BYB website and service\, you are dealing directly with BYB.  
 Ouwens Casserly Real Estate Pty Ltd does not receive any financial benefi
 t from BYB in respect of the service provided.  Ouwens Casserly Real Esta
 te Pty Ltd accepts no liability for any errors or omissions in respect of
  the service provided by BYB.  Interested potential purchasers should mak
 e their own enquiries as they see fit. <br/>  <br/> RLA 275403.</P></body
 ></html>
END:VEVENT
END:VCALENDAR
