BEGIN:VCALENDAR
PRODID:-//commercialrealestate.com.au//NONSGML ical.net 4.0//EN
VERSION:2.0
BEGIN:VEVENT
DESCRIPTION:Private Bushland Escape\nSet within a lush Martinsville landsc
 ape\, where the surrounding greenery creates a sense of calm without comp
 romising connection\, this is the kind of place people dream about but ra
 rely find. A home that doesn't just sit in nature\, but feels part of it-
 wrapped in timber\, light and the quiet rhythm of the bush.\nFrom the mom
 ent you arrive\, the near-wraparound veranda sets the tone. It's a home d
 esigned to be lived outdoors as much as in-morning coffee with birdsong\,
  long lunches under cover\, evenings that stretch as the light filters th
 rough the trees.\n\nInside\, warm timber flooring runs throughout\, ancho
 ring open living spaces that connect effortlessly to the surrounding gree
 nery. Large openings invite the outside in\, creating a seamless flow to 
 the expansive entertaining zones overlooking dense\, established bushland
 . It's private\, peaceful\, and completely immersive.\n\nThe layout is as
  practical as it is inviting. Bedrooms are generously proportioned with b
 uilt-ins throughout\, including two walk-in robes and two triple robes\, 
 while bathrooms on both levels offer flexibility for families or guests. 
 A cleverly positioned under-stairs study nook provides a quiet space to w
 ork or retreat\, complemented by ample storage including triple linen.\nB
 eyond the main residence\, the property continues to unfold. A separate w
 orkshop or retreat with its own kitchenette\, shower and composting toile
 t offers versatility-ideal for  creative pursuits or a quiet escape of it
 s own. A greenhouse\, multiple garden sheds and established grounds add t
 o the sense of a self-contained haven\, while mains power\, water and sep
 tic ensure everyday comfort.\n\nPositioned moments from Martinsville Recr
 eation Park and within easy reach of Watagans National Park\, Lake Macqua
 rie and Trinity Point\, the setting balances seclusion with accessibility
 . With the emerging Cedar Mill precinct and Watagan Park Central nearby\,
  convenience is quietly catching up to this already special pocket.\n\nA 
 place where time slows\, the air feels different\, and every day begins a
 nd ends with the calm of the trees.\n\nFeatures You'll Love:\n- Near-wrap
 around veranda\n- Timber flooring throughout\n- Under-stairs office/study
  nook\n- Triple linen\n- All bedrooms feature built-ins including two tri
 ple robes and two walk-ins\n- Bathrooms on both levels\n- Split cycle air
  conditioning to main living and main bedroom\n- Seamless indoor/outdoor 
 entertaining overlooking lush bushland\n- Separate workshop/retreat with 
 kitchenette\, shower and composting toilet\n- Two garden sheds \n- Mains 
 power/water and septic\n- Two carports\n- Greenhouse\n- 4 dams\n- Close t
 o Martinsville Recreation Park: playground\, oval and tennis court\n- Clo
 se to Watagan National Park\, Lake Macquarie\, Trinity Point and Awaba Mo
 untain Bike Park\n- Close to the new Cedar Mill Lake Macquarie entertainm
 ent precinct\, currently under development\n- Close to the brand-new Wata
 gan Park Central shopping centre including Woolworths\, The Shed Cafe\, C
 osti Seafoods\, Char Char Chicken\, Toto Shushi\, Baker's Delight\, flori
 st\, hair and nail salons\, pharmacy\, Snap Fitness and more \n- Excellen
 t dining nearb including 8@Trinity\; close to shops and walking tracks\n-
  Close to Avondale School\, Heritage College\, St John Vianney Primary\, 
 Cooranbong Public School and Avondale University\n- 60-70 minutes to Sydn
 ey outskirts\, 50 minutes to Newcastle CBD\, and 30-40 minutes to the Hun
 ter Valley\n\n**Estimated rental income of $950-1000/week with the award-
 winning Harcourts Property Management Team: 02 4038 1444**\n\n\n* This in
 formation\, including but not limited to photographs (which may show boun
 daries)\, copywriting\, floorplans\, and site plans\, has been prepared s
 olely for the purpose of marketing this property. While all care has been
  taken to ensure accuracy\, we do not accept any responsibility for error
 s\, omissions\, or inaccuracies. We strongly recommend that all intereste
 d parties make their own enquiries and seek independent advice\, includin
 g speaking with their conveyancer regarding boundaries and\, where approp
 riate\, obtaining a surveyor's report\, to verify the information provide
 d.
DTEND:20260427T121500
DTSTAMP:20260422T095815Z
DTSTART:20260427T114500
SEQUENCE:0
SUMMARY:Inspection: 516 Owens Road\, Martinsville NSW
UID:CRE-2020775965-Inspection1
X-ALT-DESC;FMTTYPE=text/html:<!DOCTYPE HTML PUBLIC "-//W3C//DTD HTML 3.2//EN"><html><head><
 title></title></head><body><P DIR=LTR>Private Bushland Escape <br/> Set w
 ithin a lush Martinsville landscape\, where the surrounding greenery crea
 tes a sense of calm without compromising connection\, this is the kind of
  place people dream about but rarely find. A home that doesn't just sit i
 n nature\, but feels part of it-wrapped in timber\, light and the quiet r
 hythm of the bush. <br/> From the moment you arrive\, the near-wraparound
  veranda sets the tone. It's a home designed to be lived outdoors as much
  as in-morning coffee with birdsong\, long lunches under cover\, evenings
  that stretch as the light filters through the trees. <br/>  <br/> Inside
 \, warm timber flooring runs throughout\, anchoring open living spaces th
 at connect effortlessly to the surrounding greenery. Large openings invit
 e the outside in\, creating a seamless flow to the expansive entertaining
  zones overlooking dense\, established bushland. It's private\, peaceful\
 , and completely immersive. <br/>  <br/> The layout is as practical as it
  is inviting. Bedrooms are generously proportioned with built-ins through
 out\, including two walk-in robes and two triple robes\, while bathrooms 
 on both levels offer flexibility for families or guests. A cleverly posit
 ioned under-stairs study nook provides a quiet space to work or retreat\,
  complemented by ample storage including triple linen. <br/> Beyond the m
 ain residence\, the property continues to unfold. A separate workshop or 
 retreat with its own kitchenette\, shower and composting toilet offers ve
 rsatility-ideal for  creative pursuits or a quiet escape of its own. A gr
 eenhouse\, multiple garden sheds and established grounds add to the sense
  of a self-contained haven\, while mains power\, water and septic ensure 
 everyday comfort. <br/>  <br/> Positioned moments from Martinsville Recre
 ation Park and within easy reach of Watagans National Park\, Lake Macquar
 ie and Trinity Point\, the setting balances seclusion with accessibility.
  With the emerging Cedar Mill precinct and Watagan Park Central nearby\, 
 convenience is quietly catching up to this already special pocket. <br/> 
  <br/> A place where time slows\, the air feels different\, and every day
  begins and ends with the calm of the trees. <br/>  <br/> Features You'll
  Love: <br/> - Near-wraparound veranda <br/> - Timber flooring throughout
  <br/> - Under-stairs office/study nook <br/> - Triple linen <br/> - All 
 bedrooms feature built-ins including two triple robes and two walk-ins <b
 r/> - Bathrooms on both levels <br/> - Split cycle air conditioning to ma
 in living and main bedroom <br/> - Seamless indoor/outdoor entertaining o
 verlooking lush bushland <br/> - Separate workshop/retreat with kitchenet
 te\, shower and composting toilet <br/> - Two garden sheds  <br/> - Mains
  power/water and septic <br/> - Two carports <br/> - Greenhouse <br/> - 4
  dams <br/> - Close to Martinsville Recreation Park: playground\, oval an
 d tennis court <br/> - Close to Watagan National Park\, Lake Macquarie\, 
 Trinity Point and Awaba Mountain Bike Park <br/> - Close to the new Cedar
  Mill Lake Macquarie entertainment precinct\, currently under development
  <br/> - Close to the brand-new Watagan Park Central shopping centre incl
 uding Woolworths\, The Shed Cafe\, Costi Seafoods\, Char Char Chicken\, T
 oto Shushi\, Baker's Delight\, florist\, hair and nail salons\, pharmacy\
 , Snap Fitness and more  <br/> - Excellent dining nearb including 8@Trini
 ty\; close to shops and walking tracks <br/> - Close to Avondale School\,
  Heritage College\, St John Vianney Primary\, Cooranbong Public School an
 d Avondale University <br/> - 60-70 minutes to Sydney outskirts\, 50 minu
 tes to Newcastle CBD\, and 30-40 minutes to the Hunter Valley <br/>  <br/
 > **Estimated rental income of $950-1000/week with the award-winning Harc
 ourts Property Management Team: 02 4038 1444** <br/>  <br/>  <br/> * This
  information\, including but not limited to photographs (which may show b
 oundaries)\, copywriting\, floorplans\, and site plans\, has been prepare
 d solely for the purpose of marketing this property. While all care has b
 een taken to ensure accuracy\, we do not accept any responsibility for er
 rors\, omissions\, or inaccuracies. We strongly recommend that all intere
 sted parties make their own enquiries and seek independent advice\, inclu
 ding speaking with their conveyancer regarding boundaries and\, where app
 ropriate\, obtaining a surveyor's report\, to verify the information prov
 ided.</P></body></html>
END:VEVENT
END:VCALENDAR
