BEGIN:VCALENDAR
PRODID:-//commercialrealestate.com.au//NONSGML ical.net 4.0//EN
VERSION:2.0
BEGIN:VEVENT
DESCRIPTION:Acreage Opportunity with Infrastructure and Renovation Potenti
 al\nRaine & Horne Gladstone is pleased to present 9 Vaughan Road\, Darts 
 Creek\, a rural lifestyle property offering space\, usable infrastructure
 \, and the opportunity to restore and create something truly your own.\n\
 nSet on approximately 16.05 hectares\, this property is well suited to bu
 yers looking for a project\, hobby farm\, or acreage lifestyle in a peace
 ful rural setting.\n\nThe home itself is in need of renovation and genera
 l improvements\, however it provides a solid starting point for those wit
 h vision\, offering the chance to add value over time.\n\nThe residence i
 ncludes two bedrooms and one bathroom\, along with a covered carport\, pr
 oviding a basic foundation to build from while improvements are carried o
 ut.\n\nOutside is where the property really starts to shine\, with a rang
 e of existing rural infrastructure already in place. The property include
 s horse stables (requiring some repairs)\, a bird and chicken aviary\, an
 d two cow paddocks\, making it ideal for those looking to keep animals or
  establish a small-scale rural setup.\n\nWater supply is well supported w
 ith multiple tanks\, including 2 x 5000 gallon tanks and 2 x 1500 gallon 
 tanks\, along with an additional 10\,000 gallon tank requiring new seals.
  There is also a dam currently full\, adding further practicality to the 
 land. The property is serviced by a septic system for sewerage and town p
 ower connection.\n\nA 4 bay shed provides ample space for storage\, machi
 nery\, or workshop use\, adding to the overall functionality of the prope
 rty.\n\nThere are areas requiring attention\, including cow paddocks that
  need re-fencing and boundary fencing that should be inspected\, giving b
 uyers the opportunity to improve and tailor the property to their needs.\
 n\nKey Property Features:\n\n• 2 Bedrooms\n• 1 Bathroom\n• Covered carpor
 t\n• Home requires renovation and general improvements\n• Horse stables (
 require repairs)\n• Bird and chicken aviary\n• 4 bay shed\n• 2 x 5000 gal
 lon water tanks\n• 2 x 1500 gallon water tanks\n• 1 x 10\,000 gallon tank
  requiring seals replaced\n• Dam currently full\n• Septic system for sewe
 rage\n• Connected to town power\n• 2 cow paddocks (require re-fencing)\n•
  Boundary fencing requires inspection\n• Acreage property with strong pot
 ential to improve\n\nLifestyle & Location:\n\nLocated in Darts Creek\, th
 is property offers a quiet rural lifestyle with space\, privacy\, and the
  opportunity to create your own setup while still being within reach of G
 ladstone and surrounding areas.\n\nIf you're looking for a property where
  you can roll up your sleeves\, add value\, and enjoy the benefits of acr
 eage living\, 9 Vaughan Road presents a genuine opportunity.\n\nFor more 
 information or to arrange your inspection\, contact Jonty Britton on 0422
  649 270 or email jonty.britton@gladstone.rh.com.au\ntoday.\n\nDirections
  to Property:\nhttps://maps.app.goo.gl/aVDR4ZrttoGdqvGd6 \n\nDisclaimer:\
 nWhile we have made every effort to ensure the information provided is ac
 curate\, buyers are advised to conduct their own enquiries and due dilige
 nce as we cannot guarantee the accuracy of all details provided.
DTEND:20260426T123000
DTSTAMP:20260422T025011Z
DTSTART:20260426T120000
SEQUENCE:0
SUMMARY:Inspection: 9 Vaughan Road\, Darts Creek QLD
UID:CRE-2020775808-Inspection1
X-ALT-DESC;FMTTYPE=text/html:<!DOCTYPE HTML PUBLIC "-//W3C//DTD HTML 3.2//EN"><html><head><
 title></title></head><body><P DIR=LTR>Acreage Opportunity with Infrastruc
 ture and Renovation Potential <br/> Raine & Horne Gladstone is pleased to
  present 9 Vaughan Road\, Darts Creek\, a rural lifestyle property offeri
 ng space\, usable infrastructure\, and the opportunity to restore and cre
 ate something truly your own.\n <br/> \n <br/> Set on approximately 16.05
  hectares\, this property is well suited to buyers looking for a project\
 , hobby farm\, or acreage lifestyle in a peaceful rural setting.\n <br/> 
 \n <br/> The home itself is in need of renovation and general improvement
 s\, however it provides a solid starting point for those with vision\, of
 fering the chance to add value over time.\n <br/> \n <br/> The residence 
 includes two bedrooms and one bathroom\, along with a covered carport\, p
 roviding a basic foundation to build from while improvements are carried 
 out.\n <br/> \n <br/> Outside is where the property really starts to shin
 e\, with a range of existing rural infrastructure already in place. The p
 roperty includes horse stables (requiring some repairs)\, a bird and chic
 ken aviary\, and two cow paddocks\, making it ideal for those looking to 
 keep animals or establish a small-scale rural setup.\n <br/> \n <br/> Wat
 er supply is well supported with multiple tanks\, including 2 x 5000 gall
 on tanks and 2 x 1500 gallon tanks\, along with an additional 10\,000 gal
 lon tank requiring new seals. There is also a dam currently full\, adding
  further practicality to the land. The property is serviced by a septic s
 ystem for sewerage and town power connection.\n <br/> \n <br/> A 4 bay sh
 ed provides ample space for storage\, machinery\, or workshop use\, addin
 g to the overall functionality of the property.\n <br/> \n <br/> There ar
 e areas requiring attention\, including cow paddocks that need re-fencing
  and boundary fencing that should be inspected\, giving buyers the opport
 unity to improve and tailor the property to their needs.\n <br/> \n <br/>
  Key Property Features:\n <br/> \n <br/> • 2 Bedrooms\n <br/> • 1 Bathroo
 m\n <br/> • Covered carport\n <br/> • Home requires renovation and genera
 l improvements\n <br/> • Horse stables (require repairs)\n <br/> • Bird a
 nd chicken aviary\n <br/> • 4 bay shed\n <br/> • 2 x 5000 gallon water ta
 nks\n <br/> • 2 x 1500 gallon water tanks\n <br/> • 1 x 10\,000 gallon ta
 nk requiring seals replaced\n <br/> • Dam currently full\n <br/> • Septic
  system for sewerage\n <br/> • Connected to town power\n <br/> • 2 cow pa
 ddocks (require re-fencing)\n <br/> • Boundary fencing requires inspectio
 n\n <br/> • Acreage property with strong potential to improve\n <br/> \n 
 <br/> Lifestyle & Location:\n <br/> \n <br/> Located in Darts Creek\, thi
 s property offers a quiet rural lifestyle with space\, privacy\, and the 
 opportunity to create your own setup while still being within reach of Gl
 adstone and surrounding areas.\n <br/> \n <br/> If you're looking for a p
 roperty where you can roll up your sleeves\, add value\, and enjoy the be
 nefits of acreage living\, 9 Vaughan Road presents a genuine opportunity.
 \n <br/> \n <br/> For more information or to arrange your inspection\, co
 ntact Jonty Britton on 0422 649 270 or email jonty.britton@gladstone.rh.c
 om.au\n <br/> today.\n <br/> \n <br/> Directions to Property:\n <br/> htt
 ps://maps.app.goo.gl/aVDR4ZrttoGdqvGd6 \n <br/> \n <br/> Disclaimer:\n <b
 r/> While we have made every effort to ensure the information provided is
  accurate\, buyers are advised to conduct their own enquiries and due dil
 igence as we cannot guarantee the accuracy of all details provided.</P></
 body></html>
END:VEVENT
END:VCALENDAR
