BEGIN:VCALENDAR
PRODID:-//commercialrealestate.com.au//NONSGML ical.net 4.0//EN
VERSION:2.0
BEGIN:VEVENT
DESCRIPTION:The ultimate hills family lifestyle\nBest Offers By: 13/05/202
 6\n\nSubstantial and impressive in every respect\, this property offers s
 cenic land\, a beautiful home and extensive entertaining facilities\, all
  set within landscaped gardens. With stunning views in every direction\, 
 it truly ticks every box.\n \nPROPERTY HIGHLIGHTS:\n	40.79ha (approx. 100
  acres) at the end of a no-through road\n	Private valley setting with a s
 ubstantial dam\n	Gorgeous established gardens surround the home\n	Cottage
  Blend brick construction frames expansive living spaces\n	Extensive indo
 or and outdoor entertaining areas and facilities\n	Double garage\, double
  carport\, shedding complex and more\n	Approx. 400\,000 litres of water s
 torage capacity\n	Brilliant domestic fruit garden and still much more\n \
 nEntering the property from the end of Sires Road East\, the driveway gen
 tly rises in elevation on the approach to the residence. As the automated
  gates open\, an immediate sense of scale and quality unfolds before you.
 \n \nThe concrete driveway leads to extensive paving that surrounds a san
 dstone centred garden\, forming a circular layout designed for seamless m
 anoeuvrability and easy access to the shed\, double carport and double ga
 rage.\n \nThe home offers multiple entry points\, including direct intern
 al access from the under main roof double garage\, numerous sliding doors
 \, and a traditional front entrance featuring stained glass inserts. Livi
 ng spaces are plentiful and versatile. A formal lounge with a decorative 
 ceiling rose provides the perfect setting for refined entertaining or can
  easily function as a home theatre with its integrated sound.\n \nThe pro
 portions throughout the home are generous\, highlighted by the expansive 
 family room that comfortably accommodates a billiard table\, dining suite
  and more\, all complemented by a fully equipped bar. The slow combustion
  heater positioned in this area is ideal for cosy evenings with an endles
 s supply of firewood sourced from the property.\n \nOften considered the 
 heart of the home\, the fully updated kitchen is sure to impress. Featuri
 ng a 900mm induction cooktop\, built in oven and grill\, a new dishwasher
 \, walk in pantry\, abundant cabinetry and a large island bench\, this is
  a kitchen designed not just for cooking\, but for creating. An adjacent 
 casual meals area adds further flexibility.\n \nThe parents' wing offers 
 a private retreat\, with the oversized main bedroom accessed via a purpos
 eful office\, nursery or sitting room. With its easterly aspect\, it is p
 erfectly positioned to enjoy the morning sun.\n \nThe walk in robe and fl
 oor to ceiling\, heritage themed\, tiled ensuite are so well appointed th
 ey could support semi independent living.\n \nThe theme of generous propo
 rtions continues throughout the remaining bedrooms\, each capable of serv
 ing as a main bedroom.\n \nThe main bathroom mirrors the ensuite's qualit
 y\, whilst the laundry is brand new.\n \nEnhancing the sense of space are
  9 foot ceilings\, decorative floor tiling\, quality carpets and thoughtf
 ul furnishings throughout.\n \nA combination of ducted air-conditioning\,
  wood heating\, radiant heating and beautiful summer evening breezes will
  provide a comfortable climate year-round.\n \nThe home is further enhanc
 ed by a solar hot water service with a gas backup hot water system and a 
 13.5kW solar system\, approximately two years old\, supported by two 10kW
  Tesla batteries for excellent energy efficiency\n \nAs appealing as the 
 home is\, the outdoor spaces may prove even more enticing. Three undercov
 er entertaining areas allow for gatherings of any scale or quiet moments 
 of relaxation throughout the seasons. Options include a south facing gabl
 e roofed timber deck with endless views\, an enclosed paved entertaining 
 area and a stunning covered pool zone with adjoining patio\, semi enclose
 d deck\, outdoor kitchen\, change room and toilet. The inground fibreglas
 s pool features a blanket and solar heating\, while the adjacent separate
  hot tub provides the ultimate in indulgence or entertaining.\nAdditional
  facilities near the home include an impressive 36' x 30' garage with thr
 ee phase power\, ideal as a workshop. A mezzanine level enhances storage\
 , while an internal room offers flexibility as an office or music studio.
  The implement/tractor shed measures 25' x 12' and the double carport and
  double garage provide protected parking with direct access to both the h
 ome and the largest outdoor entertaining area.\n \nA well formed pathway 
 winds past aviaries to a fantastic chook enclosure and fruit forest. For 
 those who love growing\, harvesting and cooking with fresh produce\, the 
 variety of fruits\, vegetables and eggs will easily supply family and fri
 ends alike. Green thumbs will appreciate the propagation house\, allowing
  further expansion of the already established gardens.\n \nThese include 
 a large lawn area\, perfect for family cricket matches\, while charming g
 arden features such as an arbour\, birdhouses and more create a picturesq
 ue setting blending deciduous and ornamental plantings with bird attracti
 ng natives.\n \nBeyond the home surrounds\, approximately 100 acres of sc
 enic\, usable Hills land offers endless lifestyle possibilities. Currentl
 y lightly stocked\, the land features natural and planted timber\, rising
  beyond the valley that channels water to a large dam. Here\, canoeing an
 d kayaking can be enjoyed\, creating a true rural playground.\n \nLocated
  just north of the Kersbrook township\, it is an easy and pretty commute 
 from Adelaide's North East and northern suburbs.\n \nOnce you arrive\, yo
 u may never want to leave.\n\nCall NOW on 0488 972 888 for more informati
 on or to arrange a private inspection.\n\nCountry Estates Realty Pty Ltd 
 trading as CE Property Group RLA100925\n\nDisclaimer: \nDisclaimer: We th
 e agent\, make no guarantee the information is without mere errors and fu
 rther that the purchaser ought to make their own enquiries and seek profe
 ssional advice regarding the purchase. We the agent\, are not the source 
 of the information and we expressly disclaim any belief in the truth
DTEND:20260426T144500
DTSTAMP:20260420T062513Z
DTSTART:20260426T140000
SEQUENCE:0
SUMMARY:Inspection: 103 Sires Road East\, Kersbrook SA
UID:CRE-2020774592-Inspection1
X-ALT-DESC;FMTTYPE=text/html:<!DOCTYPE HTML PUBLIC "-//W3C//DTD HTML 3.2//EN"><html><head><
 title></title></head><body><P DIR=LTR>The ultimate hills family lifestyle
  <br/> Best Offers By: 13/05/2026 <br/>  <br/> Substantial and impressive
  in every respect\, this property offers scenic land\, a beautiful home a
 nd extensive entertaining facilities\, all set within landscaped gardens.
  With stunning views in every direction\, it truly ticks every box. <br/>
    <br/> PROPERTY HIGHLIGHTS: <br/> 	40.79ha (approx. 100 acres) at the e
 nd of a no-through road <br/> 	Private valley setting with a substantial 
 dam <br/> 	Gorgeous established gardens surround the home <br/> 	Cottage 
 Blend brick construction frames expansive living spaces <br/> 	Extensive 
 indoor and outdoor entertaining areas and facilities <br/> 	Double garage
 \, double carport\, shedding complex and more <br/> 	Approx. 400\,000 lit
 res of water storage capacity <br/> 	Brilliant domestic fruit garden and 
 still much more <br/>   <br/> Entering the property from the end of Sires
  Road East\, the driveway gently rises in elevation on the approach to th
 e residence. As the automated gates open\, an immediate sense of scale an
 d quality unfolds before you. <br/>   <br/> The concrete driveway leads t
 o extensive paving that surrounds a sandstone centred garden\, forming a 
 circular layout designed for seamless manoeuvrability and easy access to 
 the shed\, double carport and double garage. <br/>   <br/> The home offer
 s multiple entry points\, including direct internal access from the under
  main roof double garage\, numerous sliding doors\, and a traditional fro
 nt entrance featuring stained glass inserts. Living spaces are plentiful 
 and versatile. A formal lounge with a decorative ceiling rose provides th
 e perfect setting for refined entertaining or can easily function as a ho
 me theatre with its integrated sound. <br/>   <br/> The proportions throu
 ghout the home are generous\, highlighted by the expansive family room th
 at comfortably accommodates a billiard table\, dining suite and more\, al
 l complemented by a fully equipped bar. The slow combustion heater positi
 oned in this area is ideal for cosy evenings with an endless supply of fi
 rewood sourced from the property. <br/>   <br/> Often considered the hear
 t of the home\, the fully updated kitchen is sure to impress. Featuring a
  900mm induction cooktop\, built in oven and grill\, a new dishwasher\, w
 alk in pantry\, abundant cabinetry and a large island bench\, this is a k
 itchen designed not just for cooking\, but for creating. An adjacent casu
 al meals area adds further flexibility. <br/>   <br/> The parents' wing o
 ffers a private retreat\, with the oversized main bedroom accessed via a 
 purposeful office\, nursery or sitting room. With its easterly aspect\, i
 t is perfectly positioned to enjoy the morning sun. <br/>   <br/> The wal
 k in robe and floor to ceiling\, heritage themed\, tiled ensuite are so w
 ell appointed they could support semi independent living. <br/>   <br/> T
 he theme of generous proportions continues throughout the remaining bedro
 oms\, each capable of serving as a main bedroom. <br/>   <br/> The main b
 athroom mirrors the ensuite's quality\, whilst the laundry is brand new. 
 <br/>   <br/> Enhancing the sense of space are 9 foot ceilings\, decorati
 ve floor tiling\, quality carpets and thoughtful furnishings throughout. 
 <br/>   <br/> A combination of ducted air-conditioning\, wood heating\, r
 adiant heating and beautiful summer evening breezes will provide a comfor
 table climate year-round. <br/>   <br/> The home is further enhanced by a
  solar hot water service with a gas backup hot water system and a 13.5kW 
 solar system\, approximately two years old\, supported by two 10kW Tesla 
 batteries for excellent energy efficiency <br/>   <br/> As appealing as t
 he home is\, the outdoor spaces may prove even more enticing. Three under
 cover entertaining areas allow for gatherings of any scale or quiet momen
 ts of relaxation throughout the seasons. Options include a south facing g
 able roofed timber deck with endless views\, an enclosed paved entertaini
 ng area and a stunning covered pool zone with adjoining patio\, semi encl
 osed deck\, outdoor kitchen\, change room and toilet. The inground fibreg
 lass pool features a blanket and solar heating\, while the adjacent separ
 ate hot tub provides the ultimate in indulgence or entertaining. <br/> Ad
 ditional facilities near the home include an impressive 36' x 30' garage 
 with three phase power\, ideal as a workshop. A mezzanine level enhances 
 storage\, while an internal room offers flexibility as an office or music
  studio. The implement/tractor shed measures 25' x 12' and the double car
 port and double garage provide protected parking with direct access to bo
 th the home and the largest outdoor entertaining area. <br/>   <br/> A we
 ll formed pathway winds past aviaries to a fantastic chook enclosure and 
 fruit forest. For those who love growing\, harvesting and cooking with fr
 esh produce\, the variety of fruits\, vegetables and eggs will easily sup
 ply family and friends alike. Green thumbs will appreciate the propagatio
 n house\, allowing further expansion of the already established gardens. 
 <br/>   <br/> These include a large lawn area\, perfect for family cricke
 t matches\, while charming garden features such as an arbour\, birdhouses
  and more create a picturesque setting blending deciduous and ornamental 
 plantings with bird attracting natives. <br/>   <br/> Beyond the home sur
 rounds\, approximately 100 acres of scenic\, usable Hills land offers end
 less lifestyle possibilities. Currently lightly stocked\, the land featur
 es natural and planted timber\, rising beyond the valley that channels wa
 ter to a large dam. Here\, canoeing and kayaking can be enjoyed\, creatin
 g a true rural playground. <br/>   <br/> Located just north of the Kersbr
 ook township\, it is an easy and pretty commute from Adelaide's North Eas
 t and northern suburbs. <br/>   <br/> Once you arrive\, you may never wan
 t to leave. <br/>  <br/> Call NOW on 0488 972 888 for more information or
  to arrange a private inspection. <br/>  <br/> Country Estates Realty Pty
  Ltd trading as CE Property Group RLA100925 <br/>  <br/> Disclaimer:  <br
 /> Disclaimer: We the agent\, make no guarantee the information is withou
 t mere errors and further that the purchaser ought to make their own enqu
 iries and seek professional advice regarding the purchase. We the agent\,
  are not the source of the information and we expressly disclaim any beli
 ef in the truth</P></body></html>
END:VEVENT
END:VCALENDAR
