BEGIN:VCALENDAR
PRODID:-//commercialrealestate.com.au//NONSGML ical.net 4.0//EN
VERSION:2.0
BEGIN:VEVENT
DESCRIPTION:Wetlands\, Water Views & 3 Titles\nA rare opportunity to secur
 e a substantial lifestyle property of approximately 75.38 hectares (186 a
 cres) across three titles\, held within the same family for over 45 years
 . Originally operated as a dairy and more recently utilised for cattle an
 d horses\, the property offers flexibility\, space and outstanding natura
 l surroundings.\n\nIdeally located at the end of Randell Road\, the land 
 borders picturesque wetlands with stunning views across to the sand dunes
 . The area is rich in birdlife and wildlife\, enhanced by diverse reed be
 ds connected to the Coorong and positioned opposite the proposed National
  Park at Mundoo Island Station.\n\nThe property is offered as a whole or 
 may be considered as separate titles:\n Allotment 8: 20.65ha (51 acres) v
 acant land with mains water connected to a large concrete tank and access
  to power.\n\n 1408A: Approx. 25.5ha (63 acres) with a comfortable four-b
 edroom home (circa 1963 with 2000 extension)\, featuring kitchen/dining\,
  lounge\, air conditioning\, combustion heating\, verandahs\, shedding\, 
 stockyards and water infrastructure.\n\n 1408B: Approx. 29.23ha (72 acres
 ) with a modern four-bedroom Fairmont-built home (1999)\, two bathrooms\,
  multiple living areas\, undercover entertaining\, large garage/workshop\
 , tanks and implement shedding.\n\nAn ideal opportunity for extended fami
 ly living\, farming or tourism ventures (STCC)\, with enormous potential 
 to capitalise on the unique wetland setting.\n\nCouncil Rates: \n1408A $1
 \,693 p.a. + $46.55 levy\n1408B $2\,077.75 p.a. + $60.80 levy\n\nPrice Gu
 ide: Offers above $2.5 million.\n\nDisclaimer: We have in preparing this 
 information used our best endeavours to ensure that the information conta
 ined herein is true and accurate but accept no responsibility and disclai
 m all liability in respect of any errors\, omissions\, inaccuracies or mi
 sstatements that may occur. Prospective purchasers should make their own 
 enquiries to verify the information contained herein. RLA 62833
DTEND:20260426T133000
DTSTAMP:20260420T042114Z
DTSTART:20260426T130000
SEQUENCE:0
SUMMARY:Inspection: 1408a&b Randell Road\, Hindmarsh Island SA
UID:CRE-2020774180-Inspection1
X-ALT-DESC;FMTTYPE=text/html:<!DOCTYPE HTML PUBLIC "-//W3C//DTD HTML 3.2//EN"><html><head><
 title></title></head><body><P DIR=LTR>Wetlands\, Water Views & 3 Titles <
 br/> A rare opportunity to secure a substantial lifestyle property of app
 roximately 75.38 hectares (186 acres) across three titles\, held within t
 he same family for over 45 years. Originally operated as a dairy and more
  recently utilised for cattle and horses\, the property offers flexibilit
 y\, space and outstanding natural surroundings. <br/>  <br/> Ideally loca
 ted at the end of Randell Road\, the land borders picturesque wetlands wi
 th stunning views across to the sand dunes. The area is rich in birdlife 
 and wildlife\, enhanced by diverse reed beds connected to the Coorong and
  positioned opposite the proposed National Park at Mundoo Island Station.
  <br/>  <br/> The property is offered as a whole or may be considered as 
 separate titles: <br/>  Allotment 8: 20.65ha (51 acres) vacant land with 
 mains water connected to a large concrete tank and access to power. <br/>
   <br/>  1408A: Approx. 25.5ha (63 acres) with a comfortable four-bedroom
  home (circa 1963 with 2000 extension)\, featuring kitchen/dining\, loung
 e\, air conditioning\, combustion heating\, verandahs\, shedding\, stocky
 ards and water infrastructure. <br/>  <br/>  1408B: Approx. 29.23ha (72 a
 cres) with a modern four-bedroom Fairmont-built home (1999)\, two bathroo
 ms\, multiple living areas\, undercover entertaining\, large garage/works
 hop\, tanks and implement shedding. <br/>  <br/> An ideal opportunity for
  extended family living\, farming or tourism ventures (STCC)\, with enorm
 ous potential to capitalise on the unique wetland setting. <br/>  <br/> C
 ouncil Rates:  <br/> 1408A $1\,693 p.a. + $46.55 levy <br/> 1408B $2\,077
 .75 p.a. + $60.80 levy <br/>  <br/> Price Guide: Offers above $2.5 millio
 n. <br/>  <br/> Disclaimer: We have in preparing this information used ou
 r best endeavours to ensure that the information contained herein is true
  and accurate but accept no responsibility and disclaim all liability in 
 respect of any errors\, omissions\, inaccuracies or misstatements that ma
 y occur. Prospective purchasers should make their own enquiries to verify
  the information contained herein. RLA 62833</P></body></html>
END:VEVENT
END:VCALENDAR
