BEGIN:VCALENDAR
PRODID:-//commercialrealestate.com.au//NONSGML ical.net 4.0//EN
VERSION:2.0
BEGIN:VEVENT
DESCRIPTION:Framed by Trees\, Defined by Opportunity\nThere's something ra
 re about land like this. Not just the space\, but the feeling of possibil
 ity that comes with it.\n\nSet across approximately 7.79 hectares of beau
 tifully flat ground in the quiet surrounds of Flaxley\, this is a propert
 y that invites you to imagine what could be. Whether it's a considered ar
 chitectural home\, a lifestyle retreat\, or a place to simply slow down a
 nd spread out\, the canvas here is wide open.\n\nFraming the land\, a col
 lection of established English plane trees trace the perimeter\, offering
  a sense of structure and quiet beauty. As the seasons shift\, so too doe
 s the landscape\, from soft green canopies to warm autumn tones\, creatin
 g a setting that feels both grounding and ever-changing.\n\nThe beauty of
  this property lies in its simplicity. No constraints\, no compromises. J
 ust space\, light\, and the freedom to design something entirely your own
 . And with the added bonus of a fully equipped bore with license and powe
 r onsite - the opportunity here is as vast as your imagination.\n\nCouple
 d with the charm of the Adelaide Hills\, within easy reach of the city an
 d moments from Mount Barker\, this is an opportunity to create a home tha
 t reflects not just how you want to live\, but where.
DTEND:20260426T140000
DTSTAMP:20260422T111535Z
DTSTART:20260426T133000
SEQUENCE:0
SUMMARY:Inspection: 764 (sec 2989) Flaxley Road\, Flaxley SA
UID:CRE-2020768661-Inspection1
X-ALT-DESC;FMTTYPE=text/html:<!DOCTYPE HTML PUBLIC "-//W3C//DTD HTML 3.2//EN"><html><head><
 title></title></head><body><P DIR=LTR>Framed by Trees\, Defined by Opport
 unity <br/> There's something rare about land like this. Not just the spa
 ce\, but the feeling of possibility that comes with it.\n <br/> \n <br/> 
 Set across approximately 7.79 hectares of beautifully flat ground in the 
 quiet surrounds of Flaxley\, this is a property that invites you to imagi
 ne what could be. Whether it's a considered architectural home\, a lifest
 yle retreat\, or a place to simply slow down and spread out\, the canvas 
 here is wide open.\n <br/> \n <br/> Framing the land\, a collection of es
 tablished English plane trees trace the perimeter\, offering a sense of s
 tructure and quiet beauty. As the seasons shift\, so too does the landsca
 pe\, from soft green canopies to warm autumn tones\, creating a setting t
 hat feels both grounding and ever-changing.\n <br/> \n <br/> The beauty o
 f this property lies in its simplicity. No constraints\, no compromises. 
 Just space\, light\, and the freedom to design something entirely your ow
 n. And with the added bonus of a fully equipped bore with license and pow
 er onsite - the opportunity here is as vast as your imagination.\n <br/> 
 \n <br/> Coupled with the charm of the Adelaide Hills\, within easy reach
  of the city and moments from Mount Barker\, this is an opportunity to cr
 eate a home that reflects not just how you want to live\, but where.</P><
 /body></html>
END:VEVENT
END:VCALENDAR
