BEGIN:VCALENDAR
PRODID:-//commercialrealestate.com.au//NONSGML ical.net 4.0//EN
VERSION:2.0
BEGIN:VEVENT
DESCRIPTION:Elevated\, Enduring\, Exceptionally Rare\nIn the Adelaide Hill
 s\, land of this scale\, elevation and quality is becoming extraordinaril
 y rare.\n\nThis 12.52 acres (approx.) holding is not simply a block to bu
 ild on. It is the kind of land that surfaces once in a generation and is 
 quietly secured by those who understand its long-term value. Almost perfe
 ctly rectangular in shape\, it offers clarity and flexibility of design\,
  the possibility for a substantial residence to be positioned with intent
 ion on the gentle rise (STCC) \, capturing sweeping rural vistas and beau
 tiful morning light.\nFrom its elevated homesite\, the sense of openness 
 is immediate. There is space to create a home of presence and permanence.
  Imagine wide verandahs\, expansive glazing\, and gardens that evolve ove
 r decades rather than seasons. The topography lends itself naturally to a
  landmark rural residence that feels grounded in its landscape.\n\nA bore
  services the property\, adding genuine depth to its offering. It support
 s not only the establishment of significant gardens\, but the possibility
  of orchard rows\, hobby farming pursuits\, or carefully planned paddocks
 . This is acreage that offers both lifestyle and practicality\, a combina
 tion that is increasingly difficult to secure.\n\nMature English Plane tr
 ees are scattered across the land\, bringing seasonal colour and a sense 
 of heritage. A creek winds gently through the property\, a natural featur
 e that enhances both its beauty and its long-term appeal. These are the e
 lements that cannot be replicated\, only preserved and built around.\n\nA
 dding further practicality to the offering\, established cattle yards are
  included in the sale\, providing immediate infrastructure for livestock 
 management and reinforcing the property's versatility for grazing or rura
 l pursuits.\n\nMoments from Mount Barker yet entirely private in feel\, t
 his is a holding that demands consideration. Opportunities of this calibr
 e in the Adelaide Hills are few and far between. They are not easily repl
 aced.\n\nFor those seeking to establish something enduring\, something of
  scale and significance\, this is land worth preparing for.
DTEND:20260426T140000
DTSTAMP:20260422T111535Z
DTSTART:20260426T133000
SEQUENCE:0
SUMMARY:Inspection: 764 (lot 105) Flaxley Road\, Flaxley SA
UID:CRE-2020768649-Inspection1
X-ALT-DESC;FMTTYPE=text/html:<!DOCTYPE HTML PUBLIC "-//W3C//DTD HTML 3.2//EN"><html><head><
 title></title></head><body><P DIR=LTR>Elevated\, Enduring\, Exceptionally
  Rare <br/> In the Adelaide Hills\, land of this scale\, elevation and qu
 ality is becoming extraordinarily rare.\n <br/> \n <br/> This 12.52 acres
  (approx.) holding is not simply a block to build on. It is the kind of l
 and that surfaces once in a generation and is quietly secured by those wh
 o understand its long-term value. Almost perfectly rectangular in shape\,
  it offers clarity and flexibility of design\, the possibility for a subs
 tantial residence to be positioned with intention on the gentle rise (STC
 C) \, capturing sweeping rural vistas and beautiful morning light.\n <br/
 > From its elevated homesite\, the sense of openness is immediate. There 
 is space to create a home of presence and permanence. Imagine wide verand
 ahs\, expansive glazing\, and gardens that evolve over decades rather tha
 n seasons. The topography lends itself naturally to a landmark rural resi
 dence that feels grounded in its landscape.\n <br/> \n <br/> A bore servi
 ces the property\, adding genuine depth to its offering. It supports not 
 only the establishment of significant gardens\, but the possibility of or
 chard rows\, hobby farming pursuits\, or carefully planned paddocks. This
  is acreage that offers both lifestyle and practicality\, a combination t
 hat is increasingly difficult to secure.\n <br/> \n <br/> Mature English 
 Plane trees are scattered across the land\, bringing seasonal colour and 
 a sense of heritage. A creek winds gently through the property\, a natura
 l feature that enhances both its beauty and its long-term appeal. These a
 re the elements that cannot be replicated\, only preserved and built arou
 nd.\n <br/> \n <br/> Adding further practicality to the offering\, establ
 ished cattle yards are included in the sale\, providing immediate infrast
 ructure for livestock management and reinforcing the property's versatili
 ty for grazing or rural pursuits.\n <br/> \n <br/> Moments from Mount Bar
 ker yet entirely private in feel\, this is a holding that demands conside
 ration. Opportunities of this calibre in the Adelaide Hills are few and f
 ar between. They are not easily replaced.\n <br/> \n <br/> For those seek
 ing to establish something enduring\, something of scale and significance
 \, this is land worth preparing for.</P></body></html>
END:VEVENT
END:VCALENDAR
