BEGIN:VCALENDAR
PRODID:-//commercialrealestate.com.au//NONSGML ical.net 4.0//EN
VERSION:2.0
BEGIN:VEVENT
DESCRIPTION:107 Baloghs Road\, Anderleigh: Your Private Country Oasis\n163
  Acres of Space\, Privacy & Proper Country Living\n\nPicture this - a Sun
 day morning\, coffee in hand\, standing on the veranda as the mist lifts 
 over 163 acres (65.89ha) of your own piece of the Gympie hinterland. No t
 raffic. No close neighbours. Just birdsong\, fresh air\, and space. This 
 expansive property offers not just tranquility but also ample opportuniti
 es for outdoor activities\, including perfect terrain for kids' motorbike
 s and heaps of flat land ideal for horse stables and a horse arena.\n\nTh
 e Residence: Built for Comfort and Practicality\n\nSet at the heart of a 
 well-established acreage property\, this solid\, low-maintenance 4-bedroo
 m block home is built for practical country living. Verandas on both side
 s help keep the home cool year-round and create an easy indooroutdoor con
 nection that just works in this climate.\n\nInside\, you'll find a genero
 us country kitchen with gas cooktop\, wall oven and excellent storage\, f
 lowing into a spacious open-plan living area with air-conditioning and 2.
 65m ceilings that add a genuine sense of openness. All four bedrooms are 
 well sized\, and there's ample cupboard storage throughout the home.\n\nO
 utdoor Living & Extensive Infrastructure\n\nStep outside and the lifestyl
 e really kicks in - the kids straight into the pool\, framed by tropical 
 palms and open lawn\, perfect for long summer afternoons and relaxed week
 ends with family and friends.\n\nFor anyone needing room to work\, store 
 or create\, this property delivers in a big way:\n\n 6-bay shed\n\n Separ
 ate 3-bay shed (one bay enclosed)\n\n Lined shed with veranda\, toilet an
 d shower - ideal as a studio\, guest space or workspace\n\n Two shipping 
 containers with a covered area between - serious storage capacity\n\nUnma
 tched Water Security & Sustainable Living\n\nWater security is exceptiona
 lly well covered with six x 22\,500L tanks\, a substantial dam complete w
 ith its own island\, and a pump with pipeline connection to the house. Th
 is fantastic water supply ensures peace of mind for both household and ag
 ricultural needs. Solar panels and Solahart solar hot water help keep run
 ning costs manageable.\n\nThe Land: Versatile and Productive\n\nThe land 
 itself offers a mix of cleared grazing country and natural bushland. Whet
 her you're running horses\, cattle\, hobby farm animals\, or simply enjoy
 ing the privacy\, there's plenty of usable ground for stables\, arenas or
  additional infrastructure (STCA). The extensive flat land makes it parti
 cularly suitable for equestrian pursuits.\n\nConvenient Location\n\nAnd w
 hile it feels a world away\, you're still within practical reach:\n\n App
 rox. 17km to the local State School\n\n Just under 30km to Gympie for sho
 ps and high schools\n\n Around 45km to Tin Can Bay for weekends on the wa
 ter\n\nPrice Guide: $1\,300\,000  $1\,400\,000\n\nContact: Daniel Isaacs 
 - Gympie Property - 0436 010 444\n\nEvery care has been taken to verify t
 he accuracy of the information contained in this advertisement. However\,
  Gympie Property and its representatives provide no warranty of accuracy 
 and accept no responsibility for any errors\, omissions or inaccuracies. 
 Prospective purchasers should carry out their own investigations and due 
 diligence\, including but not limited to building\, pest and council enqu
 iries\, prior to entering into a contract of sale.
DTEND:20260426T120000
DTSTAMP:20260423T233525Z
DTSTART:20260426T110000
SEQUENCE:0
SUMMARY:Inspection: 107 Baloghs Road\, Anderleigh QLD
UID:CRE-2020665566-Inspection1
X-ALT-DESC;FMTTYPE=text/html:<!DOCTYPE HTML PUBLIC "-//W3C//DTD HTML 3.2//EN"><html><head><
 title></title></head><body><P DIR=LTR>107 Baloghs Road\, Anderleigh: Your
  Private Country Oasis <br/> 163 Acres of Space\, Privacy & Proper Countr
 y Living <br/>  <br/> Picture this - a Sunday morning\, coffee in hand\, 
 standing on the veranda as the mist lifts over 163 acres (65.89ha) of you
 r own piece of the Gympie hinterland. No traffic. No close neighbours. Ju
 st birdsong\, fresh air\, and space. This expansive property offers not j
 ust tranquility but also ample opportunities for outdoor activities\, inc
 luding perfect terrain for kids' motorbikes and heaps of flat land ideal 
 for horse stables and a horse arena. <br/>  <br/> The Residence: Built fo
 r Comfort and Practicality <br/>  <br/> Set at the heart of a well-establ
 ished acreage property\, this solid\, low-maintenance 4-bedroom block hom
 e is built for practical country living. Verandas on both sides help keep
  the home cool year-round and create an easy indooroutdoor connection tha
 t just works in this climate. <br/>  <br/> Inside\, you'll find a generou
 s country kitchen with gas cooktop\, wall oven and excellent storage\, fl
 owing into a spacious open-plan living area with air-conditioning and 2.6
 5m ceilings that add a genuine sense of openness. All four bedrooms are w
 ell sized\, and there's ample cupboard storage throughout the home. <br/>
   <br/> Outdoor Living & Extensive Infrastructure <br/>  <br/> Step outsi
 de and the lifestyle really kicks in - the kids straight into the pool\, 
 framed by tropical palms and open lawn\, perfect for long summer afternoo
 ns and relaxed weekends with family and friends. <br/>  <br/> For anyone 
 needing room to work\, store or create\, this property delivers in a big 
 way: <br/>  <br/>  6-bay shed <br/>  <br/>  Separate 3-bay shed (one bay 
 enclosed) <br/>  <br/>  Lined shed with veranda\, toilet and shower - ide
 al as a studio\, guest space or workspace <br/>  <br/>  Two shipping cont
 ainers with a covered area between - serious storage capacity <br/>  <br/
 > Unmatched Water Security & Sustainable Living <br/>  <br/> Water securi
 ty is exceptionally well covered with six x 22\,500L tanks\, a substantia
 l dam complete with its own island\, and a pump with pipeline connection 
 to the house. This fantastic water supply ensures peace of mind for both 
 household and agricultural needs. Solar panels and Solahart solar hot wat
 er help keep running costs manageable. <br/>  <br/> The Land: Versatile a
 nd Productive <br/>  <br/> The land itself offers a mix of cleared grazin
 g country and natural bushland. Whether you're running horses\, cattle\, 
 hobby farm animals\, or simply enjoying the privacy\, there's plenty of u
 sable ground for stables\, arenas or additional infrastructure (STCA). Th
 e extensive flat land makes it particularly suitable for equestrian pursu
 its. <br/>  <br/> Convenient Location <br/>  <br/> And while it feels a w
 orld away\, you're still within practical reach: <br/>  <br/>  Approx. 17
 km to the local State School <br/>  <br/>  Just under 30km to Gympie for 
 shops and high schools <br/>  <br/>  Around 45km to Tin Can Bay for weeke
 nds on the water <br/>  <br/> Price Guide: $1\,300\,000  $1\,400\,000 <br
 />  <br/> Contact: Daniel Isaacs - Gympie Property - 0436 010 444 <br/>  
 <br/> Every care has been taken to verify the accuracy of the information
  contained in this advertisement. However\, Gympie Property and its repre
 sentatives provide no warranty of accuracy and accept no responsibility f
 or any errors\, omissions or inaccuracies. Prospective purchasers should 
 carry out their own investigations and due diligence\, including but not 
 limited to building\, pest and council enquiries\, prior to entering into
  a contract of sale.</P></body></html>
END:VEVENT
END:VCALENDAR
