BEGIN:VCALENDAR
PRODID:-//commercialrealestate.com.au//NONSGML ical.net 4.0//EN
VERSION:2.0
BEGIN:VEVENT
DESCRIPTION:Luxury Architectural Living on 16 Acres  A Refined Country Ret
 reat Moments from Kyneton\nSet on an expansive 16 acres (approx.)\, this 
 impressive architectural residence seamlessly blends luxury\, functionali
 ty\, and intelligent design. Built by Metricon\, one of Australia's most 
 awarded builders\, and constructed using a quality combination of Hebel a
 nd Weathertex\, the home has been thoughtfully created to deliver outstan
 ding flexibility\, everyday liability\, and exceptional comfort. At its h
 eart is a superb entertainer's kitchen featuring premium appliances inclu
 ding a dual oven\, stone benchtops\, soft-close doors and drawers\, and a
  chef's dream butler's pantry. The open-plan design flows effortlessly in
 to multiple living zones\, while expansive glazing throughout captures pi
 cturesque garden vistas and fills the interiors with natural light.\n\nTh
 e home offers four generous bedrooms\, led by a master suite that deliver
 s a true hotel-style experience. Complete with a luxurious ensuite\, walk
 -in robe\, and an adjoining lounge or study\, it provides the perfect pri
 vate retreat and an ideal space for working from home. The remaining bedr
 ooms all include built-in robes\, ensuring excellent storage and comfort 
 for family or guests. A deep double garage of approximately 10.3 metres d
 eep\, adds outstanding versatility\, easily accommodating a workshop\, ho
 me gym\, or additional storage needs.\n\nDesigned with sustainability fro
 nt of mind\, the property is supported by two 110\,000-litre rainwater ta
 nks connected to the home\, along with an additional 30\,000-litre tank\,
  providing exceptional water security the current owners have never run o
 ut. Outdoor living is equally impressive\, with a fabulous alfresco area 
 showcasing sweeping panoramic views\, complemented by extensive landscapi
 ng and beautifully established gardens and a spa\, make this a truly fini
 shed property. Two substantial sheds\, both with concrete flooring\, furt
 her enhance the property's flexibility. For the horse enthusiast there ar
 e 5 paddocks ready to go!\n\nAdditional features include gas ducted heati
 ng throughout\, complemented by double glazing for year-round comfort\, a
  state-of-the-art security system with eight cameras and internal door de
 tectors\, and a fully integrated home theatre system. The thoughtfully cu
 rated outdoor spaces require nothing more to be done\, with established g
 ardens showcasing a lovely mix of native and deciduous shrubs and trees. 
 Located just minutes from Kyneton township\, with easy access to medical 
 facilities\, transport\, shopping\, and dining\, this exceptional propert
 y is perfectly suited to families\, professionals\, or those seeking spac
 e\, privacy\, and refined country living in a luxurious\, light-filled se
 tting.
DTEND:20260425T160000
DTSTAMP:20260423T213002Z
DTSTART:20260425T153000
SEQUENCE:0
SUMMARY:Inspection: 76 Harts Lane\, Kyneton VIC
UID:CRE-2020547994-Inspection1
X-ALT-DESC;FMTTYPE=text/html:<!DOCTYPE HTML PUBLIC "-//W3C//DTD HTML 3.2//EN"><html><head><
 title></title></head><body><P DIR=LTR>Luxury Architectural Living on 16 A
 cres  A Refined Country Retreat Moments from Kyneton <br/> Set on an expa
 nsive 16 acres (approx.)\, this impressive architectural residence seamle
 ssly blends luxury\, functionality\, and intelligent design. Built by Met
 ricon\, one of Australia's most awarded builders\, and constructed using 
 a quality combination of Hebel and Weathertex\, the home has been thought
 fully created to deliver outstanding flexibility\, everyday liability\, a
 nd exceptional comfort. At its heart is a superb entertainer's kitchen fe
 aturing premium appliances including a dual oven\, stone benchtops\, soft
 -close doors and drawers\, and a chef's dream butler's pantry. The open-p
 lan design flows effortlessly into multiple living zones\, while expansiv
 e glazing throughout captures picturesque garden vistas and fills the int
 eriors with natural light.\n <br/> \n <br/> The home offers four generous
  bedrooms\, led by a master suite that delivers a true hotel-style experi
 ence. Complete with a luxurious ensuite\, walk-in robe\, and an adjoining
  lounge or study\, it provides the perfect private retreat and an ideal s
 pace for working from home. The remaining bedrooms all include built-in r
 obes\, ensuring excellent storage and comfort for family or guests. A dee
 p double garage of approximately 10.3 metres deep\, adds outstanding vers
 atility\, easily accommodating a workshop\, home gym\, or additional stor
 age needs.\n <br/> \n <br/> Designed with sustainability front of mind\, 
 the property is supported by two 110\,000-litre rainwater tanks connected
  to the home\, along with an additional 30\,000-litre tank\, providing ex
 ceptional water security the current owners have never run out. Outdoor l
 iving is equally impressive\, with a fabulous alfresco area showcasing sw
 eeping panoramic views\, complemented by extensive landscaping and beauti
 fully established gardens and a spa\, make this a truly finished property
 . Two substantial sheds\, both with concrete flooring\, further enhance t
 he property's flexibility. For the horse enthusiast there are 5 paddocks 
 ready to go!\n <br/> \n <br/> Additional features include gas ducted heat
 ing throughout\, complemented by double glazing for year-round comfort\, 
 a state-of-the-art security system with eight cameras and internal door d
 etectors\, and a fully integrated home theatre system. The thoughtfully c
 urated outdoor spaces require nothing more to be done\, with established 
 gardens showcasing a lovely mix of native and deciduous shrubs and trees.
  Located just minutes from Kyneton township\, with easy access to medical
  facilities\, transport\, shopping\, and dining\, this exceptional proper
 ty is perfectly suited to families\, professionals\, or those seeking spa
 ce\, privacy\, and refined country living in a luxurious\, light-filled s
 etting.</P></body></html>
END:VEVENT
END:VCALENDAR
