BEGIN:VCALENDAR
PRODID:-//commercialrealestate.com.au//NONSGML ical.net 4.0//EN
VERSION:2.0
BEGIN:VEVENT
DESCRIPTION:25 Acres of Rural Serenity\nSet on 25 beautiful acres just 24 
 km from Casino\, this property delivers the ideal balance of peaceful cou
 ntry living and everyday convenience. With a spacious four bedroom home\,
  quality infrastructure\, and well-designed paddocks\, it's a standout ru
 ral holding ready for horses\, a few head of cattle\, or simply a relaxed
  lifestyle.\n\nThe inviting timber home is perfectly positioned to take i
 n the rural surrounds\, featuring a full length front verandah and a wide
  rear deck for year-round outdoor living. Inside\, the master suite enjoy
 s its own private wing with a walk-through wardrobe and ensuite. The rema
 ining three bedrooms\, all with built-ins\, sit alongside the three way f
 amily bathroom. Full length windows in every bedroom capture tranquil vie
 ws across the property.\n\nGenerous living spaces form the heart of the h
 ome. A comfortable lounge room adjoins a study and reading nook\, while t
 he light filled dining room\, complete with a wood burning fireplace\, op
 ens directly onto the back deck through large sliding doors. The adjoinin
 g kitchen is well appointed with excellent storage\, including a corner p
 antry\, and the oversized laundry adds further practicality with a large 
 linen cupboard (a second smaller linen cupboard is located near the famil
 y bathroom).\n\nThe rear deck is a standout feature\, offering a peaceful
  outlook toward Mongogarie Creek - the perfect setting for entertaining o
 r unwinding at the end of the day. Additional comforts include ducted air
 -conditioning\, beautiful timber flooring\, and a 7.5 kW solar system.\n\
 nThe acreage is equally impressive. Divided into four paddocks\, each wit
 h gravity fed water troughs supplied from a 1\,000 gallon tank filled fro
 m the creek\, the property is well set up for livestock. Steel cattle yar
 ds with a loading ramp\, dog kennels and run\, established shade trees\, 
 and well maintained fencing - including a paddock specifically fenced for
  sheep - complete the picture.\n\nOffering space\, privacy\, and excellen
 t infrastructure\, this property is ideal for buyers seeking a comfortabl
 e rural lifestyle within easy reach of Casino and the coast.  To arrange 
 your inspection\, contact Rob Horder 0439 135 125.
DTEND:20260502T103000
DTSTAMP:20260420T084942Z
DTSTART:20260502T100000
SEQUENCE:0
SUMMARY:Inspection: 920 Busbys Flat Road\, Mongogarie NSW
UID:CRE-2020538485-Inspection1
X-ALT-DESC;FMTTYPE=text/html:<!DOCTYPE HTML PUBLIC "-//W3C//DTD HTML 3.2//EN"><html><head><
 title></title></head><body><P DIR=LTR>25 Acres of Rural Serenity <br/> Se
 t on 25 beautiful acres just 24 km from Casino\, this property delivers t
 he ideal balance of peaceful country living and everyday convenience. Wit
 h a spacious four bedroom home\, quality infrastructure\, and well-design
 ed paddocks\, it's a standout rural holding ready for horses\, a few head
  of cattle\, or simply a relaxed lifestyle.\n <br/> \n <br/> The inviting
  timber home is perfectly positioned to take in the rural surrounds\, fea
 turing a full length front verandah and a wide rear deck for year-round o
 utdoor living. Inside\, the master suite enjoys its own private wing with
  a walk-through wardrobe and ensuite. The remaining three bedrooms\, all 
 with built-ins\, sit alongside the three way family bathroom. Full length
  windows in every bedroom capture tranquil views across the property.\n <
 br/> \n <br/> Generous living spaces form the heart of the home. A comfor
 table lounge room adjoins a study and reading nook\, while the light fill
 ed dining room\, complete with a wood burning fireplace\, opens directly 
 onto the back deck through large sliding doors. The adjoining kitchen is 
 well appointed with excellent storage\, including a corner pantry\, and t
 he oversized laundry adds further practicality with a large linen cupboar
 d (a second smaller linen cupboard is located near the family bathroom).\
 n <br/> \n <br/> The rear deck is a standout feature\, offering a peacefu
 l outlook toward Mongogarie Creek - the perfect setting for entertaining 
 or unwinding at the end of the day. Additional comforts include ducted ai
 r-conditioning\, beautiful timber flooring\, and a 7.5 kW solar system.\n
  <br/> \n <br/> The acreage is equally impressive. Divided into four padd
 ocks\, each with gravity fed water troughs supplied from a 1\,000 gallon 
 tank filled from the creek\, the property is well set up for livestock. S
 teel cattle yards with a loading ramp\, dog kennels and run\, established
  shade trees\, and well maintained fencing - including a paddock specific
 ally fenced for sheep - complete the picture.\n <br/> \n <br/> Offering s
 pace\, privacy\, and excellent infrastructure\, this property is ideal fo
 r buyers seeking a comfortable rural lifestyle within easy reach of Casin
 o and the coast.  To arrange your inspection\, contact Rob Horder 0439 13
 5 125.</P></body></html>
END:VEVENT
END:VCALENDAR
