BEGIN:VCALENDAR
PRODID:-//commercialrealestate.com.au//NONSGML ical.net 4.0//EN
VERSION:2.0
BEGIN:VEVENT
DESCRIPTION:This unique 4-bedroom\, 2-bathroom home offers a rare opportun
 ity.\nLive on this expansive land which offers endless possibilities. Enj
 oying the tranquillity\, surrounded by wildlife and bushland\, providing 
 a peaceful retreat\, while still being within reach of Melbourne's amenit
 ies. Easy access to public transport options and the Western Freeway. Clo
 se to Melton Secondary College\, shopping centres and other educational i
 nstitutions.\n\n	Four generously sized Bedrooms with built-in robes.\n	Mu
 ltiple living zones\, including a formal lounge and open-plan family room
 .\n	Well-equipped kitchen with ample storage and bench space.\n	Two Bathr
 ooms- convenient for families.\n	Multiple car spaces\, including a double
  garage.\nPartly furnished \n \nDon't miss out-this one won't last long! 
 \n\nBook your inspection today!\n\n**PLEASE NOTE - IMPORTANT** INSPECTION
  TIMES will be displayed on this page when the property is ready for view
 ing. They are subject to cancellation or change until 5.00pm the day befo
 re the open. Please check this page prior to attending any inspections.
DTEND:20260424T121500
DTSTAMP:20260422T022130Z
DTSTART:20260424T120000
SEQUENCE:0
SUMMARY:Inspection: 2 Shamrock Place\, Melton West VIC
UID:CRE-18084769-Inspection1
X-ALT-DESC;FMTTYPE=text/html:<!DOCTYPE HTML PUBLIC "-//W3C//DTD HTML 3.2//EN"><html><head><
 title></title></head><body><P DIR=LTR>This unique 4-bedroom\, 2-bathroom 
 home offers a rare opportunity. <br/> Live on this expansive land which o
 ffers endless possibilities. Enjoying the tranquillity\, surrounded by wi
 ldlife and bushland\, providing a peaceful retreat\, while still being wi
 thin reach of Melbourne's amenities. Easy access to public transport opti
 ons and the Western Freeway. Close to Melton Secondary College\, shopping
  centres and other educational institutions. <br/>  <br/> 	Four generousl
 y sized Bedrooms with built-in robes. <br/> 	Multiple living zones\, incl
 uding a formal lounge and open-plan family room. <br/> 	Well-equipped kit
 chen with ample storage and bench space. <br/> 	Two Bathrooms- convenient
  for families. <br/> 	Multiple car spaces\, including a double garage. <b
 r/> Partly furnished  <br/>   <br/> Don't miss out-this one won't last lo
 ng!  <br/>  <br/> Book your inspection today! <br/>  <br/> **PLEASE NOTE 
 - IMPORTANT** INSPECTION TIMES will be displayed on this page when the pr
 operty is ready for viewing. They are subject to cancellation or change u
 ntil 5.00pm the day before the open. Please check this page prior to atte
 nding any inspections.</P></body></html>
END:VEVENT
END:VCALENDAR
