BEGIN:VCALENDAR
PRODID:-//commercialrealestate.com.au//NONSGML ical.net 4.0//EN
VERSION:2.0
BEGIN:VEVENT
DESCRIPTION:What's Green Now\, May be Gold in the Future\nAllard Shelton w
 ith Cushman & Wakefield are pleased to offer a landmark landholding withi
 n Melbourne's tightly held south-east\, 494510 Boundary Road\, Dingley Vi
 llage presents a rare opportunity to secure scale\, connectivity and long
 -term strategic upside within one of the city's most tightly controlled g
 reen wedge corridors.\n\nSet on an expansive 9.74-hectares* (97\,400 sqm*
 ) and positioned within the GWZ2  Green Wedge Zone 2\, the property offer
 s a compelling combination of holding income\, future flexibility (STCA) 
 and long-term land banking appeal\, in a market where substantial parcels
  are increasingly scarce.\n\nFeaturing an impressive 115.22 metres of fro
 ntage to Boundary Road* and a prominent east-facing orientation\, the sit
 e provides excellent exposure\, accessibility and presence along a key ar
 terial thoroughfare.\n\nIdeally located within Melbourne's south-east tra
 nsport network\, the property benefits from direct access to:\n- Morningt
 on Peninsula Freeway (M11)\n- Boundary Road and Junction Road\n- Monash F
 reeway (M1)\n- EastLink and Peninsula Link\n\nThe site is surrounded by a
  well-established mix of amenity\, employment hubs and major retail desti
 nations\, including:\n- Dingley Village  a tightly held residential preci
 nct\n- Parkmore Shopping Centre  a major regional retail hub\n- Braeside 
 Park  extensive parkland and environmental asset\n- Moorabbin Airport  a 
 key employment and logistics centre\n\nThis strategic location is underpi
 nned by strong population growth\, established infrastructure and sustain
 ed demand for land-rich assets across Melbourne's south-east.\n\nOpportun
 ities of this scale within the green wedge are exceptionally rare. Define
 d by its size\, frontage\, connectivity and future potential\, the proper
 ty is ideally suited to:\n- Long-term land banking\n- Future development 
 (STCA)\n- Occupier or infrastructure-related uses (existing Truck Permit 
 in place)\n\nFor Sale by Expressions of Interest closing Thursday 28 May 
 at 2pm\n\nA generational offering in a tightly held corridor where assets
  of this scale seldom come to market.\n\n*approx
DTEND:20260528T140000
DTSTAMP:20260424T100611Z
DTSTART:20260528T140000
SEQUENCE:0
SUMMARY:Expression Of Interest: For Sale/494-510 Boundary Road\, Dingley V
 illage VIC
UID:CRE-2020788808-EOI
X-ALT-DESC;FMTTYPE=text/html:<!DOCTYPE HTML PUBLIC "-//W3C//DTD HTML 3.2//EN"><html><head><
 title></title></head><body><P DIR=LTR>What's Green Now\, May be Gold in t
 he Future <br/> Allard Shelton with Cushman & Wakefield are pleased to of
 fer a landmark landholding within Melbourne's tightly held south-east\, 4
 94510 Boundary Road\, Dingley Village presents a rare opportunity to secu
 re scale\, connectivity and long-term strategic upside within one of the 
 city's most tightly controlled green wedge corridors. <br/>  <br/> Set on
  an expansive 9.74-hectares* (97\,400 sqm*) and positioned within the GWZ
 2  Green Wedge Zone 2\, the property offers a compelling combination of h
 olding income\, future flexibility (STCA) and long-term land banking appe
 al\, in a market where substantial parcels are increasingly scarce. <br/>
   <br/> Featuring an impressive 115.22 metres of frontage to Boundary Roa
 d* and a prominent east-facing orientation\, the site provides excellent 
 exposure\, accessibility and presence along a key arterial thoroughfare. 
 <br/>  <br/> Ideally located within Melbourne's south-east transport netw
 ork\, the property benefits from direct access to: <br/> - Mornington Pen
 insula Freeway (M11) <br/> - Boundary Road and Junction Road <br/> - Mona
 sh Freeway (M1) <br/> - EastLink and Peninsula Link <br/>  <br/> The site
  is surrounded by a well-established mix of amenity\, employment hubs and
  major retail destinations\, including: <br/> - Dingley Village  a tightl
 y held residential precinct <br/> - Parkmore Shopping Centre  a major reg
 ional retail hub <br/> - Braeside Park  extensive parkland and environmen
 tal asset <br/> - Moorabbin Airport  a key employment and logistics centr
 e <br/>  <br/> This strategic location is underpinned by strong populatio
 n growth\, established infrastructure and sustained demand for land-rich 
 assets across Melbourne's south-east. <br/>  <br/> Opportunities of this 
 scale within the green wedge are exceptionally rare. Defined by its size\
 , frontage\, connectivity and future potential\, the property is ideally 
 suited to: <br/> - Long-term land banking <br/> - Future development (STC
 A) <br/> - Occupier or infrastructure-related uses (existing Truck Permit
  in place) <br/>  <br/> For Sale by Expressions of Interest closing Thurs
 day 28 May at 2pm <br/>  <br/> A generational offering in a tightly held 
 corridor where assets of this scale seldom come to market. <br/>  <br/> *
 approx</P></body></html>
END:VEVENT
END:VCALENDAR
