BEGIN:VCALENDAR
PRODID:-//commercialrealestate.com.au//NONSGML ical.net 4.0//EN
VERSION:2.0
BEGIN:VEVENT
DESCRIPTION:Mortgagee In Possesion Sale EOI Ending 5 June 2026 at 5 PM\nSi
 te Area: 7929 SQM*\nSite Zoning: GRZ1\n\n- Mortgagee sale presenting a ra
 re opportunity in a tightly held infill location\n- Site offers a scope o
 f multiple uses STCA\, including residential\, childcare\,     medical or
  aged care.\n- Walking distance to Middle Gorge Train Station on the Mern
 da Line\n- Immediate proximity to Westfield Plenty Valley\, HomeCo\, and 
 South Morang               Central\n- Aligned with northern growth corrid
 or momentum\n\nMortgagee In Possesion Sale EOI Ending 5 June 2026 at 5 PM
 \n\nFor further information or to arrange an inspection\, please contact 
 Goldy Sharma on 0422 460 285 or Sukhdeep Singh on 0412 003 466.\n\nNote: 
 Due Diligence Checklist: http://www.consumer.vic.gov.au/duediligencecheck
 list\n\nDisclaimer: Photos\, measurements\, and floor plans are provided 
 for general reference only. While every effort has been made to ensure ac
 curacy\, variations may exist\, and interested parties should rely on the
 ir own inspections\, surveys\, and legal advice. All dimensions are appro
 ximate\, information is provided for general guidance only\, and does not
  represent a vendor or agent's offer.
DTEND:20260605T120000
DTSTAMP:20260424T100612Z
DTSTART:20260605T120000
SEQUENCE:0
SUMMARY:Expression Of Interest: 33 Old Plenty Road\, South Morang VIC
UID:CRE-2020788546-EOI
X-ALT-DESC;FMTTYPE=text/html:<!DOCTYPE HTML PUBLIC "-//W3C//DTD HTML 3.2//EN"><html><head><
 title></title></head><body><P DIR=LTR>Mortgagee In Possesion Sale EOI End
 ing 5 June 2026 at 5 PM <br/> Site Area: 7929 SQM* <br/> Site Zoning: GRZ
 1 <br/>  <br/> - Mortgagee sale presenting a rare opportunity in a tightl
 y held infill location <br/> - Site offers a scope of multiple uses STCA\
 , including residential\, childcare\,     medical or aged care. <br/> - W
 alking distance to Middle Gorge Train Station on the Mernda Line <br/> - 
 Immediate proximity to Westfield Plenty Valley\, HomeCo\, and South Moran
 g               Central <br/> - Aligned with northern growth corridor mom
 entum <br/>  <br/> Mortgagee In Possesion Sale EOI Ending 5 June 2026 at 
 5 PM <br/>  <br/> For further information or to arrange an inspection\, p
 lease contact Goldy Sharma on 0422 460 285 or Sukhdeep Singh on 0412 003 
 466. <br/>  <br/> Note: Due Diligence Checklist: http://www.consumer.vic.
 gov.au/duediligencechecklist <br/>  <br/> Disclaimer: Photos\, measuremen
 ts\, and floor plans are provided for general reference only. While every
  effort has been made to ensure accuracy\, variations may exist\, and int
 erested parties should rely on their own inspections\, surveys\, and lega
 l advice. All dimensions are approximate\, information is provided for ge
 neral guidance only\, and does not represent a vendor or agent's offer.</
 P></body></html>
END:VEVENT
END:VCALENDAR
