BEGIN:VCALENDAR
PRODID:-//commercialrealestate.com.au//NONSGML ical.net 4.0//EN
VERSION:2.0
BEGIN:VEVENT
DESCRIPTION:Occupy & Thrive  Quality Office/Warehouse in Central Hallam\nF
 acey Property proudly presents this exceptional office/warehouse for sale
  via Expression of Interest\, closing Tuesday\, 26 May at 4 pm.\n\nThe pr
 operty is currently leased\, returning $109\,174 per annum\, with the lea
 se expiring on 30 July 2026. The tenant has provided notice to vacate at 
 the end of the term\, presenting a compelling opportunity for both owner-
 occupiers and investors seeking future rental upside.\n\nThe property boa
 sts approximately 416m² of well-appointed\, air-conditioned office space 
 across two levels. Featuring three partitioned offices\, a boardroom\, a 
 kitchenette\, amenities\, and a generous open-plan workspace\, it provide
 s a highly functional and professional environment suited to a range of a
 dministrative and business operations.\n\nSupporting the office is a high
 -clearance 650m² warehouse\, equipped with an electric roller door\, 3-ph
 ase power\, separate amenities\, a dedicated lunchroom\, and an alarm sys
 tem\, making it ideal for various industrial uses requiring efficiency an
 d flexibility.\n\nAdditional features include ample on-site parking and 2
 4/7 video surveillance throughout the complex\, providing enhanced securi
 ty and convenience for occupiers.\n\nLocated just minutes from key arteri
 al roads\, including the South Gippsland Freeway\, South Gippsland Highwa
 y\, Princes Highway\, and Monash Freeway\, the property offers outstandin
 g connectivity to Melbourne's wider transport network.\n\nAn opportunity 
 of this calibre is rarely available.\n\nEnquire at www.faceyproperty.com.
 au to make your next move.
DTEND:20260526T160000
DTSTAMP:20260424T082838Z
DTSTART:20260526T160000
SEQUENCE:0
SUMMARY:Expression Of Interest: Unit 1/13-14 National Drive\, Hallam VIC
UID:CRE-2020787963-EOI
X-ALT-DESC;FMTTYPE=text/html:<!DOCTYPE HTML PUBLIC "-//W3C//DTD HTML 3.2//EN"><html><head><
 title></title></head><body><P DIR=LTR>Occupy & Thrive  Quality Office/War
 ehouse in Central Hallam <br/> Facey Property proudly presents this excep
 tional office/warehouse for sale via Expression of Interest\, closing Tue
 sday\, 26 May at 4 pm. <br/>  <br/> The property is currently leased\, re
 turning $109\,174 per annum\, with the lease expiring on 30 July 2026. Th
 e tenant has provided notice to vacate at the end of the term\, presentin
 g a compelling opportunity for both owner-occupiers and investors seeking
  future rental upside. <br/>  <br/> The property boasts approximately 416
 m² of well-appointed\, air-conditioned office space across two levels. Fe
 aturing three partitioned offices\, a boardroom\, a kitchenette\, ameniti
 es\, and a generous open-plan workspace\, it provides a highly functional
  and professional environment suited to a range of administrative and bus
 iness operations. <br/>  <br/> Supporting the office is a high-clearance 
 650m² warehouse\, equipped with an electric roller door\, 3-phase power\,
  separate amenities\, a dedicated lunchroom\, and an alarm system\, makin
 g it ideal for various industrial uses requiring efficiency and flexibili
 ty. <br/>  <br/> Additional features include ample on-site parking and 24
 /7 video surveillance throughout the complex\, providing enhanced securit
 y and convenience for occupiers. <br/>  <br/> Located just minutes from k
 ey arterial roads\, including the South Gippsland Freeway\, South Gippsla
 nd Highway\, Princes Highway\, and Monash Freeway\, the property offers o
 utstanding connectivity to Melbourne's wider transport network. <br/>  <b
 r/> An opportunity of this calibre is rarely available. <br/>  <br/> Enqu
 ire at www.faceyproperty.com.au to make your next move.</P></body></html>
END:VEVENT
END:VCALENDAR
