BEGIN:VCALENDAR
PRODID:-//commercialrealestate.com.au//NONSGML ical.net 4.0//EN
VERSION:2.0
BEGIN:VEVENT
DESCRIPTION:PREMIUM FREEHOLD WAREHOUSE\nCrabtrees Real Estate are pleased 
 to offer 41-45 Williams Road\, Dandenong South for SALE via Expression of
  Interest closing Thursday 28th May at 3pm. \n\nThis clean and tidy stand
 -alone building comprises a total building area of 1\,361 sqm*\, on a lar
 ge land allotment of 2\,186 sqm*. It boasts the enviable combination of h
 igh clearance warehouse (810 sqm*) with front and rear container height m
 otorised roller door access\, and an accompanying impressive professional
  open plan office and meeting room fit out (551 sqm*). \n\nWith ample car
  parking\, supported by additional side and rear car parking or secure ya
 rd area\, this spacious property is conveniently located in the high-grow
 th corridor of Dandenong South\, with close proximity to the South Gippsl
 and Highway providing quick access to the Princes Highway\, Monash Freewa
 y\, EastLink and the Dandenong/Dingley Bypass.\n\nKey Features Include:\n
 \n+ Absolute prime location\, with valuable street frontage\n+ Substantia
 l stand-alone building: 1\,361 sqm*\n+ Impressive land area: 2\,186 sqm*\
 n+ Generous office and functional warehouse configuration\n+ Three (3) Ph
 ase power\n+ Secure front and rear yard space/additional parking bays\n+ 
 Three (3) motorised container height roller doors\n+ Sold with Vacant Pos
 session \n+ Public transport available on Greens Road\n(*Approx.)\n\nLoca
 ted in one of Dandenong's most tightly held industrial precincts\, perfec
 tly positioned in a prime growth-corridor\, 41-45 Williams Road ticks all
  the boxes!\n\nCrabtrees Real Estate is built on history\, reputation and
  expertise. \n\nWe offer a level of knowledge others can't match. \n\nOur
  team strategically located across the eastern and south eastern corridor
 s of Melbourne are ready to handle your Commercial\, Industrial and Retai
 l Property needs today so call or email NOW!
DTEND:20260528T150000
DTSTAMP:20260424T075504Z
DTSTART:20260528T150000
SEQUENCE:0
SUMMARY:Expression Of Interest: 41-45 Williams Road\, Dandenong South VIC
UID:CRE-2020787810-EOI
X-ALT-DESC;FMTTYPE=text/html:<!DOCTYPE HTML PUBLIC "-//W3C//DTD HTML 3.2//EN"><html><head><
 title></title></head><body><P DIR=LTR>PREMIUM FREEHOLD WAREHOUSE <br/> Cr
 abtrees Real Estate are pleased to offer 41-45 Williams Road\, Dandenong 
 South for SALE via Expression of Interest closing Thursday 28th May at 3p
 m. \n <br/> \n <br/> This clean and tidy stand-alone building comprises a
  total building area of 1\,361 sqm*\, on a large land allotment of 2\,186
  sqm*. It boasts the enviable combination of high clearance warehouse (81
 0 sqm*) with front and rear container height motorised roller door access
 \, and an accompanying impressive professional open plan office and meeti
 ng room fit out (551 sqm*). \n <br/> \n <br/> With ample car parking\, su
 pported by additional side and rear car parking or secure yard area\, thi
 s spacious property is conveniently located in the high-growth corridor o
 f Dandenong South\, with close proximity to the South Gippsland Highway p
 roviding quick access to the Princes Highway\, Monash Freeway\, EastLink 
 and the Dandenong/Dingley Bypass.\n <br/> \n <br/> Key Features Include:\
 n <br/> \n <br/> + Absolute prime location\, with valuable street frontag
 e\n <br/> + Substantial stand-alone building: 1\,361 sqm*\n <br/> + Impre
 ssive land area: 2\,186 sqm*\n <br/> + Generous office and functional war
 ehouse configuration\n <br/> + Three (3) Phase power\n <br/> + Secure fro
 nt and rear yard space/additional parking bays\n <br/> + Three (3) motori
 sed container height roller doors\n <br/> + Sold with Vacant Possession \
 n <br/> + Public transport available on Greens Road\n <br/> (*Approx.)\n 
 <br/> \n <br/> Located in one of Dandenong's most tightly held industrial
  precincts\, perfectly positioned in a prime growth-corridor\, 41-45 Will
 iams Road ticks all the boxes!\n <br/> \n <br/> Crabtrees Real Estate is 
 built on history\, reputation and expertise. \n <br/> \n <br/> We offer a
  level of knowledge others can't match. \n <br/> \n <br/> Our team strate
 gically located across the eastern and south eastern corridors of Melbour
 ne are ready to handle your Commercial\, Industrial and Retail Property n
 eeds today so call or email NOW!</P></body></html>
END:VEVENT
END:VCALENDAR
