BEGIN:VCALENDAR
PRODID:-//commercialrealestate.com.au//NONSGML ical.net 4.0//EN
VERSION:2.0
BEGIN:VEVENT
DESCRIPTION:LANDMARK RETAIL CORNER  FIRST TIME OFFERED IN OVER 40 YEARS!\n
 Shead Property are delighted to be appointed exclusive selling and market
 ing agents for 457 - 459 Victoria Avenue\, Chatswood - an outstanding two
  storey\, freehold retail building positioned on a landmark corner direct
 ly opposite Chatswood Interchange.\n\nHeld in the same family ownership f
 or over 40 years\, this is the first time the property has been offered t
 o the market in decades\, underscoring the tightly held nature of this bl
 ue-chip corner location. The building\, is currently leased to a long ter
 m established cake shop and a pilates studio\, with the third tenancy now
  vacant\, previously 7 Eleven. This provides a compelling combination of 
 immediate income and flexibility for owner-occupiers or investors seeking
  to reposition or enhance the asset.\n\nProminently situated on a Chatswo
 od landmark corner with dual street frontages\, the two-storey property b
 enefits from exceptional exposure directly opposite Chatswood Interchange
 \, one of the North Shore's busiest transport hubs. The location experien
 ces constant pedestrian traffic and is surrounded by high rise office and
  residential towers\, major retail centres and dining precincts\, further
  cementing its status as one of metropolitan Sydney's most sought-after i
 nvestment destinations.\n\nChatswood is set for significant growth\, supp
 orted by a strong pipeline of high-density residential and mixed-use deve
 lopments\, including major projects delivering new apartments\, retail pr
 ecincts\, and enhanced public spaces. Government-led initiatives and priv
 ate developments around the CBD and transport interchange will drive incr
 eased population density\, improved connectivity\, and greater amenity\, 
 further reinforcing its position as a key commercial and transport hub on
  Sydney's North Shore. In this context\, the property's strategic positio
 ning\, strong foot traffic\, and immediate proximity to key transport inf
 rastructure ensure ongoing tenant demand and long-term investment appeal\
 , making it exceptionally well placed to capitalise on future growth and 
 redevelopment potential.\n\n\nKey Features:\n Landmark Retail Corner \n T
 wo storey freehold opportunity \n Three-tenancy configuration\n Land area
  - approximately 194 sqm\n Building Area  316.3 sqm \n Estimated Net Rent
 al - $347\,098 pa net ex GST (Fully Leased Basis)\n Strong passing foot t
 raffic opposite Chatswood Interchange\n Surrounded by major retail\, dini
 ng and transport amenities\n\nThis is a unique opportunity to secure a ti
 ghtly held asset in one of Sydney's most dynamic metropolitan centres. Wi
 th its strategic location\, diverse income profile and future upside\, 45
 7 - 459 Victoria Avenue offers both security and long-term growth potenti
 al.\n\nExpressions of Interest closing 4pm Friday 22 May 2026.\n\nFor fur
 ther information\, please contact:\n\nBill Geroulis\n0413 100 200 | bill@
 shead.com.au\n\nIvor Zhou\n0430 248 867 | i.zhou@shead.com.au\n\nRick Som
 broek\n0412 280 181 | rick@shead.com.au\n\nDisclaimer: All data is provid
 ed for information purposes only and while all care is taken in its prese
 ntation\, Shead Property does not guarantee or warrant the accuracy\, com
 pleteness or currency of the information.
DTEND:20260522T120000
DTSTAMP:20260424T075505Z
DTSTART:20260522T120000
SEQUENCE:0
SUMMARY:Expression Of Interest: 457-459 Victoria Avenue\, Chatswood NSW
UID:CRE-2020787743-EOI
X-ALT-DESC;FMTTYPE=text/html:<!DOCTYPE HTML PUBLIC "-//W3C//DTD HTML 3.2//EN"><html><head><
 title></title></head><body><P DIR=LTR>LANDMARK RETAIL CORNER  FIRST TIME 
 OFFERED IN OVER 40 YEARS! <br/> Shead Property are delighted to be appoin
 ted exclusive selling and marketing agents for 457 - 459 Victoria Avenue\
 , Chatswood - an outstanding two storey\, freehold retail building positi
 oned on a landmark corner directly opposite Chatswood Interchange. <br/> 
  <br/> Held in the same family ownership for over 40 years\, this is the 
 first time the property has been offered to the market in decades\, under
 scoring the tightly held nature of this blue-chip corner location. The bu
 ilding\, is currently leased to a long term established cake shop and a p
 ilates studio\, with the third tenancy now vacant\, previously 7 Eleven. 
 This provides a compelling combination of immediate income and flexibilit
 y for owner-occupiers or investors seeking to reposition or enhance the a
 sset. <br/>  <br/> Prominently situated on a Chatswood landmark corner wi
 th dual street frontages\, the two-storey property benefits from exceptio
 nal exposure directly opposite Chatswood Interchange\, one of the North S
 hore's busiest transport hubs. The location experiences constant pedestri
 an traffic and is surrounded by high rise office and residential towers\,
  major retail centres and dining precincts\, further cementing its status
  as one of metropolitan Sydney's most sought-after investment destination
 s. <br/>  <br/> Chatswood is set for significant growth\, supported by a 
 strong pipeline of high-density residential and mixed-use developments\, 
 including major projects delivering new apartments\, retail precincts\, a
 nd enhanced public spaces. Government-led initiatives and private develop
 ments around the CBD and transport interchange will drive increased popul
 ation density\, improved connectivity\, and greater amenity\, further rei
 nforcing its position as a key commercial and transport hub on Sydney's N
 orth Shore. In this context\, the property's strategic positioning\, stro
 ng foot traffic\, and immediate proximity to key transport infrastructure
  ensure ongoing tenant demand and long-term investment appeal\, making it
  exceptionally well placed to capitalise on future growth and redevelopme
 nt potential. <br/>  <br/>  <br/> Key Features: <br/>  Landmark Retail Co
 rner  <br/>  Two storey freehold opportunity  <br/>  Three-tenancy config
 uration <br/>  Land area - approximately 194 sqm <br/>  Building Area  31
 6.3 sqm  <br/>  Estimated Net Rental - $347\,098 pa net ex GST (Fully Lea
 sed Basis) <br/>  Strong passing foot traffic opposite Chatswood Intercha
 nge <br/>  Surrounded by major retail\, dining and transport amenities <b
 r/>  <br/> This is a unique opportunity to secure a tightly held asset in
  one of Sydney's most dynamic metropolitan centres. With its strategic lo
 cation\, diverse income profile and future upside\, 457 - 459 Victoria Av
 enue offers both security and long-term growth potential. <br/>  <br/> Ex
 pressions of Interest closing 4pm Friday 22 May 2026. <br/>  <br/> For fu
 rther information\, please contact: <br/>  <br/> Bill Geroulis <br/> 0413
  100 200 | bill@shead.com.au <br/>  <br/> Ivor Zhou <br/> 0430 248 867 | 
 i.zhou@shead.com.au <br/>  <br/> Rick Sombroek <br/> 0412 280 181 | rick@
 shead.com.au <br/>  <br/> Disclaimer: All data is provided for informatio
 n purposes only and while all care is taken in its presentation\, Shead P
 roperty does not guarantee or warrant the accuracy\, completeness or curr
 ency of the information.</P></body></html>
END:VEVENT
END:VCALENDAR
