BEGIN:VCALENDAR
PRODID:-//commercialrealestate.com.au//NONSGML ical.net 4.0//EN
VERSION:2.0
BEGIN:VEVENT
DESCRIPTION:Industrial land: Ideal for low site cover owner occupiers & de
 velopers\nColliers as the exclusive agents\, are pleased to present this 
 large-scale industrial land opportunity\, ideal for low site cover owner 
 occupiers and developers seeking cost-effective land suitable for outdoor
  storage.\n\nKey features of this offering include:\n\n 69\,550sqm total 
 land area\n 41\,000sqm* net developable \n Balance 28\,550sqm* suitable f
 or outdoor storage (easement) \n 24/7 operations permitted with B-double 
 access\n Located adjoining an electrical substation which may enable sign
 ificant power supply\n\nBundamba is rapidly emerging as a premier industr
 ial hub for both domestic and international occupiers\, thanks to its imm
 ediate access to the Warrego and Cunningham Highways\, which connect to t
 he Ipswich and Logan Motorways.\n\nApex Business Park is being offered fo
 r sale via an International Expressions of Interest (EOI) campaign closin
 g at 4:00pm (AEST) Thursday\, 28th May 2026.\n\nFor further information o
 r to arrange an inspection\, please contact the exclusive agents below.\n
 \n*Approximately\nOutlines are indicative.
DTEND:20260528T140000
DTSTAMP:20260424T061949Z
DTSTART:20260528T140000
LOCATION:Brisbane
SEQUENCE:0
SUMMARY:Expression Of Interest: 40 Masterpanel Lane\, Bundamba QLD
UID:CRE-2020787251-EOI
X-ALT-DESC;FMTTYPE=text/html:<!DOCTYPE HTML PUBLIC "-//W3C//DTD HTML 3.2//EN"><html><head><
 title></title></head><body><P DIR=LTR>Industrial land: Ideal for low site
  cover owner occupiers & developers <br/> Colliers as the exclusive agent
 s\, are pleased to present this large-scale industrial land opportunity\,
  ideal for low site cover owner occupiers and developers seeking cost-eff
 ective land suitable for outdoor storage. <br/>  <br/> Key features of th
 is offering include: <br/>  <br/>  69\,550sqm total land area <br/>  41\,
 000sqm* net developable  <br/>  Balance 28\,550sqm* suitable for outdoor 
 storage (easement)  <br/>  24/7 operations permitted with B-double access
  <br/>  Located adjoining an electrical substation which may enable signi
 ficant power supply <br/>  <br/> Bundamba is rapidly emerging as a premie
 r industrial hub for both domestic and international occupiers\, thanks t
 o its immediate access to the Warrego and Cunningham Highways\, which con
 nect to the Ipswich and Logan Motorways. <br/>  <br/> Apex Business Park 
 is being offered for sale via an International Expressions of Interest (E
 OI) campaign closing at 4:00pm (AEST) Thursday\, 28th May 2026. <br/>  <b
 r/> For further information or to arrange an inspection\, please contact 
 the exclusive agents below. <br/>  <br/> *Approximately <br/> Outlines ar
 e indicative.</P></body></html>
END:VEVENT
END:VCALENDAR
