BEGIN:VCALENDAR
PRODID:-//commercialrealestate.com.au//NONSGML ical.net 4.0//EN
VERSION:2.0
BEGIN:VEVENT
DESCRIPTION:DA approved industrial land  benched and serviced\nColliers as
  the exclusive agents\, are pleased to present this prime DA approved ind
 ustrial block of land with exceptional street frontage in an established 
 industrial estate. \n\nKey features include:\n\n 16\,700sqm land area\n O
 ver 140m of street frontage\n Approved for 8\,287sqm building\n Benched &
  serviced ready for immediate development \n\nBundamba is rapidly emergin
 g as a premier industrial hub for both domestic and international occupie
 rs\, thanks to its immediate access to the Warrego and Cunningham Highway
 s\, which connect to the Ipswich and Logan Motorways.\n\nApex Business Pa
 rk is being offered for sale via an International Expressions of Interest
  (EOI) campaign closing at 4:00pm (AEST) Thursday\, 28th May 2026.\n\nFor
  further information or to arrange an inspection\, please contact the exc
 lusive agents below.\n\n*Approximately\nOutlines are indicative.
DTEND:20260528T160000
DTSTAMP:20260424T061949Z
DTSTART:20260528T160000
LOCATION:Brisbane
SEQUENCE:0
SUMMARY:Expression Of Interest: 6 Gorrick Court\, Bundamba QLD
UID:CRE-2020787245-EOI
X-ALT-DESC;FMTTYPE=text/html:<!DOCTYPE HTML PUBLIC "-//W3C//DTD HTML 3.2//EN"><html><head><
 title></title></head><body><P DIR=LTR>DA approved industrial land  benche
 d and serviced <br/> Colliers as the exclusive agents\, are pleased to pr
 esent this prime DA approved industrial block of land with exceptional st
 reet frontage in an established industrial estate.  <br/>  <br/> Key feat
 ures include: <br/>  <br/>  16\,700sqm land area <br/>  Over 140m of stre
 et frontage <br/>  Approved for 8\,287sqm building <br/>  Benched & servi
 ced ready for immediate development  <br/>  <br/> Bundamba is rapidly eme
 rging as a premier industrial hub for both domestic and international occ
 upiers\, thanks to its immediate access to the Warrego and Cunningham Hig
 hways\, which connect to the Ipswich and Logan Motorways. <br/>  <br/> Ap
 ex Business Park is being offered for sale via an International Expressio
 ns of Interest (EOI) campaign closing at 4:00pm (AEST) Thursday\, 28th Ma
 y 2026. <br/>  <br/> For further information or to arrange an inspection\
 , please contact the exclusive agents below. <br/>  <br/> *Approximately 
 <br/> Outlines are indicative.</P></body></html>
END:VEVENT
END:VCALENDAR
