BEGIN:VCALENDAR
PRODID:-//commercialrealestate.com.au//NONSGML ical.net 4.0//EN
VERSION:2.0
BEGIN:VEVENT
DESCRIPTION:FULLY LEASED RETAIL/OFFICE INVESTMENT\nGorman Commercial is pl
 eased to offer 79 Hamilton Place\, Mount Waverley for sale via Expression
 s of Interest\, closing Wednesday 27th May at 2pm.\n\n\n\nKey Features In
 clude:\n\n\nThree level retail/office building of 339sqm*\nProminent loca
 tion in tightly held Mt Waverley shopping village\nCurrent income of $209
 \,850 pa plus GST\nTenants include florist\, bubble tea\, education\, bus
 iness broker & rooftop telecommunications\nFreehold title – land area 144
 sqm*\nClose to Mt Waverley train station\nPopular eastern suburbs locatio
 n\n\n \n\n \n
DTEND:20260527T140000
DTSTAMP:20260424T033000Z
DTSTART:20260527T140000
SEQUENCE:0
SUMMARY:Expression Of Interest: 79 Hamilton Place\, Mount Waverley VIC
UID:CRE-2020786530-EOI
X-ALT-DESC;FMTTYPE=text/html:<!DOCTYPE HTML PUBLIC "-//W3C//DTD HTML 3.2//EN"><html><head><
 title></title></head><body><P DIR=LTR>FULLY LEASED RETAIL/OFFICE INVESTME
 NT <br/> Gorman Commercial is pleased to offer 79 Hamilton Place\, Mount 
 Waverley for sale via Expressions of Interest\, closing Wednesday 27th Ma
 y at 2pm. <br/>  <br/>  <br/>  <br/> Key Features Include: <br/>  <br/>  
 <br/> Three level retail/office building of 339sqm* <br/> Prominent locat
 ion in tightly held Mt Waverley shopping village <br/> Current income of 
 $209\,850 pa plus GST <br/> Tenants include florist\, bubble tea\, educat
 ion\, business broker & rooftop telecommunications <br/> Freehold title –
  land area 144sqm* <br/> Close to Mt Waverley train station <br/> Popular
  eastern suburbs location <br/>  <br/>   <br/>  <br/>   <br/> </P></body>
 </html>
END:VEVENT
END:VCALENDAR
