BEGIN:VCALENDAR
PRODID:-//commercialrealestate.com.au//NONSGML ical.net 4.0//EN
VERSION:2.0
BEGIN:VEVENT
DESCRIPTION:BAYSIDE BEAUTY WITH FUTURE UPSIDE\nGorman Commercial is please
 d to offer 250 Bay Street\, Brighton for sale via Expressions of Interest
 \, closing Wednesday 27th May at 2pm.\n\nKey Features Include:\n\n\nTwo l
 evel office building of 835 sqm* plus basement car park\nPart Occupy/Part
  Invest\n25 on-site car parks\nLand area 694 sqm*\nCommercial 1 Zone\nPos
 itioned in the North Brighton Train and Tram zone Activity Centre core\nP
 otential for future development up to 6 storeys (STCA)\nRear access into 
 the basement car park\nGround floor of 403sqm* is currently vacant\nFirst
  floor of 432sqm* is leased to two tenants\n
DTEND:20260527T140000
DTSTAMP:20260424T033000Z
DTSTART:20260527T140000
SEQUENCE:0
SUMMARY:Expression Of Interest: 250 Bay Street\, Brighton VIC
UID:CRE-2020786437-EOI
X-ALT-DESC;FMTTYPE=text/html:<!DOCTYPE HTML PUBLIC "-//W3C//DTD HTML 3.2//EN"><html><head><
 title></title></head><body><P DIR=LTR>BAYSIDE BEAUTY WITH FUTURE UPSIDE <
 br/> Gorman Commercial is pleased to offer 250 Bay Street\, Brighton for 
 sale via Expressions of Interest\, closing Wednesday 27th May at 2pm. <br
 />  <br/> Key Features Include: <br/>  <br/>  <br/> Two level office buil
 ding of 835 sqm* plus basement car park <br/> Part Occupy/Part Invest <br
 /> 25 on-site car parks <br/> Land area 694 sqm* <br/> Commercial 1 Zone 
 <br/> Positioned in the North Brighton Train and Tram zone Activity Centr
 e core <br/> Potential for future development up to 6 storeys (STCA) <br/
 > Rear access into the basement car park <br/> Ground floor of 403sqm* is
  currently vacant <br/> First floor of 432sqm* is leased to two tenants <
 br/> </P></body></html>
END:VEVENT
END:VCALENDAR
