BEGIN:VCALENDAR
PRODID:-//commercialrealestate.com.au//NONSGML ical.net 4.0//EN
VERSION:2.0
BEGIN:VEVENT
DESCRIPTION:8.992HA / Infill Residential Development Site\nMadden Street M
 orwell - Expression of Interest\n\n- 3 street frontages providing outstan
 ding access and flexibility for future development\n- Suitable for a rang
 e of development outcomes including Residential townhouses\, Retirement V
 illage and Aged Care\n- Zoned General Residential Zone 3\n- Public open s
 pace contribution for the site has been paid\n\nExcellent access to Princ
 es Drive\, Central Business District and Princes Freeway and adjoining ne
 wly completed Range Estate.\n\nExpression of Interest Closing 4pm 12th Ju
 ne 2026\n\nFor more information or inspection please contact Grant Willia
 ms on 0412 513 470 or Chris Williams on 0412 517 292 or at Keith Williams
  Real Estate Traralgon on 5174 7777
DTEND:20260612T120000
DTSTAMP:20260424T022316Z
DTSTART:20260612T120000
SEQUENCE:0
SUMMARY:Expression Of Interest: Lot 1 Madden Street\, Morwell VIC
UID:CRE-2020786362-EOI
X-ALT-DESC;FMTTYPE=text/html:<!DOCTYPE HTML PUBLIC "-//W3C//DTD HTML 3.2//EN"><html><head><
 title></title></head><body><P DIR=LTR>8.992HA / Infill Residential Develo
 pment Site <br/> Madden Street Morwell - Expression of Interest <br/>  <b
 r/> - 3 street frontages providing outstanding access and flexibility for
  future development <br/> - Suitable for a range of development outcomes 
 including Residential townhouses\, Retirement Village and Aged Care <br/>
  - Zoned General Residential Zone 3 <br/> - Public open space contributio
 n for the site has been paid <br/>  <br/> Excellent access to Princes Dri
 ve\, Central Business District and Princes Freeway and adjoining newly co
 mpleted Range Estate. <br/>  <br/> Expression of Interest Closing 4pm 12t
 h June 2026 <br/>  <br/> For more information or inspection please contac
 t Grant Williams on 0412 513 470 or Chris Williams on 0412 517 292 or at 
 Keith Williams Real Estate Traralgon on 5174 7777</P></body></html>
END:VEVENT
END:VCALENDAR
