BEGIN:VCALENDAR
PRODID:-//commercialrealestate.com.au//NONSGML ical.net 4.0//EN
VERSION:2.0
BEGIN:VEVENT
DESCRIPTION:34-Storey Permit Approved Development Site\nKnight Frank are p
 leased to exclusively offer for sale 93 Logan Road\, Woolloongabba QLD. \
 n\nThe key investment attributes of this opportunity are as follows:\n\n 
 Prime 2\,508 sqm* mixed-use site located 3.5 km* south of the Brisbane CB
 D\n Positioned within the Woolloongabba Core PDA supporting high-density 
 development outcomes\n PDA Development Approval for a 34-storey mixed-use
  residential tower\n Approved scheme comprising 256 apartments across one
 \, two and three-bedroom configurations\n Approval incorporating the heri
 tage-listed Broadway Hotel\, positioned for refurbishment\, creating a un
 ique development outcome\n Dual street frontage to Logan Road and Balacla
 va Street providing strong access and exposure\n Immediate proximity to t
 he future Cross River Rail Woolloongabba Station\, Brisbane Live arena an
 d major health precincts\n Located within Brisbane's Olympic infrastructu
 re corridor\, underpinned by strong population growth (4.9%* p.a. to 2031
 )\n\n*Approximate\, as at April 2026 \n\n93 Logan Road\, Woolloongabba pr
 esents a rare opportunity to secure a prominent\, permit approved develop
 ment site within one of Brisbane's most transformative inner-city precinc
 ts. The property benefits from Olympic-led infrastructure investment and 
 proximity to major health\, education and transport nodes including the P
 A Hospital and Mater Precinct.\n\nThe approved scheme\, designed by Red D
 oor Architecture\, provides a clear pathway to deliver a 34 storey mixed-
 use tower comprising 256 apartments with activated ground level uses. The
  integration of the heritage listed Broadway Hotel enhances the developme
 nt's character and identity. Supported by strong population growth\, cons
 trained apartment supply and increasing demand for well located product\,
  93 Logan Road offers a compelling opportunity to capitalise on Brisbane'
 s accelerating inner-city growth.\n\n93 Logan Road\, Woolloongabba QLD is
  offered for sale by Expressions of Interest closing 4:00pm AEST\, Wednes
 day 27th May 2026.\n\nFor more information\, please contact\nBlake Goddar
 d  0407 604 307\nChristian Sandstrom  0419 784 317
DTEND:20260527T160000
DTSTAMP:20260423T093427Z
DTSTART:20260527T160000
SEQUENCE:0
SUMMARY:Expression Of Interest: 93 Logan Road\, Woolloongabba QLD
UID:CRE-2020785310-EOI
X-ALT-DESC;FMTTYPE=text/html:<!DOCTYPE HTML PUBLIC "-//W3C//DTD HTML 3.2//EN"><html><head><
 title></title></head><body><P DIR=LTR>34-Storey Permit Approved Developme
 nt Site <br/> Knight Frank are pleased to exclusively offer for sale 93 L
 ogan Road\, Woolloongabba QLD. \n <br/> \n <br/> The key investment attri
 butes of this opportunity are as follows:\n <br/> \n <br/>  Prime 2\,508 
 sqm* mixed-use site located 3.5 km* south of the Brisbane CBD\n <br/>  Po
 sitioned within the Woolloongabba Core PDA supporting high-density develo
 pment outcomes\n <br/>  PDA Development Approval for a 34-storey mixed-us
 e residential tower\n <br/>  Approved scheme comprising 256 apartments ac
 ross one\, two and three-bedroom configurations\n <br/>  Approval incorpo
 rating the heritage-listed Broadway Hotel\, positioned for refurbishment\
 , creating a unique development outcome\n <br/>  Dual street frontage to 
 Logan Road and Balaclava Street providing strong access and exposure\n <b
 r/>  Immediate proximity to the future Cross River Rail Woolloongabba Sta
 tion\, Brisbane Live arena and major health precincts\n <br/>  Located wi
 thin Brisbane's Olympic infrastructure corridor\, underpinned by strong p
 opulation growth (4.9%* p.a. to 2031)\n <br/> \n <br/> *Approximate\, as 
 at April 2026 \n <br/> \n <br/> 93 Logan Road\, Woolloongabba presents a 
 rare opportunity to secure a prominent\, permit approved development site
  within one of Brisbane's most transformative inner-city precincts. The p
 roperty benefits from Olympic-led infrastructure investment and proximity
  to major health\, education and transport nodes including the PA Hospita
 l and Mater Precinct.\n <br/> \n <br/> The approved scheme\, designed by 
 Red Door Architecture\, provides a clear pathway to deliver a 34 storey m
 ixed-use tower comprising 256 apartments with activated ground level uses
 . The integration of the heritage listed Broadway Hotel enhances the deve
 lopment's character and identity. Supported by strong population growth\,
  constrained apartment supply and increasing demand for well located prod
 uct\, 93 Logan Road offers a compelling opportunity to capitalise on Bris
 bane's accelerating inner-city growth.\n <br/> \n <br/> 93 Logan Road\, W
 oolloongabba QLD is offered for sale by Expressions of Interest closing 4
 :00pm AEST\, Wednesday 27th May 2026.\n <br/> \n <br/> For more informati
 on\, please contact\n <br/> Blake Goddard  0407 604 307\n <br/> Christian
  Sandstrom  0419 784 317</P></body></html>
END:VEVENT
END:VCALENDAR
