BEGIN:VCALENDAR
PRODID:-//commercialrealestate.com.au//NONSGML ical.net 4.0//EN
VERSION:2.0
BEGIN:VEVENT
DESCRIPTION:Vacant Modern Industrial Facility with Strategic Connectivity\
 nCBRE is pleased to exclusively offer for sale 2 Enterprise Drive\, Glend
 enning\, representing an opportunity to acquire a vacant modern industria
 l facility with strategic connectivity.\n\nThe property comprises modern 
 and highly functional improvements with a total GLA of 9\,374 sqm situate
 d on a substantial 1.9 ha site.\n\nThis asset represents a rare opportuni
 ty for occupiers seeking to establish or expand operations within a prove
 n logistics location while also offering a defensive investment profile u
 nderpinned by irreplaceable land\, scale and strategic connectivity. \n\n
 Key Investment Highlights:\n\n+ Significant infill landholding of 1.9 ha 
 (19\,480 sqm)\n+ Modern office/warehouse facility with a total GLA of 9\,
 374 sqm\n+ High quality warehouse featuring 10-11 metre internal clearanc
 e\n+ Full height concrete panel walls\n+ ESFR sprinkler system throughout
 \n+ Six roller shutter doors with covered access\n+ Substantial concrete 
 hardstand area\n+ Dual street frontages to Enterprise Drive and Lamb Stre
 et totalling 206 metres\n+ Two entry and exit points from Enterprise Driv
 e\n+ Excellent access to the M7 Motorway\, one of Western Sydney's most c
 ritical freight and logistics routes\n+ Established north western industr
 ial location just 16 km north west of the Parramatta CBD\n+ Close proximi
 ty to major employment precincts and residential hubs\n\nThe property is 
 offered For Sale via Expressions of Interest closing Thursday\, 21 May 20
 26 at 4pm AEST.\n\n*All figures are approximate
DTEND:20260521T160000
DTSTAMP:20260423T074623Z
DTSTART:20260521T160000
LOCATION:
SEQUENCE:0
SUMMARY:Expression Of Interest: 2 Enterprise Drive\, Glendenning NSW
UID:CRE-2020784723-EOI
X-ALT-DESC;FMTTYPE=text/html:<!DOCTYPE HTML PUBLIC "-//W3C//DTD HTML 3.2//EN"><html><head><
 title></title></head><body><P DIR=LTR>Vacant Modern Industrial Facility w
 ith Strategic Connectivity <br/> CBRE is pleased to exclusively offer for
  sale 2 Enterprise Drive\, Glendenning\, representing an opportunity to a
 cquire a vacant modern industrial facility with strategic connectivity. <
 br/>  <br/> The property comprises modern and highly functional improveme
 nts with a total GLA of 9\,374 sqm situated on a substantial 1.9 ha site.
  <br/>  <br/> This asset represents a rare opportunity for occupiers seek
 ing to establish or expand operations within a proven logistics location 
 while also offering a defensive investment profile underpinned by irrepla
 ceable land\, scale and strategic connectivity.  <br/>  <br/> Key Investm
 ent Highlights: <br/>  <br/> + Significant infill landholding of 1.9 ha (
 19\,480 sqm) <br/> + Modern office/warehouse facility with a total GLA of
  9\,374 sqm <br/> + High quality warehouse featuring 10-11 metre internal
  clearance <br/> + Full height concrete panel walls <br/> + ESFR sprinkle
 r system throughout <br/> + Six roller shutter doors with covered access 
 <br/> + Substantial concrete hardstand area <br/> + Dual street frontages
  to Enterprise Drive and Lamb Street totalling 206 metres <br/> + Two ent
 ry and exit points from Enterprise Drive <br/> + Excellent access to the 
 M7 Motorway\, one of Western Sydney's most critical freight and logistics
  routes <br/> + Established north western industrial location just 16 km 
 north west of the Parramatta CBD <br/> + Close proximity to major employm
 ent precincts and residential hubs <br/>  <br/> The property is offered F
 or Sale via Expressions of Interest closing Thursday\, 21 May 2026 at 4pm
  AEST. <br/>  <br/> *All figures are approximate</P></body></html>
END:VEVENT
END:VCALENDAR
