BEGIN:VCALENDAR
PRODID:-//commercialrealestate.com.au//NONSGML ical.net 4.0//EN
VERSION:2.0
BEGIN:VEVENT
DESCRIPTION:OFFICE & COLD STORAGE FACILITY WITH DEVELOPMENT UPSIDE\nLemon 
 Baxter is pleased to exclusively offer For Sale 220 & 222 Lorimer Street\
 , Port Melbourne\, a rare opportunity to acquire two adjoining freeholds 
 in Port Melbourne. \n\n222 Lorimer Street includes a modern three-level o
 ffice and cold storage facility with 1\,084 sqm of GLA\, including high-c
 learance freezer and chiller chambers. Both properties are offered with v
 acant possession\, ideal for owner-occupiers or investors.\n\n220 Lorimer
  Street features a Commercial 2 zoned allotment with 1\,183sqm* concrete 
 hardstand\, suitable for parking\, storage or redevelopment. \n\nStrategi
 cally located within the established Port Melbourne industrial precinct a
 nd the Fishermans Bend National Employment & Innovation Cluster\, the pro
 perties benefit from excellent connectivity to CBD\, major arterials and 
 Webb Dock Ports\, suitable for a range of uses including utilising the wh
 ole site\, occupy one and develop the other or sell one and hold the othe
 r.\n\nKey Highlights:\n\n- Smartly fitted office over two floors with gre
 at Yarra River views \n- Elevator access to all floors \n- Extensive amen
 ities over every floor as well as a shower / locker room. \n- Substantial
  street frontage on Lorimer St (36.14m)\n- Located in Fishermans Bend nex
 t to Webb Dock Ports\, CBD and major arterials.\n- Excellent connectivity
  to CBD\, major arterials and the Port of Melbourne\n- Undercover\, secur
 e car parking \n- Total land area 2\,419 sqm*\n- Commercial 2 Zoning\n\nC
 old Storage:\n \n- Dual chambers capable of operating at freezer temperat
 ures down to -28°C. \n- Approximate pallet capacity of 520. \n- Internal 
 cold storage clearance of 9.4 m.\n\nFor sale via Expression of Interest c
 losing 3pm Wednesday 27th May.\n\nFor more information or to request an i
 nspection\, contact the exclusively appointed agents today.\n\n*approx.
DTEND:20260527T150000
DTSTAMP:20260423T042654Z
DTSTART:20260527T150000
SEQUENCE:0
SUMMARY:Expression Of Interest: 220 & 222 Lorimer Street\, Port Melbourne 
 VIC
UID:CRE-2020783625-EOI
X-ALT-DESC;FMTTYPE=text/html:<!DOCTYPE HTML PUBLIC "-//W3C//DTD HTML 3.2//EN"><html><head><
 title></title></head><body><P DIR=LTR>OFFICE & COLD STORAGE FACILITY WITH
  DEVELOPMENT UPSIDE <br/> Lemon Baxter is pleased to exclusively offer Fo
 r Sale 220 & 222 Lorimer Street\, Port Melbourne\, a rare opportunity to 
 acquire two adjoining freeholds in Port Melbourne. \n <br/> \n <br/> 222 
 Lorimer Street includes a modern three-level office and cold storage faci
 lity with 1\,084 sqm of GLA\, including high-clearance freezer and chille
 r chambers. Both properties are offered with vacant possession\, ideal fo
 r owner-occupiers or investors.\n <br/> \n <br/> 220 Lorimer Street featu
 res a Commercial 2 zoned allotment with 1\,183sqm* concrete hardstand\, s
 uitable for parking\, storage or redevelopment. \n <br/> \n <br/> Strateg
 ically located within the established Port Melbourne industrial precinct 
 and the Fishermans Bend National Employment & Innovation Cluster\, the pr
 operties benefit from excellent connectivity to CBD\, major arterials and
  Webb Dock Ports\, suitable for a range of uses including utilising the w
 hole site\, occupy one and develop the other or sell one and hold the oth
 er.\n <br/> \n <br/> Key Highlights:\n <br/> \n <br/> - Smartly fitted of
 fice over two floors with great Yarra River views \n <br/> - Elevator acc
 ess to all floors \n <br/> - Extensive amenities over every floor as well
  as a shower / locker room. \n <br/> - Substantial street frontage on Lor
 imer St (36.14m)\n <br/> - Located in Fishermans Bend next to Webb Dock P
 orts\, CBD and major arterials.\n <br/> - Excellent connectivity to CBD\,
  major arterials and the Port of Melbourne\n <br/> - Undercover\, secure 
 car parking \n <br/> - Total land area 2\,419 sqm*\n <br/> - Commercial 2
  Zoning\n <br/> \n <br/> Cold Storage:\n <br/>  \n <br/> - Dual chambers 
 capable of operating at freezer temperatures down to -28°C. \n <br/> - Ap
 proximate pallet capacity of 520. \n <br/> - Internal cold storage cleara
 nce of 9.4 m.\n <br/> \n <br/> For sale via Expression of Interest closin
 g 3pm Wednesday 27th May.\n <br/> \n <br/> For more information or to req
 uest an inspection\, contact the exclusively appointed agents today.\n <b
 r/> \n <br/> *approx.</P></body></html>
END:VEVENT
END:VCALENDAR
