BEGIN:VCALENDAR
PRODID:-//commercialrealestate.com.au//NONSGML ical.net 4.0//EN
VERSION:2.0
BEGIN:VEVENT
DESCRIPTION:Rare Rail-Connected Industrial Landholding with Modern Freight
  Infrastructure\nCG Property Group is pleased to offer for sale 75 Curzon
  Street\, Tennyson QLD 4105.\n\nA prime Industrial Outdoor Storage (IOS) 
 opportunity with improvements and direct rail side access to the Moolabin
  Intermodal Rail terminal. \n\nSecurely leased to national logistics prov
 er Team Global Express on a new long-term lease from settlement\, this op
 portunity offers the following compelling features:\n\n Substantial landh
 olding of 72\,700sqm* (~65\,000sqm useable)\n Modern Freight Facility wit
 h functional improvements of 11\,757sqm* including two level office\n Pri
 me infill location within Brisbane's Central South Precinct \n Strong ten
 ant covenant to Multimodal Logistics Provider Team Global Express (TGE)\n
  Railside access to Moolabin Intermodal Terminal that links to Northern a
 nd Western Queensland Freight Lines\, the Port of Brisbane and Acacia Rid
 ge marshalling yards \n Net income of $3\,000\,000pa ($46/sqm) + Outgoing
 s + GST from settlement with strong review structure.\n\n75 Curzon Street
 \, Tennyson is being offered for sale via Expressions of Interest\, closi
 ng Thursday\, 21st May 2026 at 4:00 pm (AEST).\n\nFor further information
  or to arrange an inspection\, please contact the exclusive agents from C
 G Property Group. \n\n\n*All measurements are approximate. The informatio
 n provided is intended as a guide only and prospective purchasers should 
 rely on their own enquiries and the Contract of Sale
DTEND:20260521T160000
DTSTAMP:20260422T074129Z
DTSTART:20260521T160000
SEQUENCE:0
SUMMARY:Expression Of Interest: 75 Curzon Street\, Tennyson QLD
UID:CRE-2020781051-EOI
X-ALT-DESC;FMTTYPE=text/html:<!DOCTYPE HTML PUBLIC "-//W3C//DTD HTML 3.2//EN"><html><head><
 title></title></head><body><P DIR=LTR>Rare Rail-Connected Industrial Land
 holding with Modern Freight Infrastructure <br/> CG Property Group is ple
 ased to offer for sale 75 Curzon Street\, Tennyson QLD 4105.\n <br/> \n <
 br/> A prime Industrial Outdoor Storage (IOS) opportunity with improvemen
 ts and direct rail side access to the Moolabin Intermodal Rail terminal. 
 \n <br/> \n <br/> Securely leased to national logistics prover Team Globa
 l Express on a new long-term lease from settlement\, this opportunity off
 ers the following compelling features:\n <br/> \n <br/>  Substantial land
 holding of 72\,700sqm* (~65\,000sqm useable)\n <br/>  Modern Freight Faci
 lity with functional improvements of 11\,757sqm* including two level offi
 ce\n <br/>  Prime infill location within Brisbane's Central South Precinc
 t \n <br/>  Strong tenant covenant to Multimodal Logistics Provider Team 
 Global Express (TGE)\n <br/>  Railside access to Moolabin Intermodal Term
 inal that links to Northern and Western Queensland Freight Lines\, the Po
 rt of Brisbane and Acacia Ridge marshalling yards \n <br/>  Net income of
  $3\,000\,000pa ($46/sqm) + Outgoings + GST from settlement with strong r
 eview structure.\n <br/> \n <br/> 75 Curzon Street\, Tennyson is being of
 fered for sale via Expressions of Interest\, closing Thursday\, 21st May 
 2026 at 4:00 pm (AEST).\n <br/> \n <br/> For further information or to ar
 range an inspection\, please contact the exclusive agents from CG Propert
 y Group. \n <br/> \n <br/> \n <br/> *All measurements are approximate. Th
 e information provided is intended as a guide only and prospective purcha
 sers should rely on their own enquiries and the Contract of Sale</P></bod
 y></html>
END:VEVENT
END:VCALENDAR
