BEGIN:VCALENDAR
PRODID:-//commercialrealestate.com.au//NONSGML ical.net 4.0//EN
VERSION:2.0
BEGIN:VEVENT
DESCRIPTION:FOR SALE  Main Road Premium Office/Warehouse\nCushman & Wakefi
 eld & Modus Property Group is pleased to present 24/160 Lytton Road\, Mor
 ningside to the market for sale via Expression of Interest closing Tuesda
 y the 19th of May\, 2026 at 4pm (AEST)\, if not sold prior.\n\n24/160 Lyt
 ton Road is located in a front of the area's most popular complex and is 
 positioned with main road signage opportunities. The property is ideally 
 located on the doorstep of the Bulimba residential precinct and lies just
  5 radial kilometers from the Brisbane CBD.\n\nKey features of this oppor
 tunity include:\n- 628sqm* Corporate Office/Warehouse\n- Ultra rare oppor
 tunity to purchase a vacant possession unit of this quality and location\
 n- 174sqm* of Office & Showroom over Two Levels\n- 454sqm* of High Bay Wa
 rehouse Space (8m high)\n- Warehouse access via 3 x container height roll
 er doors\n- Exceptional truck access and ability to drop 40ft containers\
 n- 3-Phase Power\n- 13 onsite exclusive car parks\n- Exiting tenant curre
 ntly completing make good and will be sold in premium condition\n\n*Appro
 x.\n\nFor further information or to arrange an inspection\, please contac
 t the Exclusive agents Cushman & Wakefield & Modus Property Group.
DTEND:20260519T160000
DTSTAMP:20260422T025012Z
DTSTART:20260519T160000
LOCATION:
SEQUENCE:0
SUMMARY:Expression Of Interest: 24/160 Lytton Rd\, Morningside QLD
UID:CRE-2020779704-EOI
X-ALT-DESC;FMTTYPE=text/html:<!DOCTYPE HTML PUBLIC "-//W3C//DTD HTML 3.2//EN"><html><head><
 title></title></head><body><P DIR=LTR>FOR SALE  Main Road Premium Office/
 Warehouse <br/> Cushman & Wakefield & Modus Property Group is pleased to 
 present 24/160 Lytton Road\, Morningside to the market for sale via Expre
 ssion of Interest closing Tuesday the 19th of May\, 2026 at 4pm (AEST)\, 
 if not sold prior. <br/>  <br/> 24/160 Lytton Road is located in a front 
 of the area's most popular complex and is positioned with main road signa
 ge opportunities. The property is ideally located on the doorstep of the 
 Bulimba residential precinct and lies just 5 radial kilometers from the B
 risbane CBD. <br/>  <br/> Key features of this opportunity include: <br/>
  - 628sqm* Corporate Office/Warehouse <br/> - Ultra rare opportunity to p
 urchase a vacant possession unit of this quality and location <br/> - 174
 sqm* of Office & Showroom over Two Levels <br/> - 454sqm* of High Bay War
 ehouse Space (8m high) <br/> - Warehouse access via 3 x container height 
 roller doors <br/> - Exceptional truck access and ability to drop 40ft co
 ntainers <br/> - 3-Phase Power <br/> - 13 onsite exclusive car parks <br/
 > - Exiting tenant currently completing make good and will be sold in pre
 mium condition <br/>  <br/> *Approx. <br/>  <br/> For further information
  or to arrange an inspection\, please contact the Exclusive agents Cushma
 n & Wakefield & Modus Property Group.</P></body></html>
END:VEVENT
END:VCALENDAR
