BEGIN:VCALENDAR
PRODID:-//commercialrealestate.com.au//NONSGML ical.net 4.0//EN
VERSION:2.0
BEGIN:VEVENT
DESCRIPTION:Brand New DA Approved Co-Living / Hotel Opportunity\nKnight Fr
 ank\, as exclusive selling agents\, is pleased to present VIVACITY STAGE 
 2  5 Uhrig Road\, a stunning brand new 7 storey building located in the C
 arter Street Precinct adjacent to Sydney Olympic Park approved for a dual
 -use hotel and co-living scheme.\n\nThe asset comprises a fully construct
 ed\, vacant office building with Development Approval in place for conver
 sion to a combined hotel and co-living scheme\, providing immediate execu
 tion and planning certainty.\n\nThe approved scheme potentially delivers 
 two complementary income streams: stable co-living demand driven by a gro
 wing residential and professional population\, and high-yield hotel incom
 e supported by Sydney's largest concentration of major event venues.\n\nT
 he precinct's year-round events calendar underpins strong short-stay dema
 nd\, while ongoing residential growth supports sustained occupancy for co
 -living.\n   \nKey Highlights:\n\n- DA Approved for immediate conversion 
 to 76 beds\, comprising 33 Hotel rooms and 43 Co-living rooms\n- Approved
  GFA 3\,731 sqm* including communal living amenity + 43 secure basement p
 arking spaces \n- Dual income optionality\n- Minimal capital outlay for a
 sset activation\n- Exceptionally connected location\, proximity to rail\,
  Future Sydney Olympic Park Metro station\, West Connex and the Future Pa
 rramatta light rail\n- Positioned in the heart of one of Sydney's most si
 gnificant infrastructure corridors\n- End-of-Trip facility \n\nFor Sale v
 ia Expressions of Interest Closing Wednesday 27 May 2026 at 4pm (AEST)\n 
 \nFor further information or to arrange an inspection\, please contact th
 e exclusive agents.\n\n*Approximate
DTEND:20260527T160000
DTSTAMP:20260422T025011Z
DTSTART:20260527T160000
SEQUENCE:0
SUMMARY:Expression Of Interest: 5 Uhrig Road\, Sydney Olympic Park NSW
UID:CRE-2020779698-EOI
X-ALT-DESC;FMTTYPE=text/html:<!DOCTYPE HTML PUBLIC "-//W3C//DTD HTML 3.2//EN"><html><head><
 title></title></head><body><P DIR=LTR>Brand New DA Approved Co-Living / H
 otel Opportunity <br/> Knight Frank\, as exclusive selling agents\, is pl
 eased to present VIVACITY STAGE 2  5 Uhrig Road\, a stunning brand new 7 
 storey building located in the Carter Street Precinct adjacent to Sydney 
 Olympic Park approved for a dual-use hotel and co-living scheme. <br/>  <
 br/> The asset comprises a fully constructed\, vacant office building wit
 h Development Approval in place for conversion to a combined hotel and co
 -living scheme\, providing immediate execution and planning certainty. <b
 r/>  <br/> The approved scheme potentially delivers two complementary inc
 ome streams: stable co-living demand driven by a growing residential and 
 professional population\, and high-yield hotel income supported by Sydney
 's largest concentration of major event venues. <br/>  <br/> The precinct
 's year-round events calendar underpins strong short-stay demand\, while 
 ongoing residential growth supports sustained occupancy for co-living. <b
 r/>     <br/> Key Highlights: <br/>  <br/> - DA Approved for immediate co
 nversion to 76 beds\, comprising 33 Hotel rooms and 43 Co-living rooms <b
 r/> - Approved GFA 3\,731 sqm* including communal living amenity + 43 sec
 ure basement parking spaces  <br/> - Dual income optionality <br/> - Mini
 mal capital outlay for asset activation <br/> - Exceptionally connected l
 ocation\, proximity to rail\, Future Sydney Olympic Park Metro station\, 
 West Connex and the Future Parramatta light rail <br/> - Positioned in th
 e heart of one of Sydney's most significant infrastructure corridors <br/
 > - End-of-Trip facility  <br/>  <br/> For Sale via Expressions of Intere
 st Closing Wednesday 27 May 2026 at 4pm (AEST) <br/>   <br/> For further 
 information or to arrange an inspection\, please contact the exclusive ag
 ents. <br/>  <br/> *Approximate</P></body></html>
END:VEVENT
END:VCALENDAR
