BEGIN:VCALENDAR
PRODID:-//commercialrealestate.com.au//NONSGML ical.net 4.0//EN
VERSION:2.0
BEGIN:VEVENT
DESCRIPTION:Flexible Strata Office Floors & Parking | Buy One or All | 170
 m to Metro\n121 Walker Street presents a rare\, highly flexible opportuni
 ty to acquire premium commercial real estate tailored to your exact scale
  and strategy. Positioned at the epicentre of North Sydney's billion-doll
 ar civic transformation\, buyers have the exclusive opportunity to purcha
 se these assets individually\, in strategic combinations\, or in one line
  as a 15-lot portfolio.\n\nThe Offering: 4 Whole Office Floors 411sqm to 
 2\,042sqm (Available Separately or Together):\n\n*  Level 1 (The Podium):
  A fully fitted\, expansive commercial floor ideal for immediate occupati
 on or leasing.\n*  Level 11 (The Sky Floor): A high-level warm shell bath
 ed in natural light\, ready for a bespoke fit-out.\n*  Levels 12 & 13 (Th
 e Penthouse Duplex): Premium upper-level office accommodation with comman
 ding views.\n*  The Utility Lots: 10 highly valuable\, independently titl
 ed car parking spaces and 1 basement storage lot (available to be purchas
 ed with office floors or standalone).\n\nUnbeatable Location & Connectivi
 ty: Located a mere 170 meters from the brand-new Victoria Cross Metro Sta
 tion\, the property benefits from game-changing transit times:\n\n*  3 mi
 nutes to Barangaroo\n*  5 minutes to Martin Place\n*  9 minutes to Centra
 l Station\n\nWhether you are an owner-occupier looking to secure your cor
 porate HQ\, a self-managed super fund (SMSF) investor seeking a high-yiel
 ding single floor\, or a syndicate looking to acquire a diversified portf
 olio\, 121 Walker Street caters to your mandate.\n\nContact Pentagon Prop
 erty today to discuss your specific lot requirements and arrange an inspe
 ction.\n\n\nDisclaimer The information contained herein has been provided
  by the Vendor and third parties. While every effort has been made to ens
 ure accuracy\, we do not guarantee it. Prospective purchasers must rely o
 n their own independent enquiries\, legal advice\, and the Contract for S
 ale.
DTEND:20260520T160000
DTSTAMP:20260423T083916Z
DTSTART:20260520T160000
SEQUENCE:0
SUMMARY:Expression Of Interest: 121 Walker Street\, North Sydney NSW
UID:CRE-2020779492-EOI
X-ALT-DESC;FMTTYPE=text/html:<!DOCTYPE HTML PUBLIC "-//W3C//DTD HTML 3.2//EN"><html><head><
 title></title></head><body><P DIR=LTR>Flexible Strata Office Floors & Par
 king | Buy One or All | 170m to Metro <br/> 121 Walker Street presents a 
 rare\, highly flexible opportunity to acquire premium commercial real est
 ate tailored to your exact scale and strategy. Positioned at the epicentr
 e of North Sydney's billion-dollar civic transformation\, buyers have the
  exclusive opportunity to purchase these assets individually\, in strateg
 ic combinations\, or in one line as a 15-lot portfolio.\n <br/> \n <br/> 
 The Offering: 4 Whole Office Floors 411sqm to 2\,042sqm (Available Separa
 tely or Together):\n <br/> \n <br/> *  Level 1 (The Podium): A fully fitt
 ed\, expansive commercial floor ideal for immediate occupation or leasing
 .\n <br/> *  Level 11 (The Sky Floor): A high-level warm shell bathed in 
 natural light\, ready for a bespoke fit-out.\n <br/> *  Levels 12 & 13 (T
 he Penthouse Duplex): Premium upper-level office accommodation with comma
 nding views.\n <br/> *  The Utility Lots: 10 highly valuable\, independen
 tly titled car parking spaces and 1 basement storage lot (available to be
  purchased with office floors or standalone).\n <br/> \n <br/> Unbeatable
  Location & Connectivity: Located a mere 170 meters from the brand-new Vi
 ctoria Cross Metro Station\, the property benefits from game-changing tra
 nsit times:\n <br/> \n <br/> *  3 minutes to Barangaroo\n <br/> *  5 minu
 tes to Martin Place\n <br/> *  9 minutes to Central Station\n <br/> \n <b
 r/> Whether you are an owner-occupier looking to secure your corporate HQ
 \, a self-managed super fund (SMSF) investor seeking a high-yielding sing
 le floor\, or a syndicate looking to acquire a diversified portfolio\, 12
 1 Walker Street caters to your mandate.\n <br/> \n <br/> Contact Pentagon
  Property today to discuss your specific lot requirements and arrange an 
 inspection.\n <br/> \n <br/> \n <br/> Disclaimer The information containe
 d herein has been provided by the Vendor and third parties. While every e
 ffort has been made to ensure accuracy\, we do not guarantee it. Prospect
 ive purchasers must rely on their own independent enquiries\, legal advic
 e\, and the Contract for Sale.</P></body></html>
END:VEVENT
END:VCALENDAR
