BEGIN:VCALENDAR
PRODID:-//commercialrealestate.com.au//NONSGML ical.net 4.0//EN
VERSION:2.0
BEGIN:VEVENT
DESCRIPTION:For Sale or Lease: Chisholm Vikings Club  6\,482sqm Block\nOn 
 behalf of the Vikings Group\, Civium Property Group is pleased to present
  the former Vikings Chisholm Club to the market for sale or lease via an 
 Expressions of Interest campaign.\n\nPositioned within the thriving Chish
 olm Shopping Centre\, this substantial and highly versatile asset represe
 nts a rare opportunity for tenants\, developers\, investors and owner-occ
 upiers to secure a prominent site with significant potential. With the cl
 ub having ceased trading\, the Vikings Group now invites visionary buyers
  or tenants to reposition the property and lead it into its next chapter.
 \n\nSet on an expansive 6\,482sqm landholding\, the property features an 
 existing two-level building (approx 1\,500sqm at ground level and 500sqm 
 of lower ground) that enjoys a commanding outlook over the Chisholm ovals
  and towards the picturesque Brindabella Ranges. The building has been we
 ll maintained and offers a flexible layout suited to a wide range of uses
 .\n\nThe location is a key highlight\, benefitting from strong foot traff
 ic and excellent accessibility within the established Chisholm retail pre
 cinct. Anchored by major tenants Coles and Aldi\, along with more than 17
  specialty stores\, the centre serves as a vital hub for the community.\n
 \nZoned CZ3  Commercial Core\, the property allows for a diverse array of
  permitted uses (subject to approval)\, including  vet\, cafe\, business 
 agency\, commercial accommodation\, community housing\, cultural facility
 \, drink establishment\, childcare\, education establishment\, medical fa
 cility\, hotel/motel\, hospital\, indoor recreation\, multi-unit housing\
 , office\, place of worship\, retirement village\, shop and take away foo
 d..\n\nAdditional features include 116 on-site car parks and a large site
  footprint that provides scope for future expansion or redevelopment (STC
 A).\n\nThe building is being sold or leased through an Expressions of Int
 erest campaign\, closing at 3pm on Thursday 28th May. For more informatio
 n\, please contact Andrew Smith on 0409 600 471.
DTEND:20260528T150000
DTSTAMP:20260423T085130Z
DTSTART:20260528T150000
SEQUENCE:0
SUMMARY:Expression Of Interest: 12 Benham Street\, Chisholm ACT
UID:CRE-2020778297-EOI
X-ALT-DESC;FMTTYPE=text/html:<!DOCTYPE HTML PUBLIC "-//W3C//DTD HTML 3.2//EN"><html><head><
 title></title></head><body><P DIR=LTR>For Sale or Lease: Chisholm Vikings
  Club  6\,482sqm Block <br/> On behalf of the Vikings Group\, Civium Prop
 erty Group is pleased to present the former Vikings Chisholm Club to the 
 market for sale or lease via an Expressions of Interest campaign. <br/>  
 <br/> Positioned within the thriving Chisholm Shopping Centre\, this subs
 tantial and highly versatile asset represents a rare opportunity for tena
 nts\, developers\, investors and owner-occupiers to secure a prominent si
 te with significant potential. With the club having ceased trading\, the 
 Vikings Group now invites visionary buyers or tenants to reposition the p
 roperty and lead it into its next chapter. <br/>  <br/> Set on an expansi
 ve 6\,482sqm landholding\, the property features an existing two-level bu
 ilding (approx 1\,500sqm at ground level and 500sqm of lower ground) that
  enjoys a commanding outlook over the Chisholm ovals and towards the pict
 uresque Brindabella Ranges. The building has been well maintained and off
 ers a flexible layout suited to a wide range of uses. <br/>  <br/> The lo
 cation is a key highlight\, benefitting from strong foot traffic and exce
 llent accessibility within the established Chisholm retail precinct. Anch
 ored by major tenants Coles and Aldi\, along with more than 17 specialty 
 stores\, the centre serves as a vital hub for the community. <br/>  <br/>
  Zoned CZ3  Commercial Core\, the property allows for a diverse array of 
 permitted uses (subject to approval)\, including  vet\, cafe\, business a
 gency\, commercial accommodation\, community housing\, cultural facility\
 , drink establishment\, childcare\, education establishment\, medical fac
 ility\, hotel/motel\, hospital\, indoor recreation\, multi-unit housing\,
  office\, place of worship\, retirement village\, shop and take away food
 .. <br/>  <br/> Additional features include 116 on-site car parks and a l
 arge site footprint that provides scope for future expansion or redevelop
 ment (STCA). <br/>  <br/> The building is being sold or leased through an
  Expressions of Interest campaign\, closing at 3pm on Thursday 28th May. 
 For more information\, please contact Andrew Smith on 0409 600 471.</P></
 body></html>
END:VEVENT
END:VCALENDAR
