BEGIN:VCALENDAR
PRODID:-//commercialrealestate.com.au//NONSGML ical.net 4.0//EN
VERSION:2.0
BEGIN:VEVENT
DESCRIPTION:Take One or Take Four!\nCameron is pleased to offer 12 Halbert
  Road\, Bayswater North\, for sale via Expression of Interest.\n\nPositio
 ned within a tightly held industrial pocket\, this offering provides imme
 diate flexibility for owner-occupiers\, scope to lease and generate incom
 e\, and longer-term upside.\n\nUnits can be sold individually or together
 . \n\nProperty Features:\n\n\nTotal land area: 840.7m²\nFour (4) separate
  titles\nUnit 1: 105m²\nUnit 2: 107m²\nUnit 3 110m²\nUnit 4: 110m²\nGood 
 internal clearances\nNeat clearspan spaces\nGreat vehicle access\nOn-site
  ample parking \nNeat toilets and kitchenette amenities in all units\nCov
 ered canopy area\nEstablished Bayswater North industrial precinct\nDirect
  access to Burgess Road and Canterbury Road\nClose to major arterials\, i
 ncluding EastLink\n\nContact our agents to arrange an inspection today.\n
DTEND:20260519T170000
DTSTAMP:20260421T062733Z
DTSTART:20260519T170000
SEQUENCE:0
SUMMARY:Expression Of Interest: 1-4/12 Halbert Road\, Bayswater North VIC
UID:CRE-2020777426-EOI
X-ALT-DESC;FMTTYPE=text/html:<!DOCTYPE HTML PUBLIC "-//W3C//DTD HTML 3.2//EN"><html><head><
 title></title></head><body><P DIR=LTR>Take One or Take Four! <br/> Camero
 n is pleased to offer 12 Halbert Road\, Bayswater North\, for sale via Ex
 pression of Interest. <br/>  <br/> Positioned within a tightly held indus
 trial pocket\, this offering provides immediate flexibility for owner-occ
 upiers\, scope to lease and generate income\, and longer-term upside. <br
 />  <br/> Units can be sold individually or together.  <br/>  <br/> Prope
 rty Features: <br/>  <br/>  <br/> Total land area: 840.7m² <br/> Four (4)
  separate titles <br/> Unit 1: 105m² <br/> Unit 2: 107m² <br/> Unit 3 110
 m² <br/> Unit 4: 110m² <br/> Good internal clearances <br/> Neat clearspa
 n spaces <br/> Great vehicle access <br/> On-site ample parking  <br/> Ne
 at toilets and kitchenette amenities in all units <br/> Covered canopy ar
 ea <br/> Established Bayswater North industrial precinct <br/> Direct acc
 ess to Burgess Road and Canterbury Road <br/> Close to major arterials\, 
 including EastLink <br/>  <br/> Contact our agents to arrange an inspecti
 on today. <br/> </P></body></html>
END:VEVENT
END:VCALENDAR
