BEGIN:VCALENDAR
PRODID:-//commercialrealestate.com.au//NONSGML ical.net 4.0//EN
VERSION:2.0
BEGIN:VEVENT
DESCRIPTION:Landmark Creative Office Building | Flexible Investment or Occ
 upier Opportunity\n830 Elizabeth Street presents a rare opportunity to ac
 quire a landmark\, warehouse style commercial asset in the heart of Water
 loo.\n\nFormerly the Chubb factory\, the building has been thoughtfully r
 efurbished to a high standard while retaining its distinctive industrial 
 features\, including iconic sawtooth roofs\, impressive\, vaulted ceiling
 s and expansive light filled interiors. The result is a high quality crea
 tive office building offering strong holding income today with genuine fl
 exibility for the future.\n\nThe existing leases provide a secure income 
 profile with major lease expiries in September 2027 and February 2028\, c
 reating flexibility for investors seeking rental reversion\, as well as o
 wner occupiers looking to secure the asset now and occupy in the near to 
 medium term.\n\nConfigured across five separate suites\, the floor plates
  offer excellent optionality and can be acquired in one line or individua
 lly.\n\nKey Features\n Gross passing income of $1\,861\,809.95 p.a.\n 2\,
 220 sqm Net Lettable Area\n Suites ranging from 160 sqm  2\,220 sqm\n Pot
 ential rental upside with rental reversion from 2027 \n High-quality refu
 rbishment with modern A/C\, upgraded services and premium fit outs\n Abun
 dant natural light\, high ceilings and private amenities\n 23 secure on s
 ite car spaces\, providing excellent parking provision\n\n\nPrime South S
 ydney Location:\n\nProminently positioned on bustling Elizabeth Street di
 rectly opposite Waterloo Oval\, the property is approximately a 7 minute 
 walk to Green Square Station. The surrounding precinct offers a vibrant m
 ix of cafés\, restaurants\, gyms\, childcare centres and major retail ame
 nities\, including Woolworths.\n\nThe property benefits from excellent pu
 blic transport connectivity via bus routes along Elizabeth Street\, as we
 ll as convenient access to the Eastern Distributor and M8 Motorway\, plac
 ing the Sydney CBD and Sydney Airport within easy reach.\n\nFor further i
 nformation or to arrange an inspection\, please contact the exclusive sel
 ling agents.
DTEND:20260519T160000
DTSTAMP:20260421T052752Z
DTSTART:20260519T160000
SEQUENCE:0
SUMMARY:Expression Of Interest: 830 Elizabeth Street\, Waterloo NSW
UID:CRE-2020777280-EOI
X-ALT-DESC;FMTTYPE=text/html:<!DOCTYPE HTML PUBLIC "-//W3C//DTD HTML 3.2//EN"><html><head><
 title></title></head><body><P DIR=LTR>Landmark Creative Office Building |
  Flexible Investment or Occupier Opportunity <br/> 830 Elizabeth Street p
 resents a rare opportunity to acquire a landmark\, warehouse style commer
 cial asset in the heart of Waterloo.\n <br/> \n <br/> Formerly the Chubb 
 factory\, the building has been thoughtfully refurbished to a high standa
 rd while retaining its distinctive industrial features\, including iconic
  sawtooth roofs\, impressive\, vaulted ceilings and expansive light fille
 d interiors. The result is a high quality creative office building offeri
 ng strong holding income today with genuine flexibility for the future.\n
  <br/> \n <br/> The existing leases provide a secure income profile with 
 major lease expiries in September 2027 and February 2028\, creating flexi
 bility for investors seeking rental reversion\, as well as owner occupier
 s looking to secure the asset now and occupy in the near to medium term.\
 n <br/> \n <br/> Configured across five separate suites\, the floor plate
 s offer excellent optionality and can be acquired in one line or individu
 ally.\n <br/> \n <br/> Key Features\n <br/>  Gross passing income of $1\,
 861\,809.95 p.a.\n <br/>  2\,220 sqm Net Lettable Area\n <br/>  Suites ra
 nging from 160 sqm  2\,220 sqm\n <br/>  Potential rental upside with rent
 al reversion from 2027 \n <br/>  High-quality refurbishment with modern A
 /C\, upgraded services and premium fit outs\n <br/>  Abundant natural lig
 ht\, high ceilings and private amenities\n <br/>  23 secure on site car s
 paces\, providing excellent parking provision\n <br/> \n <br/> \n <br/> P
 rime South Sydney Location:\n <br/> \n <br/> Prominently positioned on bu
 stling Elizabeth Street directly opposite Waterloo Oval\, the property is
  approximately a 7 minute walk to Green Square Station. The surrounding p
 recinct offers a vibrant mix of cafés\, restaurants\, gyms\, childcare ce
 ntres and major retail amenities\, including Woolworths.\n <br/> \n <br/>
  The property benefits from excellent public transport connectivity via b
 us routes along Elizabeth Street\, as well as convenient access to the Ea
 stern Distributor and M8 Motorway\, placing the Sydney CBD and Sydney Air
 port within easy reach.\n <br/> \n <br/> For further information or to ar
 range an inspection\, please contact the exclusive selling agents.</P></b
 ody></html>
END:VEVENT
END:VCALENDAR
