BEGIN:VCALENDAR
PRODID:-//commercialrealestate.com.au//NONSGML ical.net 4.0//EN
VERSION:2.0
BEGIN:VEVENT
DESCRIPTION:195ha Residential Subdivision Site - Yatara\, Yass NSW\nCivium
  Property Group\, in conjunction with Johns & Co.\, are excited to presen
 t this unbeatable residential subdivision development opportunity on the 
 southern side of Yass. Yatara comprises of three blocks:\n\n Lot 5  which
  comprises of 126.81 Ha of C4-zoned land\, 42.49 Ha of R1-zoned residenti
 al developable land and 6 Ha of R5 large lot residential.\n Lot 4  compri
 sing of 15.29 Ha of R5-zoned land.\n Lot 104  comprising of 4.85 Ha of R1
  and RE1 land.\n\nThe R1-zoned (residential) land is elevated with a nort
 herly aspect and includes open areas with views across Yass. The C4-zoned
  portion is mostly cleared and contains timbered woodland across approxim
 ately 126.81 hectares.\n\nThe site adjoins a range of local uses: an elec
 trical substation to the south\, Walker Park to the east\, Yass Golf Cour
 se to the north and rural residential land to the west. The land adjoinin
 g Yass Golf Club is zoned for\, and would be the ideal setting for\, resi
 dential land subdivision and development.\n\nA current concept plan outli
 nes the potential for residential development across the main parent lot 
 (Lot 5) and other R1zoned areas. The plan suggests around 256 dwellings m
 ade up of standard residential lots\, cluster housing and possible medium
 density options within a communitytitle layout. There is also the possibi
 lity of incorporating adjoining land to increase the overall development 
 area and dwelling yield. There are over 200 single title residential bloc
 ks in this initial concept.\n\nA current concept plan for the potential d
 evelopment suggests around 256 dwellings made up \nof standard residentia
 l lots\, cluster housing and possible medium-density options within a \nc
 ommunity-title layout. There is also the possibility of incorporating adj
 oining land to increase \nthe overall development area and dwelling yield
 . There are over 200 single title residential blocks \nin this initial co
 ncept.\n\nAs Canberra's appetite for detached housing continues to grow a
 nd available land becomes increasingly limited\, buyers are looking beyon
 d the city for space\, value\, and lifestyle. Yass has emerged as a natur
 al choice\; a thriving regional centre benefiting from its proximity to t
 he Capital. The future duplication of the Barton Highway will reduce trav
 el times for commuters.\n\nYatara offers developers a rare chance to shap
 e the future of this growing region and contribute to the next chapter of
  the Capital Region's residential expansion.\n\nThis development opportun
 ity is offered for sale by Expressions of Interest\, closing 3pm 27 May 2
 026. For more information\, or to arrange a site visit\, contact:\n\nAndr
 ew Smith - andrew.smith@civium.com.au 0409 600 471\nDominic Johns - domin
 ic@johnsandco.com.au 0481 211 767
DTEND:20260527T150000
DTSTAMP:20260421T041917Z
DTSTART:20260527T150000
SEQUENCE:0
SUMMARY:Expression Of Interest: Lot/25 Shearsby Crescent\, Yass NSW
UID:CRE-2020777035-EOI
X-ALT-DESC;FMTTYPE=text/html:<!DOCTYPE HTML PUBLIC "-//W3C//DTD HTML 3.2//EN"><html><head><
 title></title></head><body><P DIR=LTR>195ha Residential Subdivision Site 
 - Yatara\, Yass NSW <br/> Civium Property Group\, in conjunction with Joh
 ns & Co.\, are excited to present this unbeatable residential subdivision
  development opportunity on the southern side of Yass. Yatara comprises o
 f three blocks: <br/>  <br/>  Lot 5  which comprises of 126.81 Ha of C4-z
 oned land\, 42.49 Ha of R1-zoned residential developable land and 6 Ha of
  R5 large lot residential. <br/>  Lot 4  comprising of 15.29 Ha of R5-zon
 ed land. <br/>  Lot 104  comprising of 4.85 Ha of R1 and RE1 land. <br/> 
  <br/> The R1-zoned (residential) land is elevated with a northerly aspec
 t and includes open areas with views across Yass. The C4-zoned portion is
  mostly cleared and contains timbered woodland across approximately 126.8
 1 hectares. <br/>  <br/> The site adjoins a range of local uses: an elect
 rical substation to the south\, Walker Park to the east\, Yass Golf Cours
 e to the north and rural residential land to the west. The land adjoining
  Yass Golf Club is zoned for\, and would be the ideal setting for\, resid
 ential land subdivision and development. <br/>  <br/> A current concept p
 lan outlines the potential for residential development across the main pa
 rent lot (Lot 5) and other R1zoned areas. The plan suggests around 256 dw
 ellings made up of standard residential lots\, cluster housing and possib
 le mediumdensity options within a communitytitle layout. There is also th
 e possibility of incorporating adjoining land to increase the overall dev
 elopment area and dwelling yield. There are over 200 single title residen
 tial blocks in this initial concept. <br/>  <br/> A current concept plan 
 for the potential development suggests around 256 dwellings made up  <br/
 > of standard residential lots\, cluster housing and possible medium-dens
 ity options within a  <br/> community-title layout. There is also the pos
 sibility of incorporating adjoining land to increase  <br/> the overall d
 evelopment area and dwelling yield. There are over 200 single title resid
 ential blocks  <br/> in this initial concept. <br/>  <br/> As Canberra's 
 appetite for detached housing continues to grow and available land become
 s increasingly limited\, buyers are looking beyond the city for space\, v
 alue\, and lifestyle. Yass has emerged as a natural choice\; a thriving r
 egional centre benefiting from its proximity to the Capital. The future d
 uplication of the Barton Highway will reduce travel times for commuters. 
 <br/>  <br/> Yatara offers developers a rare chance to shape the future o
 f this growing region and contribute to the next chapter of the Capital R
 egion's residential expansion. <br/>  <br/> This development opportunity 
 is offered for sale by Expressions of Interest\, closing 3pm 27 May 2026.
  For more information\, or to arrange a site visit\, contact: <br/>  <br/
 > Andrew Smith - andrew.smith@civium.com.au 0409 600 471 <br/> Dominic Jo
 hns - dominic@johnsandco.com.au 0481 211 767</P></body></html>
END:VEVENT
END:VCALENDAR
