BEGIN:VCALENDAR
PRODID:-//commercialrealestate.com.au//NONSGML ical.net 4.0//EN
VERSION:2.0
BEGIN:VEVENT
DESCRIPTION:Alexandria Ultimate Turn Key Opportunity\nColliers are pleased
  to present 6 Birmingham Street\, Alexandria\, offered to the market for 
 sale via Expressions of Interest.\n\nPositioned within one of South Sydne
 y's premier commercial precincts\, this fully refurbished asset delivers 
 a versatile\, turn-key opportunity\, meticulously upgraded to provide a b
 est-in-class environment for occupiers seeking style\, presence\, and fun
 ctionality.\n\nEvery aspect of the building has been carefully curated to
  create an exceptional showroom and workspace\, suited to a range of high
 -profile uses including luxury automotive\, flagship retail/showroom\, de
 sign studios\, or high-impact office and media environments. This is a ra
 re offering that stands ahead of competing stock currently available in t
 he market.\n\nKey Features:\n- Expansive 9-metre wide roller shutter door
  providing seamless vehicle access \n- Purpose-built stage platform ideal
  for automotive display\, photography\, or premium showroom activation \n
 - High-end finishes throughout\, enhanced by abundant natural light and e
 xposed brickwork detailing \n- 1:16 grade access ramp\, built to code com
 pliance and DDA standards\, accommodating cars\, trucks\, and vans \n-  H
 igh strength 500kg magnetic locking system providing enhanced access cont
 rol\, complemented by a heavy-duty roller shutter securing the main entry
 \n- Reinforced ramp extending to the boundary\, designed to support heavi
 er vehicle movements \n- Brand new contemporary kitchen and staff amenity
  \n- New carpet flooring installed throughout \n- Upgraded lighting desig
 ned for showroom-quality display and presentation \n- Proposed landscaped
  rear garden/activation area\, creating a unique indoor-outdoor offering 
 \n- Freshly painted throughout \n- Newly exposed walls delivering authent
 ic warehouse character and industrial appeal \n\nAlexandria has firmly es
 tablished itself as one of Sydney's most dynamic showroom and creative hu
 bsa destination where premium brands\, innovation\, and design converge. 
 Characterised by wide streets\, high-quality warehouse conversions\, and 
 a strong commercial ecosystem\, the precinct attracts leading automotive 
 groups\, furniture and interiors showrooms\, and creative businesses alik
 e. Its strategic proximity to the CBD\, Sydney Airport\, and major arteri
 al routes ensures exceptional accessibility for both clients and staff\, 
 further underpinning its appeal.\n\n6 Birmingham Street\, Alexandria is o
 ffered for sale via Expressions of Interest\, closing 3:00pm (AEST)\, Tue
 sday 19 May 2026.\n\nFor more information or to arrange an inspection\, p
 lease contact the below Colliers agent:\n\nJustin Rosenberg\n0432 027 141
 \n\nMichael Crombie\n0412 903 063
DTEND:20260519T150000
DTSTAMP:20260421T041917Z
DTSTART:20260519T150000
LOCATION:6 Birmingham Street\, Alexandria
SEQUENCE:0
SUMMARY:Expression Of Interest: 6 Birmingham Street\, Alexandria NSW
UID:CRE-2020776937-EOI
X-ALT-DESC;FMTTYPE=text/html:<!DOCTYPE HTML PUBLIC "-//W3C//DTD HTML 3.2//EN"><html><head><
 title></title></head><body><P DIR=LTR>Alexandria Ultimate Turn Key Opport
 unity <br/> Colliers are pleased to present 6 Birmingham Street\, Alexand
 ria\, offered to the market for sale via Expressions of Interest. <br/>  
 <br/> Positioned within one of South Sydney's premier commercial precinct
 s\, this fully refurbished asset delivers a versatile\, turn-key opportun
 ity\, meticulously upgraded to provide a best-in-class environment for oc
 cupiers seeking style\, presence\, and functionality. <br/>  <br/> Every 
 aspect of the building has been carefully curated to create an exceptiona
 l showroom and workspace\, suited to a range of high-profile uses includi
 ng luxury automotive\, flagship retail/showroom\, design studios\, or hig
 h-impact office and media environments. This is a rare offering that stan
 ds ahead of competing stock currently available in the market. <br/>  <br
 /> Key Features: <br/> - Expansive 9-metre wide roller shutter door provi
 ding seamless vehicle access  <br/> - Purpose-built stage platform ideal 
 for automotive display\, photography\, or premium showroom activation  <b
 r/> - High-end finishes throughout\, enhanced by abundant natural light a
 nd exposed brickwork detailing  <br/> - 1:16 grade access ramp\, built to
  code compliance and DDA standards\, accommodating cars\, trucks\, and va
 ns  <br/> -  High strength 500kg magnetic locking system providing enhanc
 ed access control\, complemented by a heavy-duty roller shutter securing 
 the main entry <br/> - Reinforced ramp extending to the boundary\, design
 ed to support heavier vehicle movements  <br/> - Brand new contemporary k
 itchen and staff amenity  <br/> - New carpet flooring installed throughou
 t  <br/> - Upgraded lighting designed for showroom-quality display and pr
 esentation  <br/> - Proposed landscaped rear garden/activation area\, cre
 ating a unique indoor-outdoor offering  <br/> - Freshly painted throughou
 t  <br/> - Newly exposed walls delivering authentic warehouse character a
 nd industrial appeal  <br/>  <br/> Alexandria has firmly established itse
 lf as one of Sydney's most dynamic showroom and creative hubsa destinatio
 n where premium brands\, innovation\, and design converge. Characterised 
 by wide streets\, high-quality warehouse conversions\, and a strong comme
 rcial ecosystem\, the precinct attracts leading automotive groups\, furni
 ture and interiors showrooms\, and creative businesses alike. Its strateg
 ic proximity to the CBD\, Sydney Airport\, and major arterial routes ensu
 res exceptional accessibility for both clients and staff\, further underp
 inning its appeal. <br/>  <br/> 6 Birmingham Street\, Alexandria is offer
 ed for sale via Expressions of Interest\, closing 3:00pm (AEST)\, Tuesday
  19 May 2026. <br/>  <br/> For more information or to arrange an inspecti
 on\, please contact the below Colliers agent: <br/>  <br/> Justin Rosenbe
 rg <br/> 0432 027 141 <br/>  <br/> Michael Crombie <br/> 0412 903 063</P>
 </body></html>
END:VEVENT
END:VCALENDAR
