BEGIN:VCALENDAR
PRODID:-//commercialrealestate.com.au//NONSGML ical.net 4.0//EN
VERSION:2.0
BEGIN:VEVENT
DESCRIPTION:Prime Industrial Freehold Facility\nColliers\, in conjunction 
 with Sutton Anderson\, are pleased to offer this rare freehold industrial
  opportunity in one of Sydney's most tightly held precincts.\n\n4 George 
 Place\, Artarmon delivers scale\, flexibility and short-term upside in a 
 proven "last mile" location just 8.6km* from the Sydney CBD.\n\n\nKey Hig
 hlights\n\n· 2\,270sqm freehold landholding*\n\n· 3\,208sqm total GFA* (w
 arehouse\, office & mezzanine)\n\n· Freestanding\, two-level industrial b
 uilding\n\n· Net passing income: $852\,225/year approx.\n\n· Lease expire
 s 31 October 2026  flexibility to extend\, occupy or reposition\n\n· Appr
 oximately 37 on-site car parks\n\n· Zoned E4  General Industrial\n\n· Exc
 ellent exposure to the Gore Hill Freeway\n\n· Limited supply precinct und
 erpinning strong long-term demand\n\n\nLocation Benefits\n\n· Core Artarm
 on industrial precinct\n\n· Immediate access to Gore Hill Freeway\, Pacif
 ic Highway & Lane Cove Tunnel\n\n· Approx. 700m to Artarmon Train Station
 *\n\n· Close to Chatswood\, St Leonards & North Sydney\n\n\nSale Process\
 n\nOffered for sale via Expressions of Interest closing Wednesday 27 May 
 2026 at 3:00pm (AEST).\n\n*All figures are approximate
DTEND:20260527T150000
DTSTAMP:20260421T041917Z
DTSTART:20260527T150000
LOCATION:4 George Place\, Artarmon
SEQUENCE:0
SUMMARY:Expression Of Interest: 4 George Place\, Artarmon NSW
UID:CRE-2020776889-EOI
X-ALT-DESC;FMTTYPE=text/html:<!DOCTYPE HTML PUBLIC "-//W3C//DTD HTML 3.2//EN"><html><head><
 title></title></head><body><P DIR=LTR>Prime Industrial Freehold Facility 
 <br/> Colliers\, in conjunction with Sutton Anderson\, are pleased to off
 er this rare freehold industrial opportunity in one of Sydney's most tigh
 tly held precincts. <br/>  <br/> 4 George Place\, Artarmon delivers scale
 \, flexibility and short-term upside in a proven "last mile" location jus
 t 8.6km* from the Sydney CBD. <br/>  <br/>  <br/> Key Highlights <br/>  <
 br/> · 2\,270sqm freehold landholding* <br/>  <br/> · 3\,208sqm total GFA
 * (warehouse\, office & mezzanine) <br/>  <br/> · Freestanding\, two-leve
 l industrial building <br/>  <br/> · Net passing income: $852\,225/year a
 pprox. <br/>  <br/> · Lease expires 31 October 2026  flexibility to exten
 d\, occupy or reposition <br/>  <br/> · Approximately 37 on-site car park
 s <br/>  <br/> · Zoned E4  General Industrial <br/>  <br/> · Excellent ex
 posure to the Gore Hill Freeway <br/>  <br/> · Limited supply precinct un
 derpinning strong long-term demand <br/>  <br/>  <br/> Location Benefits 
 <br/>  <br/> · Core Artarmon industrial precinct <br/>  <br/> · Immediate
  access to Gore Hill Freeway\, Pacific Highway & Lane Cove Tunnel <br/>  
 <br/> · Approx. 700m to Artarmon Train Station* <br/>  <br/> · Close to C
 hatswood\, St Leonards & North Sydney <br/>  <br/>  <br/> Sale Process <b
 r/>  <br/> Offered for sale via Expressions of Interest closing Wednesday
  27 May 2026 at 3:00pm (AEST). <br/>  <br/> *All figures are approximate<
 /P></body></html>
END:VEVENT
END:VCALENDAR
