BEGIN:VCALENDAR
PRODID:-//commercialrealestate.com.au//NONSGML ical.net 4.0//EN
VERSION:2.0
BEGIN:VEVENT
DESCRIPTION:Trophy Caxton Street Opportunity - Iconic Location\, Unmatched
  Exposure\, Immediate Upside\nColliers is proud to present 18-26 Caxton S
 treet\, Petrie Terrace - a rare opportunity to secure a high-profile free
 hold asset in one of Brisbane's most iconic entertainment precincts\, off
 ered For Sale via Expressions of Interest closing Thursday\, 21 May 2026 
 at 4pm (AEST).\n\nSituated just 160m* from Suncorp Stadium\, this blue-ch
 ip corner holding offers the ultimate combination of exposure\, income\, 
 and future upside in the heart of Caxton Street.\n\nKey highlights includ
 e:\n•  Trophy corner position with 24m* frontage to Caxton Street\n•  512
 sqm* NLA across two adjoining freehold buildings\n•  Secure holding incom
 e + vacant space ready to activate\n•  High-end refurbishment with premiu
 m hospitality fitout\n•  Fully equipped commercial kitchen\, liquor licen
 ce & services in place\n•  Favourable DC1 zoning supporting diverse uses\
 n•  Self-contained apartment/office providing additional flexibility\n•  
 Unrivalled location in Brisbane's premier dining & game-day precinct\n•  
 Surrounded by significant investment and long-term growth\n\nFor further 
 information\, please contact the exclusive marketing agents at Colliers.\
 n\n\n*approx
DTEND:20260521T160000
DTSTAMP:20260421T024950Z
DTSTART:20260521T160000
LOCATION:4pm AEST
SEQUENCE:0
SUMMARY:Expression Of Interest: 18-26 Caxton Street\, Petrie Terrace QLD
UID:CRE-2020776558-EOI
X-ALT-DESC;FMTTYPE=text/html:<!DOCTYPE HTML PUBLIC "-//W3C//DTD HTML 3.2//EN"><html><head><
 title></title></head><body><P DIR=LTR>Trophy Caxton Street Opportunity - 
 Iconic Location\, Unmatched Exposure\, Immediate Upside <br/> Colliers is
  proud to present 18-26 Caxton Street\, Petrie Terrace - a rare opportuni
 ty to secure a high-profile freehold asset in one of Brisbane's most icon
 ic entertainment precincts\, offered For Sale via Expressions of Interest
  closing Thursday\, 21 May 2026 at 4pm (AEST). <br/>  <br/> Situated just
  160m* from Suncorp Stadium\, this blue-chip corner holding offers the ul
 timate combination of exposure\, income\, and future upside in the heart 
 of Caxton Street. <br/>  <br/> Key highlights include: <br/> •  Trophy co
 rner position with 24m* frontage to Caxton Street <br/> •  512sqm* NLA ac
 ross two adjoining freehold buildings <br/> •  Secure holding income + va
 cant space ready to activate <br/> •  High-end refurbishment with premium
  hospitality fitout <br/> •  Fully equipped commercial kitchen\, liquor l
 icence & services in place <br/> •  Favourable DC1 zoning supporting dive
 rse uses <br/> •  Self-contained apartment/office providing additional fl
 exibility <br/> •  Unrivalled location in Brisbane's premier dining & gam
 e-day precinct <br/> •  Surrounded by significant investment and long-ter
 m growth <br/>  <br/> For further information\, please contact the exclus
 ive marketing agents at Colliers. <br/>  <br/>  <br/> *approx</P></body><
 /html>
END:VEVENT
END:VCALENDAR
