BEGIN:VCALENDAR
PRODID:-//commercialrealestate.com.au//NONSGML ical.net 4.0//EN
VERSION:2.0
BEGIN:VEVENT
DESCRIPTION:A Flagship Footprint in the Heart of the South Coast's Growth 
 Engine\nKnight Frank is proud to present a premier asset that perfectly c
 aptures the momentum of the NSW South Coast. 124 Princes Highway offers a
 n unmatched combination of highway dominance\, versatile infrastructure\,
  and significant future upside. \n\nKey Property Highlights: \n\nMassive 
 Exposure: Over 40 metres of direct frontage to the Princes Highway\, capt
 uring the eyes of thousands of passing vehicles daily. \n\nSubstantial La
 ndholding: An expansive 9\,037 sqm site providing the scale required for 
 major retail\, industrial\, or showroom operations. \n\nFlexible Infrastr
 ucture: Approx. 2\,000 sqm of functional improvements including a modern 
 showroom\, warehouse and office facilities. \n\nOperational Excellence: M
 assive 5\,500 sqm hardstand yard and dual street access (Princes Highway 
 & Enterprise Avenue) for seamless heavy vehicle circulation and logistics
 . \n\nStrategic Zoning: E3 Productivity Supportideal for automotive\, tra
 de retail\, bulky goods\, or large-format display. \n\nThe Why?  \n\nThe 
 South Coast is experiencing a transformative shift. With major infrastruc
 ture upgrades enhancing connectivity to Sydney and the Illawarra\, South 
 Nowra has solidified its status as the region's premier commercial hub. S
 urrounded by national heavyweights like Bunnings and Harvey Norman\, this
  property places you at the centre of a thriving ecosystem of national br
 ands and local success stories. \n\nWhether you are an owner-occupier loo
 king for a flagship location or an investor seeking a high exposure asset
  in a supply constrained market\, 124 Princes Highway is a statement of i
 ntent. \n\nDon't miss your chance to own a piece of the South Coast's fut
 ure. \n\nContact Ben at Knight Frank Illawarra today to arrange an inspec
 tion and secure this landmark site.
DTEND:20260514T160000
DTSTAMP:20260422T095807Z
DTSTART:20260514T160000
SEQUENCE:0
SUMMARY:Expression Of Interest: 124 Princes Highway\, South Nowra NSW
UID:CRE-2020776020-EOI
X-ALT-DESC;FMTTYPE=text/html:<!DOCTYPE HTML PUBLIC "-//W3C//DTD HTML 3.2//EN"><html><head><
 title></title></head><body><P DIR=LTR>A Flagship Footprint in the Heart o
 f the South Coast's Growth Engine <br/> Knight Frank is proud to present 
 a premier asset that perfectly captures the momentum of the NSW South Coa
 st. 124 Princes Highway offers an unmatched combination of highway domina
 nce\, versatile infrastructure\, and significant future upside.  <br/>  <
 br/> Key Property Highlights:  <br/>  <br/> Massive Exposure: Over 40 met
 res of direct frontage to the Princes Highway\, capturing the eyes of tho
 usands of passing vehicles daily.  <br/>  <br/> Substantial Landholding: 
 An expansive 9\,037 sqm site providing the scale required for major retai
 l\, industrial\, or showroom operations.  <br/>  <br/> Flexible Infrastru
 cture: Approx. 2\,000 sqm of functional improvements including a modern s
 howroom\, warehouse and office facilities.  <br/>  <br/> Operational Exce
 llence: Massive 5\,500 sqm hardstand yard and dual street access (Princes
  Highway & Enterprise Avenue) for seamless heavy vehicle circulation and 
 logistics.  <br/>  <br/> Strategic Zoning: E3 Productivity Supportideal f
 or automotive\, trade retail\, bulky goods\, or large-format display.  <b
 r/>  <br/> The Why?   <br/>  <br/> The South Coast is experiencing a tran
 sformative shift. With major infrastructure upgrades enhancing connectivi
 ty to Sydney and the Illawarra\, South Nowra has solidified its status as
  the region's premier commercial hub. Surrounded by national heavyweights
  like Bunnings and Harvey Norman\, this property places you at the centre
  of a thriving ecosystem of national brands and local success stories.  <
 br/>  <br/> Whether you are an owner-occupier looking for a flagship loca
 tion or an investor seeking a high exposure asset in a supply constrained
  market\, 124 Princes Highway is a statement of intent.  <br/>  <br/> Don
 't miss your chance to own a piece of the South Coast's future.  <br/>  <
 br/> Contact Ben at Knight Frank Illawarra today to arrange an inspection
  and secure this landmark site.</P></body></html>
END:VEVENT
END:VCALENDAR
