BEGIN:VCALENDAR
PRODID:-//commercialrealestate.com.au//NONSGML ical.net 4.0//EN
VERSION:2.0
BEGIN:VEVENT
DESCRIPTION:WINDSOR'S MOST PRESTIGIOUS CREATIVE HUB\nGorman Commercial is 
 pleased to offer 151 Albert Street\, Windsor for Sale by Expressions of I
 nterest closing Thursday 21st May 2026 at 2pm.\n\n151 Albert Street\, Win
 dsor is one of Melbourne’s finest bespoke office/showroom buildings that 
 suits creative organisations seeking unmatched luxury and finishes.\n\nTh
 e property enjoys the following features:\n\n\nSubstantial part three-lev
 el character-style office and showroom building benefitting from a premiu
 m\, high-end refurbishment by renowned luxury designer Tamsin Johnson Int
 eriors\nTotal building area of 1\,511sqm* with flexible layout suitable f
 or single or multi-occupation\nExpansive landholding of 817sqm* with dual
  street frontages to Albert Street and Peel Street\nShort-term lease in p
 lace with the ability to offer vacant possession\nProminent inner-city lo
 cation positioned directly opposite Windsor Train Station and only 100m* 
 to Chapel Street\nExcellent connectivity with immediate access to Princes
  Highway/Dandenong Road and multiple tram routes\nZoning: General Residen
 tial Zone – Schedule 12\, offering future flexibility (STCA)\nIdeal for o
 wner-occupiers\, investors or value-add purchasers seeking repositioning 
 or redevelopment potential (STCA)\nSurrounded by an abundance of lifestyl
 e amenity including cafés\, restaurants\, bars and strong residential cat
 chment\n\nTo arrange an inspection or to receive further details\, please
  contact the conjunctional selling agents listed below.\n\nJonathon McCor
 mack 0418 835 885\n\nPeter Bremner 0412 326 942\n
DTEND:20260421T140000
DTSTAMP:20260420T070025Z
DTSTART:20260421T140000
SEQUENCE:0
SUMMARY:Expression Of Interest: 151 Albert Street\, Windsor VIC
UID:CRE-2020774754-EOI
X-ALT-DESC;FMTTYPE=text/html:<!DOCTYPE HTML PUBLIC "-//W3C//DTD HTML 3.2//EN"><html><head><
 title></title></head><body><P DIR=LTR>WINDSOR'S MOST PRESTIGIOUS CREATIVE
  HUB <br/> Gorman Commercial is pleased to offer 151 Albert Street\, Wind
 sor for Sale by Expressions of Interest closing Thursday 21st May 2026 at
  2pm. <br/> \n <br/> 151 Albert Street\, Windsor is one of Melbourne’s fi
 nest bespoke office/showroom buildings that suits creative organisations 
 seeking unmatched luxury and finishes. <br/> \n <br/> The property enjoys
  the following features: <br/> \n <br/> \n <br/> Substantial part three-l
 evel character-style office and showroom building benefitting from a prem
 ium\, high-end refurbishment by renowned luxury designer Tamsin Johnson I
 nteriors\n <br/> Total building area of 1\,511sqm* with flexible layout s
 uitable for single or multi-occupation\n <br/> Expansive landholding of 8
 17sqm* with dual street frontages to Albert Street and Peel Street\n <br/
 > Short-term lease in place with the ability to offer vacant possession\n
  <br/> Prominent inner-city location positioned directly opposite Windsor
  Train Station and only 100m* to Chapel Street\n <br/> Excellent connecti
 vity with immediate access to Princes Highway/Dandenong Road and multiple
  tram routes\n <br/> Zoning: General Residential Zone – Schedule 12\, off
 ering future flexibility (STCA)\n <br/> Ideal for owner-occupiers\, inves
 tors or value-add purchasers seeking repositioning or redevelopment poten
 tial (STCA)\n <br/> Surrounded by an abundance of lifestyle amenity inclu
 ding cafés\, restaurants\, bars and strong residential catchment\n <br/> 
 \n <br/> To arrange an inspection or to receive further details\, please 
 contact the conjunctional selling agents listed below. <br/> \n <br/> Jon
 athon McCormack 0418 835 885 <br/> \n <br/> Peter Bremner 0412 326 942 <b
 r/> </P></body></html>
END:VEVENT
END:VCALENDAR
