BEGIN:VCALENDAR
PRODID:-//commercialrealestate.com.au//NONSGML ical.net 4.0//EN
VERSION:2.0
BEGIN:VEVENT
DESCRIPTION:First time to market | One owner mixed use investment\nKnight 
 Frank Townsville is pleased to offer For Sale this well established mixed
  use investment prominently positioned along one of Townsville's busiest 
 arterial roads\, just minutes from the CBD.\n\n260-262 Charters Towers Ro
 ad is underpinned by a diverse tenant profile spanning allied health\, pr
 ofessional services and retail operators\, providing a resilient and bala
 nced income stream and benefits from strong exposure and convenient on si
 te parking. Located within close proximity to the Townsville CBD\, major 
 medical precincts and surrounding residential catchments provides tenants
  and customers excellent connectivity and accessibility.\n\nKey features 
 include: \n- Net income of $251\,865 per annum*\n- High profile land hold
 ing of 2\,656 sqm*\n- Net lettable area of 1\,448 sqm*\n- Gross floor are
 a of 1\,492 sqm* \n- Flexible mixed-use zoning\n- 37 on-site car parks of
 fering absolute consumer convenience\n\nThe property is being offered For
  Sale by Expressions of Interest closing Thursday\, 21 May 2026 at 5:00pm
 . \n\nFor more information or to arrange an inspection\, please contact M
 ark Fitzgerald or Dan Place. \n\n*Approximately.
DTEND:20260521T170000
DTSTAMP:20260420T062513Z
DTSTART:20260521T170000
SEQUENCE:0
SUMMARY:Expression Of Interest: 260-262 Charters Towers Road\, Hermit Park
  QLD
UID:CRE-2020774426-EOI
X-ALT-DESC;FMTTYPE=text/html:<!DOCTYPE HTML PUBLIC "-//W3C//DTD HTML 3.2//EN"><html><head><
 title></title></head><body><P DIR=LTR>First time to market | One owner mi
 xed use investment <br/> Knight Frank Townsville is pleased to offer For 
 Sale this well established mixed use investment prominently positioned al
 ong one of Townsville's busiest arterial roads\, just minutes from the CB
 D. <br/>  <br/> 260-262 Charters Towers Road is underpinned by a diverse 
 tenant profile spanning allied health\, professional services and retail 
 operators\, providing a resilient and balanced income stream and benefits
  from strong exposure and convenient on site parking. Located within clos
 e proximity to the Townsville CBD\, major medical precincts and surroundi
 ng residential catchments provides tenants and customers excellent connec
 tivity and accessibility. <br/>  <br/> Key features include:  <br/> - Net
  income of $251\,865 per annum* <br/> - High profile land holding of 2\,6
 56 sqm* <br/> - Net lettable area of 1\,448 sqm* <br/> - Gross floor area
  of 1\,492 sqm*  <br/> - Flexible mixed-use zoning <br/> - 37 on-site car
  parks offering absolute consumer convenience <br/>  <br/> The property i
 s being offered For Sale by Expressions of Interest closing Thursday\, 21
  May 2026 at 5:00pm.  <br/>  <br/> For more information or to arrange an 
 inspection\, please contact Mark Fitzgerald or Dan Place.  <br/>  <br/> *
 Approximately.</P></body></html>
END:VEVENT
END:VCALENDAR
