BEGIN:VCALENDAR
PRODID:-//commercialrealestate.com.au//NONSGML ical.net 4.0//EN
VERSION:2.0
BEGIN:VEVENT
DESCRIPTION:EXCEPTIONALLY RARE FREESTANDING INDUSTRIAL FACILITY\, EXPANSIV
 E REAR YARD\, EXPEDITED OCCUPATION OPPORTUNITIES\nColliers is pleased to 
 present to the market for sale 7 Tollis Place\, Seven Hills  an exception
 ally rare freestanding industrial opportunity offering expansive rear yar
 d\, short term income and expedited occupation potential in one of Wester
 n Sydney's most tightly held industrial precincts.\n\nThe property is sit
 uated on a substantial 5\,525m²* landholding and includes a modern\, high
 ly functional 2\,990m²* industrial facility\, providing high-clearance wa
 rehouse\, quality office accommodation and extensive 1\,500m²* rear yard.
  The asset offers genuine long-term flexibility for owner-occupiers seeki
 ng future expansion\, truck parking\, or outdoor storage (stca).\n\nLease
 d to Nationwide Towing & Transport Pty Ltd with the lease expiring in the
  short term\, and no option to renew\, delivering short-term income and a
  clear pathway to vacant possession.\n\nKey Property Highlights:\n\n•  At
 tractive short-term lease expiry with a clear pathway to vacant possessio
 n in a tightly held market\n•  Strategic 5\,525m² landholding with extens
 ive 1\,500m²* rear yard\n•  2\,990m² of high-quality improvements includi
 ng high-clearance full-height concrete panel warehousing\, concrete mezza
 nine storage areas\, and quality office accommodation with excellent natu
 ral light\n•  High-clearance\, column-free warehouse space with two (2) o
 n-grade roller shutter doors and excellent truck access\n•  Large power s
 upply suitable for warehousing and manufacturing\n•  Expedited occupation
 \, value add\, or rental reversion opportunities\n•  Strategically positi
 oned with direct access to Old Windsor Road\, and the M2 / M7 Motorway\, 
 and within walking distance to Seven Hills Station.\n•  E4 General Indust
 rial zoning permitting 24/7 operations\n\n*Approximately\n\n7 Tollis Plac
 e\, Seven Hills is being offered for sale via an Expressions of Interest 
 (EOI) Campaign\, closing at 3:00PM (AEST) Wednesday\, 27 May 2026. \n\nFo
 r more information or to arrange an inspection\, please contact one of ou
 r experts.
DTEND:20260527T150000
DTSTAMP:20260420T044911Z
DTSTART:20260527T150000
LOCATION:7 Tollis Place\, Seven Hills
SEQUENCE:0
SUMMARY:Expression Of Interest: 7 Tollis Place\, Seven Hills NSW
UID:CRE-2020774334-EOI
X-ALT-DESC;FMTTYPE=text/html:<!DOCTYPE HTML PUBLIC "-//W3C//DTD HTML 3.2//EN"><html><head><
 title></title></head><body><P DIR=LTR>EXCEPTIONALLY RARE FREESTANDING IND
 USTRIAL FACILITY\, EXPANSIVE REAR YARD\, EXPEDITED OCCUPATION OPPORTUNITI
 ES <br/> Colliers is pleased to present to the market for sale 7 Tollis P
 lace\, Seven Hills  an exceptionally rare freestanding industrial opportu
 nity offering expansive rear yard\, short term income and expedited occup
 ation potential in one of Western Sydney's most tightly held industrial p
 recincts. <br/>  <br/> The property is situated on a substantial 5\,525m²
 * landholding and includes a modern\, highly functional 2\,990m²* industr
 ial facility\, providing high-clearance warehouse\, quality office accomm
 odation and extensive 1\,500m²* rear yard. The asset offers genuine long-
 term flexibility for owner-occupiers seeking future expansion\, truck par
 king\, or outdoor storage (stca). <br/>  <br/> Leased to Nationwide Towin
 g & Transport Pty Ltd with the lease expiring in the short term\, and no 
 option to renew\, delivering short-term income and a clear pathway to vac
 ant possession. <br/>  <br/> Key Property Highlights: <br/>  <br/> •  Att
 ractive short-term lease expiry with a clear pathway to vacant possession
  in a tightly held market <br/> •  Strategic 5\,525m² landholding with ex
 tensive 1\,500m²* rear yard <br/> •  2\,990m² of high-quality improvement
 s including high-clearance full-height concrete panel warehousing\, concr
 ete mezzanine storage areas\, and quality office accommodation with excel
 lent natural light <br/> •  High-clearance\, column-free warehouse space 
 with two (2) on-grade roller shutter doors and excellent truck access <br
 /> •  Large power supply suitable for warehousing and manufacturing <br/>
  •  Expedited occupation\, value add\, or rental reversion opportunities 
 <br/> •  Strategically positioned with direct access to Old Windsor Road\
 , and the M2 / M7 Motorway\, and within walking distance to Seven Hills S
 tation. <br/> •  E4 General Industrial zoning permitting 24/7 operations 
 <br/>  <br/> *Approximately <br/>  <br/> 7 Tollis Place\, Seven Hills is 
 being offered for sale via an Expressions of Interest (EOI) Campaign\, cl
 osing at 3:00PM (AEST) Wednesday\, 27 May 2026.  <br/>  <br/> For more in
 formation or to arrange an inspection\, please contact one of our experts
 .</P></body></html>
END:VEVENT
END:VCALENDAR
