BEGIN:VCALENDAR
PRODID:-//commercialrealestate.com.au//NONSGML ical.net 4.0//EN
VERSION:2.0
BEGIN:VEVENT
DESCRIPTION:The Heritage Collection | Final Remaining 806m²\nA rare opport
 unity to secure the last remaining offering within Republic Spotswood's H
 eritage Collection.\n\nExpressions of Interest close Wednesday 27 May at 
 12:00pm\n\nOriginally constructed in 1911 as the Bickford\, Smith & Co bu
 ilding\, designed by Gibbs\, Finlay\, Morsby and Coates\, the asset holds
  recognised historic significance within the City of Hobsons Bay.\n\nThe 
 broader Republic precinct has been thoughtfully reimagined\, bringing a c
 onsidered architectural approach that balances heritage character with mo
 dern functionality.\n\nReleased initially via a VIP private release\, two
  spaces have already been secured\, reflecting strong early demand.\n\nSo
 ld | C1 Warehouse: 339m²\nSold | C2 Heritage Warehouse: 245m²\n\nOne rema
 ins.\n\nThis final 806m² offering is the only remaining opportunity withi
 n the Heritage Collection\, combining scale\, character and flexibility w
 ithin one of the inner west's most tightly held precincts.\n\nGround Floo
 r: 601m²\nMezzanine: 205m²\nTotal Building Area: 806m²*\n\nA volume play 
 rarely seen in heritage conversions. Open span\, high ceilings\, timber t
 russes and original brickwork create a space that can be shaped around yo
 ur business\, not the other way around.\n\nWhy This Works:\n\n Final rema
 ining opportunity within the Heritage Collection\n One of one asset with 
 genuine scale and presence\n Original brickwork\, timber trusses and high
  ceilings\n Three phase power and modern services\n Flexible configuratio
 n for office\, showroom or warehouse use\n Positioned within a curated mi
 xed-use precinct\n Walking distance to Spotswood Station and surrounding 
 amenity\n Strong connectivity to Melbourne CBD and major arterials\n\nSpo
 tswood continues to evolve as one of Melbourne's most tightly held inner-
 west locations\, attracting occupiers seeking connectivity\, amenity and 
 long-term positioning.\n\nA blank canvas with the scale\, character and f
 lexibility to create something that truly stands apart.\n\nInformation Me
 morandum and Contract of Sale available on request.\nContact the exclusiv
 e agents for further details.\n\n\n*All areas are approximate.
DTEND:20260527T120000
DTSTAMP:20260420T042114Z
DTSTART:20260527T120000
SEQUENCE:0
SUMMARY:Expression Of Interest: 144-150 Hall Street\, Spotswood VIC
UID:CRE-2020774131-EOI
X-ALT-DESC;FMTTYPE=text/html:<!DOCTYPE HTML PUBLIC "-//W3C//DTD HTML 3.2//EN"><html><head><
 title></title></head><body><P DIR=LTR>The Heritage Collection | Final Rem
 aining 806m² <br/> A rare opportunity to secure the last remaining offeri
 ng within Republic Spotswood's Heritage Collection. <br/>  <br/> Expressi
 ons of Interest close Wednesday 27 May at 12:00pm <br/>  <br/> Originally
  constructed in 1911 as the Bickford\, Smith & Co building\, designed by 
 Gibbs\, Finlay\, Morsby and Coates\, the asset holds recognised historic 
 significance within the City of Hobsons Bay. <br/>  <br/> The broader Rep
 ublic precinct has been thoughtfully reimagined\, bringing a considered a
 rchitectural approach that balances heritage character with modern functi
 onality. <br/>  <br/> Released initially via a VIP private release\, two 
 spaces have already been secured\, reflecting strong early demand. <br/> 
  <br/> Sold | C1 Warehouse: 339m² <br/> Sold | C2 Heritage Warehouse: 245
 m² <br/>  <br/> One remains. <br/>  <br/> This final 806m² offering is th
 e only remaining opportunity within the Heritage Collection\, combining s
 cale\, character and flexibility within one of the inner west's most tigh
 tly held precincts. <br/>  <br/> Ground Floor: 601m² <br/> Mezzanine: 205
 m² <br/> Total Building Area: 806m²* <br/>  <br/> A volume play rarely se
 en in heritage conversions. Open span\, high ceilings\, timber trusses an
 d original brickwork create a space that can be shaped around your busine
 ss\, not the other way around. <br/>  <br/> Why This Works: <br/>  <br/> 
  Final remaining opportunity within the Heritage Collection <br/>  One of
  one asset with genuine scale and presence <br/>  Original brickwork\, ti
 mber trusses and high ceilings <br/>  Three phase power and modern servic
 es <br/>  Flexible configuration for office\, showroom or warehouse use <
 br/>  Positioned within a curated mixed-use precinct <br/>  Walking dista
 nce to Spotswood Station and surrounding amenity <br/>  Strong connectivi
 ty to Melbourne CBD and major arterials <br/>  <br/> Spotswood continues 
 to evolve as one of Melbourne's most tightly held inner-west locations\, 
 attracting occupiers seeking connectivity\, amenity and long-term positio
 ning. <br/>  <br/> A blank canvas with the scale\, character and flexibil
 ity to create something that truly stands apart. <br/>  <br/> Information
  Memorandum and Contract of Sale available on request. <br/> Contact the 
 exclusive agents for further details. <br/>  <br/>  <br/> *All areas are 
 approximate.</P></body></html>
END:VEVENT
END:VCALENDAR
