BEGIN:VCALENDAR
PRODID:-//commercialrealestate.com.au//NONSGML ical.net 4.0//EN
VERSION:2.0
BEGIN:VEVENT
DESCRIPTION:Rare Opportunity in a Prime Industrial Location\nA blank canva
 s awaits\, offering a rare chance to secure a substantial 1212m2 industri
 al landholding in one of Sunshine North's most tightly held estates.\n\nO
 nly moments from the Western Ring Road\, the site provides strong connect
 ivity to Melbourne's broader arterial network and will suit owner-occupie
 rs seeking additional storage or buyers looking to develop and unlock the
  site's future potential.\n\nWith industrial land becoming increasingly d
 ifficult to secure in this location\, this is a strategic opportunity wit
 h genuine flexibility in one of the west's most established industrial po
 ckets.\n\n Zoned Industrial 3 \n Flat\, level block\n Serviced industrial
  landholding with development potential\n Existing planning approval and 
 endorsed plans in place\, with plans available upon request\n Tightly hel
 d Sunshine North industrial location\n Moments to the Western Ring Road\n
  Suited to owner-occupiers and developers\n\nThe location is proven. The 
 opportunity is rare. The next move is yours.\n\nFor Sale via Expressions 
 of Interest closing Monday 18 May at 12:00pm\n\n* all quoted areas are ap
 proximate.
DTEND:20260518T120000
DTSTAMP:20260419T181726Z
DTSTART:20260518T120000
SEQUENCE:0
SUMMARY:Expression Of Interest: 52 Auburn Avenue\, Sunshine North VIC
UID:CRE-2020773732-EOI
X-ALT-DESC;FMTTYPE=text/html:<!DOCTYPE HTML PUBLIC "-//W3C//DTD HTML 3.2//EN"><html><head><
 title></title></head><body><P DIR=LTR>Rare Opportunity in a Prime Industr
 ial Location <br/> A blank canvas awaits\, offering a rare chance to secu
 re a substantial 1212m2 industrial landholding in one of Sunshine North's
  most tightly held estates. <br/>  <br/> Only moments from the Western Ri
 ng Road\, the site provides strong connectivity to Melbourne's broader ar
 terial network and will suit owner-occupiers seeking additional storage o
 r buyers looking to develop and unlock the site's future potential. <br/>
   <br/> With industrial land becoming increasingly difficult to secure in
  this location\, this is a strategic opportunity with genuine flexibility
  in one of the west's most established industrial pockets. <br/>  <br/>  
 Zoned Industrial 3  <br/>  Flat\, level block <br/>  Serviced industrial 
 landholding with development potential <br/>  Existing planning approval 
 and endorsed plans in place\, with plans available upon request <br/>  Ti
 ghtly held Sunshine North industrial location <br/>  Moments to the Weste
 rn Ring Road <br/>  Suited to owner-occupiers and developers <br/>  <br/>
  The location is proven. The opportunity is rare. The next move is yours.
  <br/>  <br/> For Sale via Expressions of Interest closing Monday 18 May 
 at 12:00pm <br/>  <br/> * all quoted areas are approximate.</P></body></h
 tml>
END:VEVENT
END:VCALENDAR
