BEGIN:VCALENDAR
PRODID:-//commercialrealestate.com.au//NONSGML ical.net 4.0//EN
VERSION:2.0
BEGIN:VEVENT
DESCRIPTION:Fully leased freehold Kew medical & residential investment wit
 h surplus rear land\nCBRE Melbourne are pleased to present For Sale an at
 tractive entry level freehold medical & residential investment located at
  1343 Burke Road\, Kew.\n\nThis high-quality freehold shop and dwelling i
 nvestment can be summarised by the following key points:\n\n+ An attracti
 ve entry level 2-level freehold investment is fully leased to OneHealth O
 steopathy on the ground floor as well as full separate rear lane entrance
  to upstairs whole floor residential apartment\n\n+ Underpinned by 4+4 ye
 ar net lease to OneHealth Osteopathy (Exp May-29) with 4% fixed annual in
 creases and opportunity for rental uplift\n\n+ Benefitting from full sepa
 rate first floor residential apartment accessed via full rear ROW with 12
  month tenancy allowing for continued investment or future owner occupati
 on with car parking supporting 3 vehicles\n\n+ Located on a sizeable 222 
 square metre* Commercial 1 Zoned landholding with rear ROW access with fu
 ture redevelopment or extension opportunities (STCA)\n\n+ A rare opportun
 ity to secure a fully leased medical and residential freehold investment 
 at this price point with strong underlying land value\n\n1343 Burke Road\
 , Kew is offered For Sale via Public on-site Auction Thursday 28th May 20
 26 at 12:30pm (AEST)\n\nTo obtain more information or arrange an inspecti
 on\, please contact the exclusive selling agents below:\n\nJing Jun (JJ) 
 Heng  ()\n+61 411 059 116 ()\njj.heng@cbre.com ()\njheng1206 ()\n\nAlex B
 rierley\n+61 447 974 447\nalex.brierley@cbre.com.au\n\nNathan Mufale\n+61
  421 224 354\nnathan.mufale@cbre.com.au\n\n*Denotes Approx.
DTEND:20260528T133000
DTSTAMP:20260424T120344Z
DTSTART:20260528T123000
LOCATION:1343 Burke Road\, Kew VIC
SEQUENCE:0
SUMMARY:Auction: 1343 Burke Road\, Kew VIC
UID:CRE-2020789134-Auction
X-ALT-DESC;FMTTYPE=text/html:<!DOCTYPE HTML PUBLIC "-//W3C//DTD HTML 3.2//EN"><html><head><
 title></title></head><body><P DIR=LTR>Fully leased freehold Kew medical &
  residential investment with surplus rear land <br/> CBRE Melbourne are p
 leased to present For Sale an attractive entry level freehold medical & r
 esidential investment located at 1343 Burke Road\, Kew. <br/>  <br/> This
  high-quality freehold shop and dwelling investment can be summarised by 
 the following key points: <br/>  <br/> + An attractive entry level 2-leve
 l freehold investment is fully leased to OneHealth Osteopathy on the grou
 nd floor as well as full separate rear lane entrance to upstairs whole fl
 oor residential apartment <br/>  <br/> + Underpinned by 4+4 year net leas
 e to OneHealth Osteopathy (Exp May-29) with 4% fixed annual increases and
  opportunity for rental uplift <br/>  <br/> + Benefitting from full separ
 ate first floor residential apartment accessed via full rear ROW with 12 
 month tenancy allowing for continued investment or future owner occupatio
 n with car parking supporting 3 vehicles <br/>  <br/> + Located on a size
 able 222 square metre* Commercial 1 Zoned landholding with rear ROW acces
 s with future redevelopment or extension opportunities (STCA) <br/>  <br/
 > + A rare opportunity to secure a fully leased medical and residential f
 reehold investment at this price point with strong underlying land value 
 <br/>  <br/> 1343 Burke Road\, Kew is offered For Sale via Public on-site
  Auction Thursday 28th May 2026 at 12:30pm (AEST) <br/>  <br/> To obtain 
 more information or arrange an inspection\, please contact the exclusive 
 selling agents below: <br/>  <br/> Jing Jun (JJ) Heng  () <br/> +61 411 0
 59 116 () <br/> jj.heng@cbre.com () <br/> jheng1206 () <br/>  <br/> Alex 
 Brierley <br/> +61 447 974 447 <br/> alex.brierley@cbre.com.au <br/>  <br
 /> Nathan Mufale <br/> +61 421 224 354 <br/> nathan.mufale@cbre.com.au <b
 r/>  <br/> *Denotes Approx.</P></body></html>
END:VEVENT
END:VCALENDAR
